BEGIN:VCALENDAR
VERSION:2.0
PRODID:-//Laurel Ridge Community College - ECPv6.10.1.1//NONSGML v1.0//EN
CALSCALE:GREGORIAN
METHOD:PUBLISH
X-ORIGINAL-URL:https://laurelridge.edu
X-WR-CALDESC:Events for Laurel Ridge Community College
REFRESH-INTERVAL;VALUE=DURATION:PT1H
X-Robots-Tag:noindex
X-PUBLISHED-TTL:PT1H
BEGIN:VTIMEZONE
TZID:America/New_York
BEGIN:DAYLIGHT
TZOFFSETFROM:-0500
TZOFFSETTO:-0400
TZNAME:EDT
DTSTART:20250309T070000
END:DAYLIGHT
BEGIN:STANDARD
TZOFFSETFROM:-0400
TZOFFSETTO:-0500
TZNAME:EST
DTSTART:20251102T060000
END:STANDARD
END:VTIMEZONE
BEGIN:VEVENT
DTSTART;TZID=America/New_York:20250228T073000
DTEND;TZID=America/New_York:20250228T230000
DTSTAMP:20260423T222222
CREATED:20250130T152412Z
LAST-MODIFIED:20250130T152412Z
UID:10007752-1740727800-1740783600@laurelridge.edu
SUMMARY:Trip to Washington\, D.C.
DESCRIPTION:Come join Student Life and the Art Department for a trip to Washington\, D.C.! Plan to see different monuments and museums and enjoy a nice time around the city! MC Meetup: 7:30am and FC Meetup: 8:30am. Only $20 per Student.
URL:https://laurelridge.edu/event/trip-to-washington-d-c/
LOCATION:Washington D.C.\, United States
CATEGORIES:Fauquier Student Events,Middletown Student Events,Student Events
ATTACH;FMTTYPE=image/jpeg:https://laurelridge.edu/wp-content/uploads/2025/01/Daytrip-to-DC.jpg
ORGANIZER;CN="David Belyea":MAILTO:dbelyea@laurelridge.edu
GEO:37.09024;-95.712891
END:VEVENT
END:VCALENDAR