BEGIN:VCALENDAR
VERSION:2.0
PRODID:-//Laurel Ridge Community College - ECPv6.10.1.1//NONSGML v1.0//EN
CALSCALE:GREGORIAN
METHOD:PUBLISH
X-WR-CALNAME:Laurel Ridge Community College
X-ORIGINAL-URL:https://laurelridge.edu
X-WR-CALDESC:Events for Laurel Ridge Community College
REFRESH-INTERVAL;VALUE=DURATION:PT1H
X-Robots-Tag:noindex
X-PUBLISHED-TTL:PT1H
BEGIN:VTIMEZONE
TZID:America/New_York
BEGIN:DAYLIGHT
TZOFFSETFROM:-0500
TZOFFSETTO:-0400
TZNAME:EDT
DTSTART:20250309T070000
END:DAYLIGHT
BEGIN:STANDARD
TZOFFSETFROM:-0400
TZOFFSETTO:-0500
TZNAME:EST
DTSTART:20251102T060000
END:STANDARD
END:VTIMEZONE
BEGIN:VEVENT
DTSTART;TZID=America/New_York:20250908T113000
DTEND;TZID=America/New_York:20250908T130000
DTSTAMP:20260424T060054
CREATED:20250807T114122Z
LAST-MODIFIED:20250820T164924Z
UID:10008757-1757331000-1757336400@laurelridge.edu
SUMMARY:Middletown Fall Picnic
DESCRIPTION:Join Student Life and Laurel Ridge Admin Faculty as we start off another AWESOME year with a FUN Party! Come out the SUB on Monday\, September 8th\, 2025\, from 11:30am-1pm for Fun and Food! Laurel Cafe will be providing All Students & Faculty/Staff some delicious food and tasty treats! We will also be having lawn games and inflatable axe throwing set up! Listen to some music and complete our Middletown-themed Word Search and our Laurel Ridge Community College-themed Crossword! Finish them both and return to Student Life for the Chance to Win Pawsome Stuff! We hope to see you there! For questions\, please email engage@laurelridge.edu!
URL:https://laurelridge.edu/event/middletown-fall-picnic/
LOCATION:Middletown Campus: SUB Lounge and Patio\, United States
CATEGORIES:Community Events,Middletown Student Events,Student Events
ATTACH;FMTTYPE=image/jpeg:https://laurelridge.edu/wp-content/uploads/2025/08/Picnic-at-the-SUB-Fall-Picnic-2025.jpg
ORGANIZER;CN="Chris Lambert":MAILTO:clambert@laurelridge.edu
END:VEVENT
BEGIN:VEVENT
DTSTART;TZID=America/New_York:20250423T113000
DTEND;TZID=America/New_York:20250423T130000
DTSTAMP:20260424T060054
CREATED:20250306T190224Z
LAST-MODIFIED:20250306T190224Z
UID:10007990-1745407800-1745413200@laurelridge.edu
SUMMARY:Spring Picnic
DESCRIPTION:***Attention Students and Employees*** Come out and enjoy a nice catered event filled with many fun and amazing activities! All campuses will have buffet style food and an a Create Your Own Memory Page! At Middletown and Fauquier\, there will be a Distracted Driving Simulator and Caricature Artists to create zany pictures! At Luray-Page County Center\, there will be DIY Air Plant Kits! On top of all that\, participate in our People of the Picnic Scavenger Hunt for a chance to win a $50 Gift Card!
URL:https://laurelridge.edu/event/spring-picnic/2025-04-23/
LOCATION:Middletown Campus: SUB Lounge and Patio\, United States
CATEGORIES:Employee Events,Fauquier Student Events,Luray Student Events,Middletown Student Events,Student Events
ATTACH;FMTTYPE=image/jpeg:https://laurelridge.edu/wp-content/uploads/2025/03/25-LAUREL-RIDGE-026-Spring-Picnic-Flyer-scaled.jpg
ORGANIZER;CN="David Belyea":MAILTO:dbelyea@laurelridge.edu
END:VEVENT
END:VCALENDAR