BEGIN:VCALENDAR
VERSION:2.0
PRODID:-//Laurel Ridge Community College - ECPv6.10.1.1//NONSGML v1.0//EN
CALSCALE:GREGORIAN
METHOD:PUBLISH
X-WR-CALNAME:Laurel Ridge Community College
X-ORIGINAL-URL:https://laurelridge.edu
X-WR-CALDESC:Events for Laurel Ridge Community College
REFRESH-INTERVAL;VALUE=DURATION:PT1H
X-Robots-Tag:noindex
X-PUBLISHED-TTL:PT1H
BEGIN:VTIMEZONE
TZID:America/New_York
BEGIN:DAYLIGHT
TZOFFSETFROM:-0500
TZOFFSETTO:-0400
TZNAME:EDT
DTSTART:20250309T070000
END:DAYLIGHT
BEGIN:STANDARD
TZOFFSETFROM:-0400
TZOFFSETTO:-0500
TZNAME:EST
DTSTART:20251102T060000
END:STANDARD
END:VTIMEZONE
BEGIN:VEVENT
DTSTART;TZID=America/New_York:20250318T150000
DTEND;TZID=America/New_York:20250318T170000
DTSTAMP:20260420T112245
CREATED:20250123T212135Z
LAST-MODIFIED:20250123T212135Z
UID:10007750-1742310000-1742317200@laurelridge.edu
SUMMARY:Smash Bros Tournament
DESCRIPTION:Are you a fan of Super Smash Bros? Are you up for a friendly tournament? Battle other students in LEO’s Esports Arena as your favorite Smash character. Choose from a variety of characters from beloved franchises like The Legend of Zelda\, Super Mario\, Metroid\, Fire Emblem\, Pokémon\, and so much more! Prizes and Glory await the victor! Join us at 3:15pm to compete and watch.
URL:https://laurelridge.edu/event/smash-bros-tournament/2025-03-18/
LOCATION:Middletown Campus: Lions Den Esports Arena\, VA\, United States
CATEGORIES:Middletown Student Events,Student Events
ORGANIZER;CN="David Belyea":MAILTO:dbelyea@laurelridge.edu
END:VEVENT
END:VCALENDAR