BEGIN:VCALENDAR
VERSION:2.0
PRODID:-//Laurel Ridge Community College - ECPv6.10.1.1//NONSGML v1.0//EN
CALSCALE:GREGORIAN
METHOD:PUBLISH
X-ORIGINAL-URL:https://laurelridge.edu
X-WR-CALDESC:Events for Laurel Ridge Community College
REFRESH-INTERVAL;VALUE=DURATION:PT1H
X-Robots-Tag:noindex
X-PUBLISHED-TTL:PT1H
BEGIN:VTIMEZONE
TZID:America/New_York
BEGIN:DAYLIGHT
TZOFFSETFROM:-0500
TZOFFSETTO:-0400
TZNAME:EDT
DTSTART:20260308T070000
END:DAYLIGHT
BEGIN:STANDARD
TZOFFSETFROM:-0400
TZOFFSETTO:-0500
TZNAME:EST
DTSTART:20261101T060000
END:STANDARD
END:VTIMEZONE
BEGIN:VEVENT
DTSTART;TZID=America/New_York:20260428T110000
DTEND;TZID=America/New_York:20260428T120000
DTSTAMP:20260424T194533
CREATED:20260317T185853Z
LAST-MODIFIED:20260317T185853Z
UID:10014306-1777374000-1777377600@laurelridge.edu
SUMMARY:Lola The Mini Horse - Therapy Horse (StressLESS Weeks!)
DESCRIPTION:Say Hello to Lola as she roams the Wolk and Hazel Halls on 4/28 from 11am-12pm. (Date and Time may change!)
URL:https://laurelridge.edu/event/lola-the-mini-horse-therapy-horse-stressless-weeks/
LOCATION:Fauquier Campus: Wolk & Hazel Halls\, VA\, United States
CATEGORIES:Employee Events,Fauquier Student Events,Student Events
ORGANIZER;CN="David Belyea":MAILTO:dbelyea@laurelridge.edu
END:VEVENT
END:VCALENDAR