BEGIN:VCALENDAR
VERSION:2.0
PRODID:-//Laurel Ridge Community College - ECPv6.10.1.1//NONSGML v1.0//EN
CALSCALE:GREGORIAN
METHOD:PUBLISH
X-WR-CALNAME:Laurel Ridge Community College
X-ORIGINAL-URL:https://laurelridge.edu
X-WR-CALDESC:Events for Laurel Ridge Community College
REFRESH-INTERVAL;VALUE=DURATION:PT1H
X-Robots-Tag:noindex
X-PUBLISHED-TTL:PT1H
BEGIN:VTIMEZONE
TZID:America/New_York
BEGIN:DAYLIGHT
TZOFFSETFROM:-0500
TZOFFSETTO:-0400
TZNAME:EDT
DTSTART:20260308T070000
END:DAYLIGHT
BEGIN:STANDARD
TZOFFSETFROM:-0400
TZOFFSETTO:-0500
TZNAME:EST
DTSTART:20261101T060000
END:STANDARD
END:VTIMEZONE
BEGIN:VEVENT
DTSTART;TZID=America/New_York:20260421T160000
DTEND;TZID=America/New_York:20260421T163000
DTSTAMP:20260422T025114
CREATED:20260108T232933Z
LAST-MODIFIED:20260108T232933Z
UID:10010739-1776787200-1776789000@laurelridge.edu
SUMMARY:Epsilon Pi Tau (EPT) Delta Phi Meeting
DESCRIPTION:Our Delta Phi chapter meets monthly from 4-4:30 PM (for members only). Access to the location and Zoom link for each meeting can be found via GreekTrack.
URL:https://laurelridge.edu/event/epsilon-pi-tau-ept-delta-phi-meeting/2026-04-21/
LOCATION:Middletown Campus & Virtually
CATEGORIES:Club Event,Student Events
ORGANIZER;CN="Chris Lambert":MAILTO:clambert@laurelridge.edu
END:VEVENT
BEGIN:VEVENT
DTSTART;TZID=America/New_York:20260421T153000
DTEND;TZID=America/New_York:20260421T163000
DTSTAMP:20260422T025114
CREATED:20260123T155925Z
LAST-MODIFIED:20260123T155925Z
UID:10012419-1776785400-1776789000@laurelridge.edu
SUMMARY:Drama Club Meeting
DESCRIPTION:Let’s get dramatic – every week on Tuesdays from 3:30-4:30 p.m. in Cornerstone 406!
URL:https://laurelridge.edu/event/drama-club-meeting-2/2026-04-21/
LOCATION:Middletown Campus: Cornerstone Hall\, Room 406
CATEGORIES:Club Event,Student Events
ORGANIZER;CN="Chris Lambert":MAILTO:clambert@laurelridge.edu
END:VEVENT
BEGIN:VEVENT
DTSTART;TZID=America/New_York:20260421T153000
DTEND;TZID=America/New_York:20260421T163000
DTSTAMP:20260422T025114
CREATED:20260108T232935Z
LAST-MODIFIED:20260108T232935Z
UID:10012432-1776785400-1776789000@laurelridge.edu
SUMMARY:Dance Club Meeting
DESCRIPTION:The Laurel Ridge Dance Club meets weekly for dance practice and fellowship. Special or make-up sessions may be held on Thursdays as needed – members will be informed.
URL:https://laurelridge.edu/event/dance-club-meeting/2026-04-21/
CATEGORIES:Club Event,Student Events
ORGANIZER;CN="Chris Lambert":MAILTO:clambert@laurelridge.edu
END:VEVENT
BEGIN:VEVENT
DTSTART;TZID=America/New_York:20260421T150000
DTEND;TZID=America/New_York:20260421T190000
DTSTAMP:20260422T025114
CREATED:20260210T154334Z
LAST-MODIFIED:20260210T154334Z
UID:10014044-1776783600-1776798000@laurelridge.edu
SUMMARY:D&D (Dungeons & Dragons) Club Meeting - Tuesday Group
DESCRIPTION:The D&D Club meets weekly. The Tuesday group meets on Tuesdays from 3-7 p.m. in Cornerstone Hall\, Room 213.
URL:https://laurelridge.edu/event/dd-dungeons-dragons-club-meeting-tuesday-group/2026-04-21/
LOCATION:Middletown Campus: Cornerstone Hall\, Room 213
CATEGORIES:Club Event,Student Events
ORGANIZER;CN="Chris Lambert":MAILTO:clambert@laurelridge.edu
END:VEVENT
BEGIN:VEVENT
DTSTART;TZID=America/New_York:20260421T140000
DTEND;TZID=America/New_York:20260421T150000
DTSTAMP:20260422T025114
CREATED:20260112T201857Z
LAST-MODIFIED:20260112T201857Z
UID:10010824-1776780000-1776783600@laurelridge.edu
SUMMARY:Spanish Club Meeting
DESCRIPTION:The Spanish Club meets weekly\, alternating between the Middletown and Fauquier Campuses: \n\n\n\n\nMiddletown Campus meetings: Tuesdays from 12-12:40 PM – 2/3\, 2/17\,  3/3\, 3/17\, 3/31\, 4/14\, and 4/28 in Cornerstone 213\n\n\n\nFauquier Campus meetings: Tuesdays from 2-3 PM – 2/10\,  2/24\, 3/24\, 4/7\, and 4/21 in Wolk 210\n\n\n\n\nAll meetings are also held virtually using Google Meet for each meeting.
URL:https://laurelridge.edu/event/spanish-club-meeting-4/2026-04-21/
LOCATION:Fauquier Campus: Wolk Hall\, Room 210 & Virtually
CATEGORIES:Club Event,Student Events
ORGANIZER;CN="Chris Lambert":MAILTO:clambert@laurelridge.edu
END:VEVENT
BEGIN:VEVENT
DTSTART;TZID=America/New_York:20260421T123000
DTEND;TZID=America/New_York:20260421T133000
DTSTAMP:20260422T025114
CREATED:20260116T191809Z
LAST-MODIFIED:20260116T191809Z
UID:10010887-1776774600-1776778200@laurelridge.edu
SUMMARY:S.T.E.M. Club (Fauquier) Meeting
DESCRIPTION:The Fauquier S.T.E.M. Club meets weekly on Wednesday from 12:30-1:30 p.m. in Hazel Hall\, outside Room 121 (Dr. Wilcox’s office).
URL:https://laurelridge.edu/event/s-t-e-m-club-fauquier-meeting/2026-04-21/
LOCATION:Fauquier Campus: Hazel Hall\, outside Room 121
CATEGORIES:Club Event,Student Events
ORGANIZER;CN="Chris Lambert":MAILTO:clambert@laurelridge.edu
END:VEVENT
BEGIN:VEVENT
DTSTART;TZID=America/New_York:20260420T150000
DTEND;TZID=America/New_York:20260420T190000
DTSTAMP:20260422T025114
CREATED:20260210T154331Z
LAST-MODIFIED:20260210T154331Z
UID:10014033-1776697200-1776711600@laurelridge.edu
SUMMARY:D&D (Dungeons & Dragons) Club Meeting - Monday Group
DESCRIPTION:The D&D Club meets weekly. The Monday group meets on Mondays from 3-7 p.m. in Cornerstone Hall\, Room 304.
URL:https://laurelridge.edu/event/dd-dungeons-dragons-club-meeting-monday-group/2026-04-20/
LOCATION:Middletown Campus: Cornerstone Hall\, Room 304
CATEGORIES:Club Event,Student Events
ORGANIZER;CN="Chris Lambert":MAILTO:clambert@laurelridge.edu
END:VEVENT
BEGIN:VEVENT
DTSTART;TZID=America/New_York:20260420T140000
DTEND;TZID=America/New_York:20260420T153000
DTSTAMP:20260422T025114
CREATED:20260129T224821Z
LAST-MODIFIED:20260129T224821Z
UID:10013583-1776693600-1776699000@laurelridge.edu
SUMMARY:PTK (Alpha Beta Omega Chapter) Meeting
DESCRIPTION:The Middletown Chapter of Phi Theta Kappa (Alpha Beta Omega) meets weekly alternating between officer only and open membership meetings every Monday at 2 p.m.
URL:https://laurelridge.edu/event/ptk-alpha-beta-omega-chapter-meeting/2026-04-20/
LOCATION:Middletown Campus: Cornerstone Hall\, Room 216
CATEGORIES:Club Event,Student Events
ORGANIZER;CN="Chris Lambert":MAILTO:clambert@laurelridge.edu
END:VEVENT
BEGIN:VEVENT
DTSTART;TZID=America/New_York:20260420T130000
DTEND;TZID=America/New_York:20260420T140000
DTSTAMP:20260422T025115
CREATED:20260311T221323Z
LAST-MODIFIED:20260311T221323Z
UID:10014256-1776690000-1776693600@laurelridge.edu
SUMMARY:Fauquier Student Writers Club Meeting
DESCRIPTION:Creative writers welcome! The club meets weekly on Mondays from 1-2 p.m. in Wolk Hall\, Room 201.
URL:https://laurelridge.edu/event/fauquier-student-writers-club-meeting/2026-04-20/
CATEGORIES:Club Event,Student Events
ORGANIZER;CN="Chris Lambert":MAILTO:clambert@laurelridge.edu
END:VEVENT
BEGIN:VEVENT
DTSTART;TZID=America/New_York:20260417T120000
DTEND;TZID=America/New_York:20260417T200000
DTSTAMP:20260422T025115
CREATED:20260402T191029Z
LAST-MODIFIED:20260402T191029Z
UID:10014991-1776427200-1776456000@laurelridge.edu
SUMMARY:Game Jam
DESCRIPTION:Design your own game over a three-day spring competition! Baked goods sold to support the Game Design Club. 1st place – $50 Visa Gift Card\, 2nd place – $25 Visa Gift Card. Rules and regulations will be posted on the days of the event.
URL:https://laurelridge.edu/event/game-jam/2026-04-17/
CATEGORIES:Club Event,Middletown Student Events,Student Events
ORGANIZER;CN="Chris Lambert":MAILTO:clambert@laurelridge.edu
END:VEVENT
BEGIN:VEVENT
DTSTART;TZID=America/New_York:20260417T090000
DTEND;TZID=America/New_York:20260417T100000
DTSTAMP:20260422T025115
CREATED:20260202T225921Z
LAST-MODIFIED:20260202T225921Z
UID:10013720-1776416400-1776420000@laurelridge.edu
SUMMARY:VIBE Council Meeting
DESCRIPTION:The VIBE Council (Valuing\, Inclusion\, Belonging\, and Equality/Empathy)\, formerly the DEI Council\, will meet once a month on the 3rd Friday of each month via Zoom. The Zoom link is shared with all students and employees via Leo’s Weekly Update the week of the meeting.
URL:https://laurelridge.edu/event/vibe-council-meeting/2026-04-17/
CATEGORIES:Club Event,Employee Events,Student Events
ORGANIZER;CN="Chris Lambert":MAILTO:clambert@laurelridge.edu
END:VEVENT
BEGIN:VEVENT
DTSTART;TZID=America/New_York:20260416T160000
DTEND;TZID=America/New_York:20260416T170000
DTSTAMP:20260422T025115
CREATED:20260116T191810Z
LAST-MODIFIED:20260116T191810Z
UID:10010899-1776355200-1776358800@laurelridge.edu
SUMMARY:PACE Club Meeting
DESCRIPTION:The PACE Club focuses on Professional Advancement & Career Exploration and will meet weekly at the Middletown Campus in Cornerstone 311.
URL:https://laurelridge.edu/event/pace-club-meeting-2/2026-04-16/
CATEGORIES:Club Event,Student Events
ORGANIZER;CN="Chris Lambert":MAILTO:clambert@laurelridge.edu
END:VEVENT
BEGIN:VEVENT
DTSTART;TZID=America/New_York:20260416T153000
DTEND;TZID=America/New_York:20260416T190000
DTSTAMP:20260422T025115
CREATED:20260210T154338Z
LAST-MODIFIED:20260210T154338Z
UID:10014088-1776353400-1776366000@laurelridge.edu
SUMMARY:D&D (Dungeons & Dragons) Club Meeting - Thursday Group #2
DESCRIPTION:The D&D Club meets weekly; there are two Thursday groups. The second Thursday group meets on Thursdays from 3:30-7 p.m. in Cornerstone Hall\, Room 406.
URL:https://laurelridge.edu/event/dd-dungeons-dragons-club-meeting-thursday-group-2/2026-04-16/
LOCATION:Middletown Campus: Cornerstone Hall\, Room 406
CATEGORIES:Club Event,Student Events
ORGANIZER;CN="Chris Lambert":MAILTO:clambert@laurelridge.edu
END:VEVENT
BEGIN:VEVENT
DTSTART;TZID=America/New_York:20260416T153000
DTEND;TZID=America/New_York:20260416T173000
DTSTAMP:20260422T025115
CREATED:20260202T225920Z
LAST-MODIFIED:20260202T225920Z
UID:10013715-1776353400-1776360600@laurelridge.edu
SUMMARY:Art Club Meeting
DESCRIPTION:The Art Club meets weekly on Thursdays from 3:30-5:30 p.m. in the art studio (Cornerstone 502).
URL:https://laurelridge.edu/event/art-club-meeting-2/2026-04-16/
LOCATION:Middletown Campus: Cornerstone Hall\, Room 502\, VA\, United States
CATEGORIES:Club Event,Student Events
ORGANIZER;CN="Chris Lambert":MAILTO:clambert@laurelridge.edu
END:VEVENT
BEGIN:VEVENT
DTSTART;TZID=America/New_York:20260416T150000
DTEND;TZID=America/New_York:20260416T190000
DTSTAMP:20260422T025115
CREATED:20260210T154337Z
LAST-MODIFIED:20260210T154337Z
UID:10014066-1776351600-1776366000@laurelridge.edu
SUMMARY:D&D (Dungeons & Dragons) Club Meeting - Thursday Group #1
DESCRIPTION:The D&D Club meets weekly; there are two Thursday groups. The first Thursday group meets on Thursdays from 3-7 p.m. in Cornerstone Hall\, Room 212.
URL:https://laurelridge.edu/event/dd-dungeons-dragons-club-meeting-thursday-group-1/2026-04-16/
CATEGORIES:Club Event,Student Events
ORGANIZER;CN="Chris Lambert":MAILTO:clambert@laurelridge.edu
END:VEVENT
BEGIN:VEVENT
DTSTART;TZID=America/New_York:20260416T143000
DTEND;TZID=America/New_York:20260416T160000
DTSTAMP:20260422T025115
CREATED:20260116T191806Z
LAST-MODIFIED:20260116T191806Z
UID:10010862-1776349800-1776355200@laurelridge.edu
SUMMARY:Cyber Club Meeting
DESCRIPTION:The Cyber Club meets every 1st and 3rd Thursday of the month at the Middletown Campus in Room 306 & virtually via Zoom.
URL:https://laurelridge.edu/event/cyber-club-meeting-5/2026-04-16/
CATEGORIES:Club Event,Student Events
ORGANIZER;CN="Chris Lambert":MAILTO:clambert@laurelridge.edu
END:VEVENT
BEGIN:VEVENT
DTSTART;TZID=America/New_York:20260416T143000
DTEND;TZID=America/New_York:20260416T153000
DTSTAMP:20260422T025115
CREATED:20260116T191807Z
LAST-MODIFIED:20260116T191807Z
UID:10010869-1776349800-1776353400@laurelridge.edu
SUMMARY:Investment Club Meeting
DESCRIPTION:The Investment Club meets weekly at the Middletown Campus in Cornerstone 311.
URL:https://laurelridge.edu/event/investment-club-meeting-2/2026-04-16/
CATEGORIES:Club Event,Student Events
ORGANIZER;CN="Chris Lambert":MAILTO:clambert@laurelridge.edu
END:VEVENT
BEGIN:VEVENT
DTSTART;TZID=America/New_York:20260415T170000
DTEND;TZID=America/New_York:20260415T190000
DTSTAMP:20260422T025115
CREATED:20260108T232934Z
LAST-MODIFIED:20260108T232934Z
UID:10010750-1776272400-1776279600@laurelridge.edu
SUMMARY:Valley Youth Club Meeting
DESCRIPTION:The Valley Youth Club (formerly Bible Study Club) meets weekly on Wednesdays for fellowship\, to discuss passages\, and more.
URL:https://laurelridge.edu/event/valley-youth-club-meeting/2026-04-15/
LOCATION:Middletown Campus: Cornerstone Hall\, Room 402
CATEGORIES:Club Event,Student Events
ORGANIZER;CN="Chris Lambert":MAILTO:clambert@laurelridge.edu
END:VEVENT
BEGIN:VEVENT
DTSTART;TZID=America/New_York:20260415T170000
DTEND;TZID=America/New_York:20260415T183000
DTSTAMP:20260422T025115
CREATED:20260311T221337Z
LAST-MODIFIED:20260311T221337Z
UID:10014277-1776272400-1776277800@laurelridge.edu
SUMMARY:Student Leadership Series: Anxiety in the Workplace
DESCRIPTION:(OPEN — ALL STUDENT LEADERS) \n\n\n\nWednesday\, 4/15\, 5-6:30 p.m. *moved from Wednesday\, 4/8 \n\n\n\nMiddletown Campus: Cornerstone Hall\, Room 601 \n\n\n\nZoom \n\n\n\nProfessor Addie Jones leads this session focused on understanding anxiety in the workplace and exploring practical strategies for navigating it. Participants will gain insight into common sources of workplace anxiety and tools to manage stress more effectively. Developed by a Student Ambassadors LIT group.
URL:https://laurelridge.edu/event/student-leadership-series-anxiety-in-the-workplace/
LOCATION:Middletown Campus: Cornerstone Hall\, Room 601 & Virtually: Online via Zoom
CATEGORIES:Club Event,Fauquier Student Events,Luray Student Events,Middletown Student Events,Student Events,Virtual Student Events
ORGANIZER;CN="Chris Lambert":MAILTO:clambert@laurelridge.edu
END:VEVENT
BEGIN:VEVENT
DTSTART;TZID=America/New_York:20260415T153000
DTEND;TZID=America/New_York:20260415T190000
DTSTAMP:20260422T025115
CREATED:20260210T154336Z
LAST-MODIFIED:20260210T154336Z
UID:10014055-1776267000-1776279600@laurelridge.edu
SUMMARY:D&D (Dungeons & Dragons) Club Meeting - Wednesday Group
DESCRIPTION:The D&D Club meets weekly. The Wednesday group meets on Wednesdays from 3:30-7 p.m. in Cornerstone Hall\, Room 213.
URL:https://laurelridge.edu/event/dd-dungeons-dragons-club-meeting-wednesday-group/2026-04-15/
CATEGORIES:Club Event,Student Events
ORGANIZER;CN="Chris Lambert":MAILTO:clambert@laurelridge.edu
END:VEVENT
BEGIN:VEVENT
DTSTART;TZID=America/New_York:20260415T110000
DTEND;TZID=America/New_York:20260415T133000
DTSTAMP:20260422T025115
CREATED:20260402T191028Z
LAST-MODIFIED:20260402T191028Z
UID:10014988-1776250800-1776259800@laurelridge.edu
SUMMARY:Roots and Recipes!
DESCRIPTION:Stop by for a taste of culture around the world! If you’d like to setup a table and cook something\, you can sign up now!
URL:https://laurelridge.edu/event/roots-and-recipes/
LOCATION:Middletown Campus: Cornerstone Hall\, Lobby & Lounge\, VA\, United States
CATEGORIES:Employee Events,Middletown Student Events,Student Events
ORGANIZER;CN="Chris Lambert":MAILTO:clambert@laurelridge.edu
END:VEVENT
BEGIN:VEVENT
DTSTART;TZID=America/New_York:20260415T103000
DTEND;TZID=America/New_York:20260415T123000
DTSTAMP:20260422T025115
CREATED:20260108T232930Z
LAST-MODIFIED:20260108T232930Z
UID:10010727-1776249000-1776256200@laurelridge.edu
SUMMARY:Game Design Club Meeting
DESCRIPTION:The Game Design club meets weekly in the Student Union Building\, LEO’s Esports Arena.
URL:https://laurelridge.edu/event/game-design-club-meeting-2/2026-04-15/
CATEGORIES:Club Event,Student Events
ORGANIZER;CN="Chris Lambert":MAILTO:clambert@laurelridge.edu
END:VEVENT
BEGIN:VEVENT
DTSTART;TZID=America/New_York:20260414T170000
DTEND;TZID=America/New_York:20260414T180000
DTSTAMP:20260422T025115
CREATED:20260129T224823Z
LAST-MODIFIED:20260129T224823Z
UID:10013587-1776186000-1776189600@laurelridge.edu
SUMMARY:SNA (MC) Meeting
DESCRIPTION:The Middletown chapter of the Student Nurses Association (SNA) will meet once monthly on 2/10\, 3/3\, and 4/14 via Zoom.
URL:https://laurelridge.edu/event/sna-mc-meeting/2026-04-14/
CATEGORIES:Club Event,Student Events
ORGANIZER;CN="Chris Lambert":MAILTO:clambert@laurelridge.edu
END:VEVENT
BEGIN:VEVENT
DTSTART;TZID=America/New_York:20260414T120000
DTEND;TZID=America/New_York:20260414T124000
DTSTAMP:20260422T025115
CREATED:20260112T201856Z
LAST-MODIFIED:20260112T201856Z
UID:10010818-1776168000-1776170400@laurelridge.edu
SUMMARY:Spanish Club Meeting
DESCRIPTION:The Spanish Club meets weekly\, alternating between the Middletown and Fauquier Campuses: \n\n\n\n\nMiddletown Campus meetings: Tuesdays from 12-12:40 PM – 2/3\, 2/17\,  3/3\, 3/17\, 3/31\, 4/14\, and 4/28 in Cornerstone 213\n\n\n\nFauquier Campus meetings: Tuesdays from 2-3 PM – 2/10\,  2/24\, 3/24\, 4/7\, and 4/21 in Wolk 210\n\n\n\n\nAll meetings are also held virtually using Google Meet for each meeting.
URL:https://laurelridge.edu/event/spanish-club-meeting-3/2026-04-14/
LOCATION:Middletown Campus: Cornerstone Hall\, Room 213 & Virtually
CATEGORIES:Club Event,Student Events
ORGANIZER;CN="Chris Lambert":MAILTO:clambert@laurelridge.edu
END:VEVENT
BEGIN:VEVENT
DTSTART;TZID=America/New_York:20260414T093000
DTEND;TZID=America/New_York:20260414T103000
DTSTAMP:20260422T025115
CREATED:20260402T183129Z
LAST-MODIFIED:20260402T183129Z
UID:10014986-1776159000-1776162600@laurelridge.edu
SUMMARY:Coffee & Donuts w/ a Cop
DESCRIPTION:Enjoy some Hot Coffee and Tasty Donuts w/ The Campus PD! Stop by the Wolk Lobby from 9:30-10:30 a.m.
URL:https://laurelridge.edu/event/coffee-donuts-w-a-cop-5/
LOCATION:Fauquier Campus: Wolk Hall\, Lobby\, VA\, United States
CATEGORIES:Fauquier Student Events,Student Events
ORGANIZER;CN="Chris Lambert":MAILTO:clambert@laurelridge.edu
END:VEVENT
BEGIN:VEVENT
DTSTART;TZID=America/New_York:20260413T170000
DTEND;TZID=America/New_York:20260413T180000
DTSTAMP:20260422T025115
CREATED:20260122T191531Z
LAST-MODIFIED:20260122T191531Z
UID:10013842-1776099600-1776103200@laurelridge.edu
SUMMARY:Creative Writing Club Meeting
DESCRIPTION:The Creative Writing Club meets every other Monday from 5-6 p.m. in Cornerstone\, Room 213.
URL:https://laurelridge.edu/event/creative-writing-club-meeting-3/2026-04-13/
LOCATION:Middletown Campus: Cornerstone Hall\, Room 213
CATEGORIES:Club Event,Student Events
ORGANIZER;CN="Chris Lambert":MAILTO:clambert@laurelridge.edu
END:VEVENT
BEGIN:VEVENT
DTSTART;TZID=America/New_York:20260413T153000
DTEND;TZID=America/New_York:20260413T173000
DTSTAMP:20260422T025115
CREATED:20260402T191026Z
LAST-MODIFIED:20260402T191026Z
UID:10014987-1776094200-1776101400@laurelridge.edu
SUMMARY:Fortnite Tournament
DESCRIPTION:Play for a chance to win a $100 Visa Gift Card. Sign up to play!
URL:https://laurelridge.edu/event/fortnite-tournament/
CATEGORIES:Middletown Student Events,Student Events
ORGANIZER;CN="Chris Lambert":MAILTO:clambert@laurelridge.edu
END:VEVENT
BEGIN:VEVENT
DTSTART;TZID=America/New_York:20260413T140000
DTEND;TZID=America/New_York:20260413T150000
DTSTAMP:20260422T025115
CREATED:20260311T221339Z
LAST-MODIFIED:20260311T221339Z
UID:10014279-1776088800-1776092400@laurelridge.edu
SUMMARY:Student Leadership Series: The Importance of Time Management
DESCRIPTION:(OPEN — ALL STUDENT LEADERS) \n\n\n\nMonday\, 4/13\, 2-3 p.m. \n\n\n\nMiddletown Campus: Cornerstone Hall\, Room 602 \n\n\n\nZoom \n\n\n\nLearn effective strategies for managing your time and responsibilities\, supported by real‑world examples from a faculty guest speaker. A hands‑on group challenge will reinforce key skills by encouraging teams to prioritize tasks and reflect on their approach. Developed by a Student Ambassadors LIT group.
URL:https://laurelridge.edu/event/student-leadership-series-the-importance-of-time-management/
CATEGORIES:Club Event,Fauquier Student Events,Luray Student Events,Middletown Student Events,Student Events,Virtual Student Events
ORGANIZER;CN="Chris Lambert":MAILTO:clambert@laurelridge.edu
END:VEVENT
BEGIN:VEVENT
DTSTART;TZID=America/New_York:20260413T093000
DTEND;TZID=America/New_York:20260413T103000
DTSTAMP:20260422T025115
CREATED:20260402T183127Z
LAST-MODIFIED:20260402T183127Z
UID:10014985-1776072600-1776076200@laurelridge.edu
SUMMARY:Coffee & Donuts w/ a Cop
DESCRIPTION:Enjoy some Hot Coffee and Tasty Donuts w/ The Campus PD! Stop by the Cornerstone Lobby from 9:30-10:30 a.m.
URL:https://laurelridge.edu/event/coffee-donuts-w-a-cop-4/
LOCATION:Middletown Campus: Cornerstone Hall\, Lobby\, VA\, United States
CATEGORIES:Middletown Student Events,Student Events
ORGANIZER;CN="Chris Lambert":MAILTO:clambert@laurelridge.edu
END:VEVENT
BEGIN:VEVENT
DTSTART;TZID=America/New_York:20260409T160000
DTEND;TZID=America/New_York:20260409T170000
DTSTAMP:20260422T025115
CREATED:20260311T221338Z
LAST-MODIFIED:20260311T221338Z
UID:10014278-1775750400-1775754000@laurelridge.edu
SUMMARY:Student Leadership Series: Confident\, Curious\, and Coachable--Leading Yourself into the Professional World
DESCRIPTION:(OPEN — ALL STUDENT LEADERS) \n\n\n\nThursday\, 4/9\, 4-5 p.m. \n\n\n\nMiddletown Campus: Cornerstone Hall\, Room 601 \n\n\n\nZoom \n\n\n\nEntering the professional world requires more than technical skills—it requires self- awareness\, adaptability\, and strong communication. This session focuses on how student leaders can translate their campus leadership experience into the workplace while managing imposter syndrome and avoiding the pressure to “prove” themselves. Students will leave with practical tools for showing initiative\, building trust\, and contributing meaningfully without feeling like they have to be the smartest person in the room.
URL:https://laurelridge.edu/event/student-leadership-series-confident-curious-and-coachable-leading-yourself-into-the-professional-world/
LOCATION:Middletown Campus: Cornerstone Hall\, Room 601 & Virtually: Online via Zoom
CATEGORIES:Fauquier Student Events,Luray Student Events,Middletown Student Events,Student Events,Virtual Student Events
ORGANIZER;CN="Chris Lambert":MAILTO:clambert@laurelridge.edu
END:VEVENT
END:VCALENDAR