BEGIN:VCALENDAR
VERSION:2.0
PRODID:-//Laurel Ridge Community College - ECPv6.10.1.1//NONSGML v1.0//EN
CALSCALE:GREGORIAN
METHOD:PUBLISH
X-WR-CALNAME:Laurel Ridge Community College
X-ORIGINAL-URL:https://laurelridge.edu
X-WR-CALDESC:Events for Laurel Ridge Community College
REFRESH-INTERVAL;VALUE=DURATION:PT1H
X-Robots-Tag:noindex
X-PUBLISHED-TTL:PT1H
BEGIN:VTIMEZONE
TZID:America/New_York
BEGIN:DAYLIGHT
TZOFFSETFROM:-0500
TZOFFSETTO:-0400
TZNAME:EDT
DTSTART:20250309T070000
END:DAYLIGHT
BEGIN:STANDARD
TZOFFSETFROM:-0400
TZOFFSETTO:-0500
TZNAME:EST
DTSTART:20251102T060000
END:STANDARD
END:VTIMEZONE
BEGIN:VEVENT
DTSTART;TZID=America/New_York:20250224T090000
DTEND;TZID=America/New_York:20250224T220000
DTSTAMP:20260421T055438
CREATED:20250210T193011Z
LAST-MODIFIED:20250210T193011Z
UID:10007898-1740387600-1740434400@laurelridge.edu
SUMMARY:TRiO DAY
DESCRIPTION:Join us for an inspiring event featuring first-generation and TRiO alumni speakers.  \n\nLocation: Middletown Campus – Cornerstone Hall – Room 601 \n\nOpen to all! \n\n\n$25 SHEETZ GIFT CARD AND BACKPACK RAFFLE for TRiO students \nTRiO Provides: \n\nacademic advising\ntutoring\ntransfer planning\nfinancial aid assistance\nfinancial literacy education\nfree printing\nother wraparound support for participants
URL:https://laurelridge.edu/event/trio-day/
LOCATION:Laurel Ridge Community College Middletown Campus\, 173 Skirmisher Lane\, Middletown\, 22645
CATEGORIES:Alumni Events,Community Events,Middletown Student Events,Student Events
ATTACH;FMTTYPE=image/png:https://laurelridge.edu/wp-content/uploads/2025/02/FB-Event-Banner.png
END:VEVENT
BEGIN:VEVENT
DTSTART;TZID=America/New_York:20250224T100000
DTEND;TZID=America/New_York:20250224T160000
DTSTAMP:20260421T055438
CREATED:20250211T222426Z
LAST-MODIFIED:20250211T222426Z
UID:10007912-1740391200-1740412800@laurelridge.edu
SUMMARY:Blood Drive
DESCRIPTION:Visit the Wolk Hall Loeb from 10am-4pm to Donate Blood for the American Red Cross!
URL:https://laurelridge.edu/event/blood-drive-3/
LOCATION:Fauquier Campus: Wolk Hall\, Rose Loeb Center\, VA\, United States
CATEGORIES:Employee Events,Fauquier Student Events,Student Events
ATTACH;FMTTYPE=image/jpeg:https://laurelridge.edu/wp-content/uploads/2025/02/Feb-24th-Blood-Drive.jpg
ORGANIZER;CN="David Belyea":MAILTO:dbelyea@laurelridge.edu
END:VEVENT
BEGIN:VEVENT
DTSTART;TZID=America/New_York:20250224T130000
DTEND;TZID=America/New_York:20250224T150000
DTSTAMP:20260421T055438
CREATED:20241218T150008Z
LAST-MODIFIED:20250114T150332Z
UID:10007688-1740402000-1740409200@laurelridge.edu
SUMMARY:Mural Paint and Sips
DESCRIPTION:Come Enjoy a Relaxing Event of Creative Painting and Exquisite Non-Alcoholic Drinks! \nVisit Middletown Campus for All Dates including April 21st! \nVisit Fauquier Campus for the final event on April 23rd!
URL:https://laurelridge.edu/event/mural-paint-and-sips/2025-02-24/
LOCATION:Middletown Campus: Cornerstone Hall\, Room 502\, VA\, United States
CATEGORIES:Employee Events,Middletown Student Events,Student Events
ATTACH;FMTTYPE=image/jpeg:https://laurelridge.edu/wp-content/uploads/2024/12/Mural-Paint-and-Sips-.jpg
END:VEVENT
BEGIN:VEVENT
DTSTART;TZID=America/New_York:20250224T163000
DTEND;TZID=America/New_York:20250224T173000
DTSTAMP:20260421T055438
CREATED:20250206T125739Z
LAST-MODIFIED:20250206T125739Z
UID:10007788-1740414600-1740418200@laurelridge.edu
SUMMARY:Creative Writing Club Meeting
DESCRIPTION:The Creative Writing Club meets at the Middletown Campus every other Monday in Cornerstone Hall from 4:30pm-5:30pm.
URL:https://laurelridge.edu/event/creative-writing-club-meeting-2/2025-02-24/
LOCATION:Middletown Campus: Cornerstone Hall\, Room 210
CATEGORIES:Club Event,Student Events
ORGANIZER;CN="Chris Lambert":MAILTO:clambert@laurelridge.edu
END:VEVENT
BEGIN:VEVENT
DTSTART;TZID=America/New_York:20250225T080000
DTEND;TZID=America/New_York:20250225T110000
DTSTAMP:20260421T055438
CREATED:20250122T185357Z
LAST-MODIFIED:20250320T181901Z
UID:10007731-1740470400-1740481200@laurelridge.edu
SUMMARY:Food Truck: Good News Coffee Company
DESCRIPTION:Good News Coffee Company will setup outside Cornerstone Hall most Tuesdays from 8am-11am. Be sure to stop by for your morning coffee…and other goodies!
URL:https://laurelridge.edu/event/food-truck-good-news-coffee-company/2025-02-25/
LOCATION:Middletown Campus: Cornerstone Hall\, Visitor Parking Lot\, VA\, United States
CATEGORIES:Middletown Student Events,Student Events
ATTACH;FMTTYPE=image/jpeg:https://laurelridge.edu/wp-content/uploads/2025/01/Coffee-Food-Truck-1.jpg
ORGANIZER;CN="Chris Lambert":MAILTO:clambert@laurelridge.edu
END:VEVENT
BEGIN:VEVENT
DTSTART;TZID=America/New_York:20250225T100000
DTEND;TZID=America/New_York:20250225T140000
DTSTAMP:20260421T055438
CREATED:20250116T175727Z
LAST-MODIFIED:20250116T175727Z
UID:10007702-1740477600-1740492000@laurelridge.edu
SUMMARY:Virtual Career Fair
DESCRIPTION:Virginia Works and Laurel Ridge Community College are hosting a Virtual Job Fair! Register Online using the Flyer’s QR Code.
URL:https://laurelridge.edu/event/virtual-career-fair/
LOCATION:Virtual
CATEGORIES:Community Events,Student Events,Virtual Student Events
ATTACH;FMTTYPE=image/png:https://laurelridge.edu/wp-content/uploads/2025/01/Virtual-Career-Fair.png
ORGANIZER;CN="David Belyea":MAILTO:dbelyea@laurelridge.edu
END:VEVENT
BEGIN:VEVENT
DTSTART;TZID=America/New_York:20250225T110000
DTEND;TZID=America/New_York:20250225T140000
DTSTAMP:20260421T055438
CREATED:20250211T224239Z
LAST-MODIFIED:20250211T224239Z
UID:10007914-1740481200-1740492000@laurelridge.edu
SUMMARY:Happy Ranch Food Truck
DESCRIPTION:Parked in the Hazel Hall Visitor’s Parking every Tuesday from 11am-2pm!
URL:https://laurelridge.edu/event/happy-ranch-food-truck/2025-02-25/
LOCATION:Fauquier Campus: Hazel Hall\, Visitor Parking Lot\, VA\, United States
CATEGORIES:Employee Events,Fauquier Student Events,Student Events
ATTACH;FMTTYPE=image/jpeg:https://laurelridge.edu/wp-content/uploads/2025/02/Happy-Family-Food-Truck-@-FC-2.jpg
ORGANIZER;CN="David Belyea":MAILTO:dbelyea@laurelridge.edu
END:VEVENT
BEGIN:VEVENT
DTSTART;TZID=America/New_York:20250225T120000
DTEND;TZID=America/New_York:20250225T130000
DTSTAMP:20260421T055438
CREATED:20250116T195918Z
LAST-MODIFIED:20250116T203704Z
UID:10007703-1740484800-1740488400@laurelridge.edu
SUMMARY:Dining w/ The Dean
DESCRIPTION:Join The Dean and Student Life for Discussions\, Deli\, and Desserts! \nMiddletown Campus: Cornerstone Hall – RM 402\, 2/25 from 12pm – 1pm \nFauquier Campus: Hazel Hall – Barkman Conference Center\, 2/25 from 12pm – 1pm
URL:https://laurelridge.edu/event/dining-w-the-dean/2025-02-25/
LOCATION:Middletown Campus: Cornerstone Hall\, Room 402
CATEGORIES:Fauquier Student Events,Middletown Student Events,Student Events
ATTACH;FMTTYPE=image/jpeg:https://laurelridge.edu/wp-content/uploads/2025/01/Dining-with-the-Dean-Spring-25-UPDATE.jpg
ORGANIZER;CN="David Belyea":MAILTO:dbelyea@laurelridge.edu
END:VEVENT
BEGIN:VEVENT
DTSTART;TZID=America/New_York:20250225T124000
DTEND;TZID=America/New_York:20250225T131000
DTSTAMP:20260421T055438
CREATED:20250109T005534Z
LAST-MODIFIED:20250304T144204Z
UID:10007671-1740487200-1740489000@laurelridge.edu
SUMMARY:Chair Yoga
DESCRIPTION:Join us to Learn Fun and Relaxing Yoga Poses You Can Practice from Your Seat! \nParticipate in-person or online at: laurelridge.edu/yoga
URL:https://laurelridge.edu/event/chair-yoga/2025-02-25/
LOCATION:Middletown Campus\, SUB 217 and Online
CATEGORIES:Employee Events,Middletown Student Events,Student Events,Virtual Student Events
ATTACH;FMTTYPE=image/jpeg:https://laurelridge.edu/wp-content/uploads/2025/01/Chair-Yoga-3.jpg
ORGANIZER;CN="David Belyea":MAILTO:dbelyea@laurelridge.edu
END:VEVENT
BEGIN:VEVENT
DTSTART;TZID=America/New_York:20250225T133000
DTEND;TZID=America/New_York:20250225T143000
DTSTAMP:20260421T055438
CREATED:20250108T214713Z
LAST-MODIFIED:20250108T214713Z
UID:10007651-1740490200-1740493800@laurelridge.edu
SUMMARY:L.E.O. (Lions Esports Org) Meeting
DESCRIPTION:LEO will meet weekly on Tuesdays from 1:30pm-2:30pm in LEO’s Esports Arena in the Student Union Building.
URL:https://laurelridge.edu/event/l-e-o-lions-esports-org-meeting/2025-02-25/
LOCATION:Middletown Campus: SUB\, LEO Esports Arena
CATEGORIES:Club Event,Student Events
ORGANIZER;CN="Chris Lambert":MAILTO:clambert@laurelridge.edu
END:VEVENT
BEGIN:VEVENT
DTSTART;TZID=America/New_York:20250225T140000
DTEND;TZID=America/New_York:20250225T143000
DTSTAMP:20260421T055438
CREATED:20241211T231333Z
LAST-MODIFIED:20250206T212405Z
UID:10007563-1740492000-1740493800@laurelridge.edu
SUMMARY:Mindfulness Meditation
DESCRIPTION:Join Janet for Mindfulness Meditation for a weekly time to relax and recharge. Join in-person or on Zoom with this link: laurelridge.edu/meditation
URL:https://laurelridge.edu/event/mindful-meditation/2025-02-25/
LOCATION:Fauquier Campus\, Hazel Hall room 210; Online
CATEGORIES:Employee Events,Fauquier Student Events,Student Events,Virtual Student Events
ATTACH;FMTTYPE=image/jpeg:https://laurelridge.edu/wp-content/uploads/2024/12/Mindful-Meditation-Spring-2025-2.jpg
ORGANIZER;CN="David Belyea":MAILTO:dbelyea@laurelridge.edu
END:VEVENT
BEGIN:VEVENT
DTSTART;TZID=America/New_York:20250225T160000
DTEND;TZID=America/New_York:20250225T180000
DTSTAMP:20260421T055438
CREATED:20241211T205914Z
LAST-MODIFIED:20241211T210029Z
UID:10007535-1740499200-1740506400@laurelridge.edu
SUMMARY:Cyber Club Meeting
DESCRIPTION:The Cyber Club will meet every Tuesday from 4-6pm at the Middletown Campus in Cornerstone Hall\, Room 306.
URL:https://laurelridge.edu/event/cyber-club-meeting-2/2025-02-25/
LOCATION:Middletown Campus: Cornerstone Hall\, Room 306\, VA\, United States
CATEGORIES:Club Event,Student Events
ORGANIZER;CN="Chris Lambert":MAILTO:clambert@laurelridge.edu
END:VEVENT
BEGIN:VEVENT
DTSTART;TZID=America/New_York:20250226T120000
DTEND;TZID=America/New_York:20250226T130000
DTSTAMP:20260421T055438
CREATED:20250116T195918Z
LAST-MODIFIED:20250116T203704Z
UID:10007704-1740571200-1740574800@laurelridge.edu
SUMMARY:Dining w/ The Dean
DESCRIPTION:Join The Dean and Student Life for Discussions\, Deli\, and Desserts! \nMiddletown Campus: Cornerstone Hall – RM 402\, 2/25 from 12pm – 1pm \nFauquier Campus: Hazel Hall – Barkman Conference Center\, 2/25 from 12pm – 1pm
URL:https://laurelridge.edu/event/dining-w-the-dean/2025-02-26/
LOCATION:Middletown Campus: Cornerstone Hall\, Room 402
CATEGORIES:Fauquier Student Events,Middletown Student Events,Student Events
ATTACH;FMTTYPE=image/jpeg:https://laurelridge.edu/wp-content/uploads/2025/01/Dining-with-the-Dean-Spring-25-UPDATE.jpg
ORGANIZER;CN="David Belyea":MAILTO:dbelyea@laurelridge.edu
END:VEVENT
BEGIN:VEVENT
DTSTART;TZID=America/New_York:20250226T123000
DTEND;TZID=America/New_York:20250226T133000
DTSTAMP:20260421T055438
CREATED:20250129T170304Z
LAST-MODIFIED:20250129T170304Z
UID:10007761-1740573000-1740576600@laurelridge.edu
SUMMARY:PTK (Phi Beta Omega) Meeting
DESCRIPTION:The Middletown chapter of Phi Theta Kappa will meet every Wednesday at 12:30pm in Cornerstone 304. Meeting weeks will alternate between officer meetings/open meetings.
URL:https://laurelridge.edu/event/ptk-phi-beta-omega-meeting/2025-02-26/
LOCATION:Middletown Campus: Cornerstone Hall\, Room 304
CATEGORIES:Club Event,Student Events
ORGANIZER;CN="Chris Lambert":MAILTO:clambert@laurelridge.edu
END:VEVENT
BEGIN:VEVENT
DTSTART;TZID=America/New_York:20250226T123000
DTEND;TZID=America/New_York:20250226T133000
DTSTAMP:20260421T055438
CREATED:20250210T195901Z
LAST-MODIFIED:20250210T195901Z
UID:10007901-1740573000-1740576600@laurelridge.edu
SUMMARY:STEM Club Meeting
DESCRIPTION:The Fauquier STEM Club meets every Wednesday at 12:30pm outside Dr. Wilcox’s office in Hazel 121.
URL:https://laurelridge.edu/event/stem-club-meeting-2/2025-02-26/
LOCATION:Fauquier Campus: Hazel Hall\, Room 121
CATEGORIES:Club Event,Student Events
ORGANIZER;CN="Chris Lambert":MAILTO:clambert@laurelridge.edu
END:VEVENT
BEGIN:VEVENT
DTSTART;TZID=America/New_York:20250227T100000
DTEND;TZID=America/New_York:20250227T110000
DTSTAMP:20260421T055438
CREATED:20250206T114624Z
LAST-MODIFIED:20250206T114625Z
UID:10007637-1740650400-1740654000@laurelridge.edu
SUMMARY:BOND Club Meeting
DESCRIPTION:The BOND Club meets every Thursday from 10-11am in Cornerstone Hall\, Room 607 (Middletown Campus)\, Paris Room\, Library (Fauquier Campus) & via Zoom.
URL:https://laurelridge.edu/event/bond-club-meeting-2/2025-02-27/
LOCATION:Middletown Campus: Cornerstone Hall\, Room 607; Fauquier Campus: Paris Room (Library); Virtually
CATEGORIES:Club Event,Student Events
ORGANIZER;CN="Chris Lambert":MAILTO:clambert@laurelridge.edu
END:VEVENT
BEGIN:VEVENT
DTSTART;TZID=America/New_York:20250227T124000
DTEND;TZID=America/New_York:20250227T131000
DTSTAMP:20260421T055438
CREATED:20250109T005534Z
LAST-MODIFIED:20250304T144204Z
UID:10007672-1740660000-1740661800@laurelridge.edu
SUMMARY:Chair Yoga
DESCRIPTION:Join us to Learn Fun and Relaxing Yoga Poses You Can Practice from Your Seat! \nParticipate in-person or online at: laurelridge.edu/yoga
URL:https://laurelridge.edu/event/chair-yoga/2025-02-27/
LOCATION:Middletown Campus\, SUB 217 and Online
CATEGORIES:Employee Events,Middletown Student Events,Student Events,Virtual Student Events
ATTACH;FMTTYPE=image/jpeg:https://laurelridge.edu/wp-content/uploads/2025/01/Chair-Yoga-3.jpg
ORGANIZER;CN="David Belyea":MAILTO:dbelyea@laurelridge.edu
END:VEVENT
BEGIN:VEVENT
DTSTART;TZID=America/New_York:20250227T133000
DTEND;TZID=America/New_York:20250227T153000
DTSTAMP:20260421T055438
CREATED:20250117T222716Z
LAST-MODIFIED:20250117T222716Z
UID:10007711-1740663000-1740670200@laurelridge.edu
SUMMARY:Math Club Meeting
DESCRIPTION:The Middletown Math Club meets every Thursday from 1:30pm-3:30pm in Cornerstone\, Room 304.
URL:https://laurelridge.edu/event/math-club-meeting/2025-02-27/
LOCATION:Middletown Campus: Cornerstone Hall\, Room 304
CATEGORIES:Club Event,Student Events
ORGANIZER;CN="Chris Lambert":MAILTO:clambert@laurelridge.edu
END:VEVENT
BEGIN:VEVENT
DTSTART;TZID=America/New_York:20250227T150000
DTEND;TZID=America/New_York:20250227T154500
DTSTAMP:20260421T055438
CREATED:20250128T174616Z
LAST-MODIFIED:20250128T174616Z
UID:10007755-1740668400-1740671100@laurelridge.edu
SUMMARY:True Crime Trivia
DESCRIPTION:Play for a chance to win a $50 Visa Gift Card. Sign up ahead of time: laurelridge.edu/trivia.
URL:https://laurelridge.edu/event/true-crime-trivia/
LOCATION:Virtual: Online via Zoom\, VA\, United States
CATEGORIES:Fauquier Student Events,Luray Student Events,Middletown Student Events,Student Events,Virtual Student Events
ATTACH;FMTTYPE=image/png:https://laurelridge.edu/wp-content/uploads/2025/01/True-Crime-trivia.png
ORGANIZER;CN="Chris Lambert":MAILTO:clambert@laurelridge.edu
END:VEVENT
BEGIN:VEVENT
DTSTART;TZID=America/New_York:20250228T073000
DTEND;TZID=America/New_York:20250228T230000
DTSTAMP:20260421T055438
CREATED:20250130T152412Z
LAST-MODIFIED:20250130T152412Z
UID:10007752-1740727800-1740783600@laurelridge.edu
SUMMARY:Trip to Washington\, D.C.
DESCRIPTION:Come join Student Life and the Art Department for a trip to Washington\, D.C.! Plan to see different monuments and museums and enjoy a nice time around the city! MC Meetup: 7:30am and FC Meetup: 8:30am. Only $20 per Student.
URL:https://laurelridge.edu/event/trip-to-washington-d-c/
LOCATION:Washington D.C.\, United States
CATEGORIES:Fauquier Student Events,Middletown Student Events,Student Events
ATTACH;FMTTYPE=image/jpeg:https://laurelridge.edu/wp-content/uploads/2025/01/Daytrip-to-DC.jpg
ORGANIZER;CN="David Belyea":MAILTO:dbelyea@laurelridge.edu
GEO:37.09024;-95.712891
END:VEVENT
END:VCALENDAR