BEGIN:VCALENDAR
VERSION:2.0
PRODID:-//Laurel Ridge Community College - ECPv6.10.1.1//NONSGML v1.0//EN
CALSCALE:GREGORIAN
METHOD:PUBLISH
X-ORIGINAL-URL:https://laurelridge.edu
X-WR-CALDESC:Events for Laurel Ridge Community College
REFRESH-INTERVAL;VALUE=DURATION:PT1H
X-Robots-Tag:noindex
X-PUBLISHED-TTL:PT1H
BEGIN:VTIMEZONE
TZID:America/New_York
BEGIN:DAYLIGHT
TZOFFSETFROM:-0500
TZOFFSETTO:-0400
TZNAME:EDT
DTSTART:20260308T070000
END:DAYLIGHT
BEGIN:STANDARD
TZOFFSETFROM:-0400
TZOFFSETTO:-0500
TZNAME:EST
DTSTART:20261101T060000
END:STANDARD
END:VTIMEZONE
BEGIN:VEVENT
DTSTART;TZID=America/New_York:20260413T093000
DTEND;TZID=America/New_York:20260413T103000
DTSTAMP:20260426T003655
CREATED:20260402T183127Z
LAST-MODIFIED:20260402T183127Z
UID:10014985-1776072600-1776076200@laurelridge.edu
SUMMARY:Coffee & Donuts w/ a Cop
DESCRIPTION:Enjoy some Hot Coffee and Tasty Donuts w/ The Campus PD! Stop by the Cornerstone Lobby from 9:30-10:30 a.m.
URL:https://laurelridge.edu/event/coffee-donuts-w-a-cop-4/
LOCATION:Middletown Campus: Cornerstone Hall\, Lobby\, VA\, United States
CATEGORIES:Middletown Student Events,Student Events
ORGANIZER;CN="Chris Lambert":MAILTO:clambert@laurelridge.edu
END:VEVENT
BEGIN:VEVENT
DTSTART;TZID=America/New_York:20260413T120000
DTEND;TZID=America/New_York:20260413T130000
DTSTAMP:20260426T003655
CREATED:20260121T172819Z
LAST-MODIFIED:20260121T172819Z
UID:10011176-1776081600-1776085200@laurelridge.edu
SUMMARY:Middletown Campus General Information Session and Tour
DESCRIPTION:Join us for a general information session to learn about our college\, programs\, and student support resources. You can choose to attend in person or online. In-person attendees will also have the opportunity to take a guided campus tour following the session. Reserve your spot today and take the first step toward your future! \n\n\n\n \n\n\n\nDiscover Your Future at Laurel Ridge\n\n\n\nLaurel Ridge Community College offers a supportive\, flexible learning environment to help you succeed. Choose from 75+ degree and certificate programs and 60+ fast-track career training options\, available at three convenient locations or online. \n\n\n\n\nCareer-focused programs with employer connections\n\n\n\nAffordable tuition & financial aid\n\n\n\nFlexible schedules: day\, evening\, weekend\, online\n\n\n\nInclusive\, vibrant campus community\n\n\n\n\n \n\n\n\nWe are here to assist in the exploration of program options and navigating the first steps of enrollment.\n\n\n\n\n\n\n\nBrandon Doores \n\n\n\nOutreach Specialist and Career Coach\, Fauquier Campus \n\n\n\n540-351-1034 \n\n\n\nSend me an email \n\n\n\n\n\n\n\nThomas Monk \n\n\n\nOutreach Specialist and Career Coach\, Middletown CampusP: \n\n\n\n540-533-9189 \n\n\n\nSend me an email \n\n\n\n\n\n\n\nLisa Heiser \n\n\n\nWorkforce Solutions CoachP: \n\n\n\n540-868-9744 \n\n\n\nSend me an email
URL:https://laurelridge.edu/event/middletown-campus-general-information-session-and-tour-2/2026-04-13/
LOCATION:VA
END:VEVENT
BEGIN:VEVENT
DTSTART;TZID=America/New_York:20260413T120000
DTEND;TZID=America/New_York:20260413T130000
DTSTAMP:20260426T003655
CREATED:20260326T191853Z
LAST-MODIFIED:20260326T191853Z
UID:10014937-1776081600-1776085200@laurelridge.edu
SUMMARY:Duncan\, The Therapy Dog!
DESCRIPTION:***Duncan will not be on Campus Monday 3/30! He will return on April 13th*** \n\n\n\nShake Paws and visit with our FC Favorite Fluffy Animal\, Duncan! Back for Spring! 12pm-1pm on Wednesday\, 3/18 and Mondays 3/30 and 4/13.
URL:https://laurelridge.edu/event/duncan-the-therapy-dog-2/2026-04-13/
LOCATION:Fauquier Campus: Wolk & Hazel Halls\, VA\, United States
CATEGORIES:Employee Events,Fauquier Student Events,Student Events
END:VEVENT
BEGIN:VEVENT
DTSTART;TZID=America/New_York:20260413T130000
DTEND;TZID=America/New_York:20260413T140000
DTSTAMP:20260426T003655
CREATED:20260311T221323Z
LAST-MODIFIED:20260311T221323Z
UID:10014255-1776085200-1776088800@laurelridge.edu
SUMMARY:Fauquier Student Writers Club Meeting
DESCRIPTION:Creative writers welcome! The club meets weekly on Mondays from 1-2 p.m. in Wolk Hall\, Room 201.
URL:https://laurelridge.edu/event/fauquier-student-writers-club-meeting/2026-04-13/
LOCATION:VA
CATEGORIES:Club Event,Student Events
ORGANIZER;CN="Chris Lambert":MAILTO:clambert@laurelridge.edu
END:VEVENT
BEGIN:VEVENT
DTSTART;TZID=America/New_York:20260413T140000
DTEND;TZID=America/New_York:20260413T150000
DTSTAMP:20260426T003655
CREATED:20260311T221339Z
LAST-MODIFIED:20260311T221339Z
UID:10014279-1776088800-1776092400@laurelridge.edu
SUMMARY:Student Leadership Series: The Importance of Time Management
DESCRIPTION:(OPEN — ALL STUDENT LEADERS) \n\n\n\nMonday\, 4/13\, 2-3 p.m. \n\n\n\nMiddletown Campus: Cornerstone Hall\, Room 602 \n\n\n\nZoom \n\n\n\nLearn effective strategies for managing your time and responsibilities\, supported by real‑world examples from a faculty guest speaker. A hands‑on group challenge will reinforce key skills by encouraging teams to prioritize tasks and reflect on their approach. Developed by a Student Ambassadors LIT group.
URL:https://laurelridge.edu/event/student-leadership-series-the-importance-of-time-management/
LOCATION:VA
CATEGORIES:Club Event,Fauquier Student Events,Luray Student Events,Middletown Student Events,Student Events,Virtual Student Events
ORGANIZER;CN="Chris Lambert":MAILTO:clambert@laurelridge.edu
END:VEVENT
BEGIN:VEVENT
DTSTART;TZID=America/New_York:20260413T140000
DTEND;TZID=America/New_York:20260413T153000
DTSTAMP:20260426T003655
CREATED:20260129T224821Z
LAST-MODIFIED:20260129T224821Z
UID:10013582-1776088800-1776094200@laurelridge.edu
SUMMARY:PTK (Alpha Beta Omega Chapter) Meeting
DESCRIPTION:The Middletown Chapter of Phi Theta Kappa (Alpha Beta Omega) meets weekly alternating between officer only and open membership meetings every Monday at 2 p.m.
URL:https://laurelridge.edu/event/ptk-alpha-beta-omega-chapter-meeting/2026-04-13/
LOCATION:Middletown Campus: Cornerstone Hall\, Room 216
CATEGORIES:Club Event,Student Events
ORGANIZER;CN="Chris Lambert":MAILTO:clambert@laurelridge.edu
END:VEVENT
BEGIN:VEVENT
DTSTART;TZID=America/New_York:20260413T150000
DTEND;TZID=America/New_York:20260413T190000
DTSTAMP:20260426T003655
CREATED:20260210T154331Z
LAST-MODIFIED:20260210T154331Z
UID:10014032-1776092400-1776106800@laurelridge.edu
SUMMARY:D&D (Dungeons & Dragons) Club Meeting - Monday Group
DESCRIPTION:The D&D Club meets weekly. The Monday group meets on Mondays from 3-7 p.m. in Cornerstone Hall\, Room 304.
URL:https://laurelridge.edu/event/dd-dungeons-dragons-club-meeting-monday-group/2026-04-13/
LOCATION:Middletown Campus: Cornerstone Hall\, Room 304
CATEGORIES:Club Event,Student Events
ORGANIZER;CN="Chris Lambert":MAILTO:clambert@laurelridge.edu
END:VEVENT
BEGIN:VEVENT
DTSTART;TZID=America/New_York:20260413T153000
DTEND;TZID=America/New_York:20260413T173000
DTSTAMP:20260426T003655
CREATED:20260402T191026Z
LAST-MODIFIED:20260402T191026Z
UID:10014987-1776094200-1776101400@laurelridge.edu
SUMMARY:Fortnite Tournament
DESCRIPTION:Play for a chance to win a $100 Visa Gift Card. Sign up to play!
URL:https://laurelridge.edu/event/fortnite-tournament/
LOCATION:VA
CATEGORIES:Middletown Student Events,Student Events
ORGANIZER;CN="Chris Lambert":MAILTO:clambert@laurelridge.edu
END:VEVENT
BEGIN:VEVENT
DTSTART;TZID=America/New_York:20260413T170000
DTEND;TZID=America/New_York:20260413T180000
DTSTAMP:20260426T003655
CREATED:20260122T191531Z
LAST-MODIFIED:20260122T191531Z
UID:10013842-1776099600-1776103200@laurelridge.edu
SUMMARY:Creative Writing Club Meeting
DESCRIPTION:The Creative Writing Club meets every other Monday from 5-6 p.m. in Cornerstone\, Room 213.
URL:https://laurelridge.edu/event/creative-writing-club-meeting-3/2026-04-13/
LOCATION:Middletown Campus: Cornerstone Hall\, Room 213
CATEGORIES:Club Event,Student Events
ORGANIZER;CN="Chris Lambert":MAILTO:clambert@laurelridge.edu
END:VEVENT
BEGIN:VEVENT
DTSTART;TZID=America/New_York:20260414T093000
DTEND;TZID=America/New_York:20260414T103000
DTSTAMP:20260426T003655
CREATED:20260402T183129Z
LAST-MODIFIED:20260402T183129Z
UID:10014986-1776159000-1776162600@laurelridge.edu
SUMMARY:Coffee & Donuts w/ a Cop
DESCRIPTION:Enjoy some Hot Coffee and Tasty Donuts w/ The Campus PD! Stop by the Wolk Lobby from 9:30-10:30 a.m.
URL:https://laurelridge.edu/event/coffee-donuts-w-a-cop-5/
LOCATION:Fauquier Campus: Wolk Hall\, Lobby\, VA\, United States
CATEGORIES:Fauquier Student Events,Student Events
ORGANIZER;CN="Chris Lambert":MAILTO:clambert@laurelridge.edu
END:VEVENT
BEGIN:VEVENT
DTSTART;TZID=America/New_York:20260414T120000
DTEND;TZID=America/New_York:20260414T124000
DTSTAMP:20260426T003655
CREATED:20260112T201856Z
LAST-MODIFIED:20260112T201856Z
UID:10010818-1776168000-1776170400@laurelridge.edu
SUMMARY:Spanish Club Meeting
DESCRIPTION:The Spanish Club meets weekly\, alternating between the Middletown and Fauquier Campuses: \n\n\n\n\nMiddletown Campus meetings: Tuesdays from 12-12:40 PM – 2/3\, 2/17\,  3/3\, 3/17\, 3/31\, 4/14\, and 4/28 in Cornerstone 213\n\n\n\nFauquier Campus meetings: Tuesdays from 2-3 PM – 2/10\,  2/24\, 3/24\, 4/7\, and 4/21 in Wolk 210\n\n\n\n\nAll meetings are also held virtually using Google Meet for each meeting.
URL:https://laurelridge.edu/event/spanish-club-meeting-3/2026-04-14/
LOCATION:Middletown Campus: Cornerstone Hall\, Room 213 & Virtually
CATEGORIES:Club Event,Student Events
ORGANIZER;CN="Chris Lambert":MAILTO:clambert@laurelridge.edu
END:VEVENT
BEGIN:VEVENT
DTSTART;TZID=America/New_York:20260414T120000
DTEND;TZID=America/New_York:20260414T130000
DTSTAMP:20260426T003655
CREATED:20260121T172820Z
LAST-MODIFIED:20260121T172820Z
UID:10011312-1776168000-1776171600@laurelridge.edu
SUMMARY:Fauquier Campus General Information Session and Tour
DESCRIPTION:Join a General Information Session \n\n\n\nJoin us for a general information session to learn about our college\, programs\, and student support resources. You can choose to attend in person or online. In-person attendees will also have the opportunity to take a guided campus tour following the session. Reserve your spot today and take the first step toward your future! \n\n\n\n \n\n\n\nDiscover Your Future at Laurel Ridge \n\n\n\nLaurel Ridge Community College offers a supportive\, flexible learning environment to help you succeed. Choose from 75+ degree and certificate programs and 60+ fast-track career training options\, available at three convenient locations or online. \n\n\n\nCareer-focused programs with employer connections \n\n\n\nAffordable tuition & financial aid \n\n\n\nFlexible schedules: day\, evening\, weekend\, online \n\n\n\nInclusive\, vibrant campus community \n\n\n\n \n\n\n\nWe are here to assist in the exploration of program options and navigating the first steps of enrollment.\n\n\n\n\n\n\n\nBrandon Doores \n\n\n\nOutreach Specialist and Career Coach\, Fauquier CampusP: \n\n\n\n540-351-1034 \n\n\n\nSend me an email \n\n\n\n\n\n\n\nThomas Monk \n\n\n\nOutreach Specialist and Career Coach\, Middletown CampusP: \n\n\n\n540-533-9189 \n\n\n\nSend me an email \n\n\n\n\n\n\n\nLisa Heiser \n\n\n\nWorkforce Solutions CoachP: \n\n\n\n540-868-9744 \n\n\n\nSend me an email
URL:https://laurelridge.edu/event/fauquier-campus-general-information-session-and-tour/2026-04-14/
LOCATION:VA
CATEGORIES:General Information Sessions,Information Sessions
END:VEVENT
BEGIN:VEVENT
DTSTART;TZID=America/New_York:20260414T123000
DTEND;TZID=America/New_York:20260414T133000
DTSTAMP:20260426T003655
CREATED:20260116T191809Z
LAST-MODIFIED:20260116T191809Z
UID:10010886-1776169800-1776173400@laurelridge.edu
SUMMARY:S.T.E.M. Club (Fauquier) Meeting
DESCRIPTION:The Fauquier S.T.E.M. Club meets weekly on Wednesday from 12:30-1:30 p.m. in Hazel Hall\, outside Room 121 (Dr. Wilcox’s office).
URL:https://laurelridge.edu/event/s-t-e-m-club-fauquier-meeting/2026-04-14/
LOCATION:Fauquier Campus: Hazel Hall\, outside Room 121
CATEGORIES:Club Event,Student Events
ORGANIZER;CN="Chris Lambert":MAILTO:clambert@laurelridge.edu
END:VEVENT
BEGIN:VEVENT
DTSTART;TZID=America/New_York:20260414T140000
DTEND;TZID=America/New_York:20260414T143000
DTSTAMP:20260426T003655
CREATED:20260125T231228Z
LAST-MODIFIED:20260125T231228Z
UID:10013508-1776175200-1776177000@laurelridge.edu
SUMMARY:Mindfulness Meditation
DESCRIPTION:Back for Spring! Join Janet Heisrath-Evans for more relaxing meditation! Most Tuesdays from 2pm-2:30pm this semester. Stop by Hazel Hall 210 or on Zoom at laurelridge.edu/meditation.
URL:https://laurelridge.edu/event/mindfulness-meditation/2026-04-14/
LOCATION:Fauquier Campus: Hazel Hall\, Room 210 & Virtually\, VA\, United States
CATEGORIES:Employee Events,Fauquier Student Events,Luray Student Events,Middletown Student Events,Student Events,Virtual Student Events
ORGANIZER;CN="David Belyea":MAILTO:dbelyea@laurelridge.edu
END:VEVENT
BEGIN:VEVENT
DTSTART;TZID=America/New_York:20260414T150000
DTEND;TZID=America/New_York:20260414T160000
DTSTAMP:20260426T003655
CREATED:20260121T172822Z
LAST-MODIFIED:20260121T172822Z
UID:10012095-1776178800-1776182400@laurelridge.edu
SUMMARY:Online General Information Session
DESCRIPTION:Join us for a general information session to learn about our college\, programs\, and student support resources. You can choose to attend in person or online. In-person attendees will also have the opportunity to take a guided campus tour following the session. Reserve your spot today and take the first step toward your future! \n\n\n\nDiscover Your Future at Laurel Ridge\n\n\n\nLaurel Ridge Community College offers a supportive\, flexible learning environment to help you succeed. Choose from 75+ degree and certificate programs and 60+ fast-track career training options\, available at three convenient locations or online. \n\n\n\n\nCareer-focused programs with employer connections\n\n\n\nAffordable tuition & financial aid\n\n\n\nFlexible schedules: day\, evening\, weekend\, online\n\n\n\nInclusive\, vibrant campus community\n\n\n\n\nWe are here to assist in the exploration of program options and navigating the first steps of enrollment.\n\n\n\n\n\n\n\nBrandon Doores \n\n\n\nOutreach Specialist and Career Coach\, Fauquier CampusP: \n\n\n\n540-351-1034 \n\n\n\nSend me an email \n\n\n\n\n\n\n\nThomas Monk \n\n\n\nOutreach Specialist and Career Coach\, Middletown CampusP: \n\n\n\n540-533-9189 \n\n\n\nSend me an email \n\n\n\n\n\n\n\nLisa Heiser \n\n\n\nWorkforce Solutions CoachP: \n\n\n\n540-868-9744 \n\n\n\nSend me an email
URL:https://laurelridge.edu/event/online-general-information-session-2/2026-04-14/
LOCATION:VA
CATEGORIES:General Information Sessions,Information Sessions
END:VEVENT
BEGIN:VEVENT
DTSTART;TZID=America/New_York:20260414T150000
DTEND;TZID=America/New_York:20260414T160000
DTSTAMP:20260426T003655
CREATED:20260123T161353Z
LAST-MODIFIED:20260123T161353Z
UID:10012451-1776178800-1776182400@laurelridge.edu
SUMMARY:STAR WARS Trivia!
DESCRIPTION:Calling All Sith & All Jedi\, Join Student Life and the Force Master\, Kerry\, for another exciting Trivia! 4/14 @ 3pm on Zoom! (Register Here – Star Wars Trivia) 
URL:https://laurelridge.edu/event/star-wars-trivia/
LOCATION:ONLINE via Zoom
CATEGORIES:Fauquier Student Events,Luray Student Events,Middletown Student Events,Student Events,Virtual Student Events
ORGANIZER;CN="David Belyea":MAILTO:dbelyea@laurelridge.edu
END:VEVENT
BEGIN:VEVENT
DTSTART;TZID=America/New_York:20260414T150000
DTEND;TZID=America/New_York:20260414T190000
DTSTAMP:20260426T003655
CREATED:20260210T154334Z
LAST-MODIFIED:20260210T154334Z
UID:10014043-1776178800-1776193200@laurelridge.edu
SUMMARY:D&D (Dungeons & Dragons) Club Meeting - Tuesday Group
DESCRIPTION:The D&D Club meets weekly. The Tuesday group meets on Tuesdays from 3-7 p.m. in Cornerstone Hall\, Room 213.
URL:https://laurelridge.edu/event/dd-dungeons-dragons-club-meeting-tuesday-group/2026-04-14/
LOCATION:Middletown Campus: Cornerstone Hall\, Room 213
CATEGORIES:Club Event,Student Events
ORGANIZER;CN="Chris Lambert":MAILTO:clambert@laurelridge.edu
END:VEVENT
BEGIN:VEVENT
DTSTART;TZID=America/New_York:20260414T153000
DTEND;TZID=America/New_York:20260414T163000
DTSTAMP:20260426T003655
CREATED:20260108T232935Z
LAST-MODIFIED:20260108T232935Z
UID:10012431-1776180600-1776184200@laurelridge.edu
SUMMARY:Dance Club Meeting
DESCRIPTION:The Laurel Ridge Dance Club meets weekly for dance practice and fellowship. Special or make-up sessions may be held on Thursdays as needed – members will be informed.
URL:https://laurelridge.edu/event/dance-club-meeting/2026-04-14/
LOCATION:VA
CATEGORIES:Club Event,Student Events
ORGANIZER;CN="Chris Lambert":MAILTO:clambert@laurelridge.edu
END:VEVENT
BEGIN:VEVENT
DTSTART;TZID=America/New_York:20260414T153000
DTEND;TZID=America/New_York:20260414T163000
DTSTAMP:20260426T003655
CREATED:20260123T155925Z
LAST-MODIFIED:20260123T155925Z
UID:10012418-1776180600-1776184200@laurelridge.edu
SUMMARY:Drama Club Meeting
DESCRIPTION:Let’s get dramatic – every week on Tuesdays from 3:30-4:30 p.m. in Cornerstone 406!
URL:https://laurelridge.edu/event/drama-club-meeting-2/2026-04-14/
LOCATION:Middletown Campus: Cornerstone Hall\, Room 406
CATEGORIES:Club Event,Student Events
ORGANIZER;CN="Chris Lambert":MAILTO:clambert@laurelridge.edu
END:VEVENT
BEGIN:VEVENT
DTSTART;TZID=America/New_York:20260414T170000
DTEND;TZID=America/New_York:20260414T180000
DTSTAMP:20260426T003655
CREATED:20260129T224823Z
LAST-MODIFIED:20260129T224823Z
UID:10013587-1776186000-1776189600@laurelridge.edu
SUMMARY:SNA (MC) Meeting
DESCRIPTION:The Middletown chapter of the Student Nurses Association (SNA) will meet once monthly on 2/10\, 3/3\, and 4/14 via Zoom.
URL:https://laurelridge.edu/event/sna-mc-meeting/2026-04-14/
LOCATION:VA
CATEGORIES:Club Event,Student Events
ORGANIZER;CN="Chris Lambert":MAILTO:clambert@laurelridge.edu
END:VEVENT
BEGIN:VEVENT
DTSTART;TZID=America/New_York:20260415T110000
DTEND;TZID=America/New_York:20260415T133000
DTSTAMP:20260426T003655
CREATED:20260402T191028Z
LAST-MODIFIED:20260402T191028Z
UID:10014988-1776250800-1776259800@laurelridge.edu
SUMMARY:Roots and Recipes!
DESCRIPTION:Stop by for a taste of culture around the world! If you’d like to setup a table and cook something\, you can sign up now!
URL:https://laurelridge.edu/event/roots-and-recipes/
LOCATION:Middletown Campus: Cornerstone Hall\, Lobby & Lounge\, VA\, United States
CATEGORIES:Employee Events,Middletown Student Events,Student Events
ORGANIZER;CN="Chris Lambert":MAILTO:clambert@laurelridge.edu
END:VEVENT
BEGIN:VEVENT
DTSTART;TZID=America/New_York:20260415T120000
DTEND;TZID=America/New_York:20260415T200000
DTSTAMP:20260426T003655
CREATED:20260402T191029Z
LAST-MODIFIED:20260402T191029Z
UID:10014989-1776254400-1776283200@laurelridge.edu
SUMMARY:Game Jam
DESCRIPTION:Design your own game over a three-day spring competition! Baked goods sold to support the Game Design Club. 1st place – $50 Visa Gift Card\, 2nd place – $25 Visa Gift Card. Rules and regulations will be posted on the days of the event.
URL:https://laurelridge.edu/event/game-jam/2026-04-15/
LOCATION:VA
CATEGORIES:Club Event,Middletown Student Events,Student Events
ORGANIZER;CN="Chris Lambert":MAILTO:clambert@laurelridge.edu
END:VEVENT
BEGIN:VEVENT
DTSTART;TZID=America/New_York:20260415T170000
DTEND;TZID=America/New_York:20260415T183000
DTSTAMP:20260426T003655
CREATED:20260311T221337Z
LAST-MODIFIED:20260311T221337Z
UID:10014277-1776272400-1776277800@laurelridge.edu
SUMMARY:Student Leadership Series: Anxiety in the Workplace
DESCRIPTION:(OPEN — ALL STUDENT LEADERS) \n\n\n\nWednesday\, 4/15\, 5-6:30 p.m. *moved from Wednesday\, 4/8 \n\n\n\nMiddletown Campus: Cornerstone Hall\, Room 601 \n\n\n\nZoom \n\n\n\nProfessor Addie Jones leads this session focused on understanding anxiety in the workplace and exploring practical strategies for navigating it. Participants will gain insight into common sources of workplace anxiety and tools to manage stress more effectively. Developed by a Student Ambassadors LIT group.
URL:https://laurelridge.edu/event/student-leadership-series-anxiety-in-the-workplace/
LOCATION:Middletown Campus: Cornerstone Hall\, Room 601 & Virtually: Online via Zoom
CATEGORIES:Club Event,Fauquier Student Events,Luray Student Events,Middletown Student Events,Student Events,Virtual Student Events
ORGANIZER;CN="Chris Lambert":MAILTO:clambert@laurelridge.edu
END:VEVENT
BEGIN:VEVENT
DTSTART;TZID=America/New_York:20260416T120000
DTEND;TZID=America/New_York:20260416T130000
DTSTAMP:20260426T003655
CREATED:20260112T164905Z
LAST-MODIFIED:20260112T164905Z
UID:10010782-1776340800-1776344400@laurelridge.edu
SUMMARY:Fab Four - Therapy Dogs!
DESCRIPTION:The Fab Four are back for the Spring Semester! Say Hello and Shake Paws as they travel around the Campus. See them in Cornerstone Hall\, The SUB\, and The SHP! 12pm-1pm Most Thursdays!
URL:https://laurelridge.edu/event/fab-four-therapy-dogs/2026-04-16/
LOCATION:Middletown Campus: Cornerstone Hall\, SHP & SUB\, lounges
CATEGORIES:Employee Events,Middletown Student Events,Student Events
ORGANIZER;CN="David Belyea":MAILTO:dbelyea@laurelridge.edu
END:VEVENT
BEGIN:VEVENT
DTSTART;TZID=America/New_York:20260416T120000
DTEND;TZID=America/New_York:20260416T130000
DTSTAMP:20260426T003655
CREATED:20260317T185851Z
LAST-MODIFIED:20260317T185852Z
UID:10014303-1776340800-1776344400@laurelridge.edu
SUMMARY:Fab 4 - Therapy Dogs!
DESCRIPTION:The Fab 4 will be roaming Cornerstone Hall\, SHP\, & the SUB most Thursdays this semester. 12pm-1pm.
URL:https://laurelridge.edu/event/fab-4-therapy-dogs-2/2026-04-16/
LOCATION:Middletown Campus: Cornerstone Hall\, SHP & SUB\, lounges
CATEGORIES:Employee Events,Middletown Student Events,Student Events
ORGANIZER;CN="David Belyea":MAILTO:dbelyea@laurelridge.edu
END:VEVENT
BEGIN:VEVENT
DTSTART;TZID=America/New_York:20260416T143000
DTEND;TZID=America/New_York:20260416T160000
DTSTAMP:20260426T003655
CREATED:20260116T191806Z
LAST-MODIFIED:20260116T191806Z
UID:10010862-1776349800-1776355200@laurelridge.edu
SUMMARY:Cyber Club Meeting
DESCRIPTION:The Cyber Club meets every 1st and 3rd Thursday of the month at the Middletown Campus in Room 306 & virtually via Zoom.
URL:https://laurelridge.edu/event/cyber-club-meeting-5/2026-04-16/
LOCATION:VA
CATEGORIES:Club Event,Student Events
ORGANIZER;CN="Chris Lambert":MAILTO:clambert@laurelridge.edu
END:VEVENT
BEGIN:VEVENT
DTSTART;TZID=America/New_York:20260417T090000
DTEND;TZID=America/New_York:20260417T100000
DTSTAMP:20260426T003655
CREATED:20260202T225921Z
LAST-MODIFIED:20260202T225921Z
UID:10013720-1776416400-1776420000@laurelridge.edu
SUMMARY:VIBE Council Meeting
DESCRIPTION:The VIBE Council (Valuing\, Inclusion\, Belonging\, and Equality/Empathy)\, formerly the DEI Council\, will meet once a month on the 3rd Friday of each month via Zoom. The Zoom link is shared with all students and employees via Leo’s Weekly Update the week of the meeting.
URL:https://laurelridge.edu/event/vibe-council-meeting/2026-04-17/
LOCATION:VA
CATEGORIES:Club Event,Employee Events,Student Events
ORGANIZER;CN="Chris Lambert":MAILTO:clambert@laurelridge.edu
END:VEVENT
BEGIN:VEVENT
DTSTART;TZID=America/New_York:20260420T080000
DTEND;TZID=America/New_York:20260429T170000
DTSTAMP:20260426T003655
CREATED:20260318T213818Z
LAST-MODIFIED:20260318T213818Z
UID:10014317-1776672000-1777482000@laurelridge.edu
SUMMARY:End of the Year StressLESS Week!
DESCRIPTION:It’s the end of the school year\, so that means Finals\, Graduation\, and one MORE Big Bash of FUN from Student Life! Starting April 20th across FC and MC! Join us for Pawsitive Wellness Spring Picnic\, Throwback Thursday\, Mystery Hit 2000’s Movie Showings\, The April Mystery Bus\, The Thunderbolts movie showing\, The Volleyball Tournament\, and Visit with animals\, including Petting Zoo (during the Picnic) and FAB 4 and Lola\, The Mini Horse campus visits! In Addition\, we are hosting an online Zoom Trivia Session!  \n\n\n\nCheck out the flyers/specific event pages for more details or email engage@laurelridge.edu!
URL:https://laurelridge.edu/event/end-of-the-year-stressless-week/
LOCATION:Fauquier and Middletown Campuses\, Virtual\, VA\, United States
CATEGORIES:Fauquier Student Events,Luray Student Events,Middletown Student Events,Student Events
ORGANIZER;CN="David Belyea":MAILTO:dbelyea@laurelridge.edu
END:VEVENT
BEGIN:VEVENT
DTSTART;TZID=America/New_York:20260420T100000
DTEND;TZID=America/New_York:20260420T110000
DTSTAMP:20260426T003655
CREATED:20260417T141714Z
LAST-MODIFIED:20260417T142040Z
UID:10015527-1776679200-1776682800@laurelridge.edu
SUMMARY:STEM Week YOGA with Jeff Hollar
DESCRIPTION: Middletown Campus\, Student Union Building Room 217 and Virtual – https://vccs.zoom.us/meeting/register/fcWmV62ER02GVVddO0oMyA#/registration \n\n\n\nThe Hatha Yoga practice is designed for a broad spectrum of students\, beginning to intermediate\, and some advanced level depending on the student’s ability and comfort level. Practice incorporates asana (postures)\, deep relaxation\, breathing focus\, and meditation. Practice can be modified based on the student’s physical ability and will help maintain your natural condition: a body of optimum health\, strength and flexibility\, a clear and calm mind\, and a life filled with peace and joy. The instructor may offer physical adjustments as needed to assist moving more fully into a given asana (posture). Bring your yoga mat if you have one. If not\, one can be provided. Supporting props such as a bolster\, yoga blocks\, yoga bricks\, and straps are provided as needed. Please wear comfortable clothing
URL:https://laurelridge.edu/event/stem-week-yoga-with-jeff-hollar/
LOCATION:VA
END:VEVENT
BEGIN:VEVENT
DTSTART;TZID=America/New_York:20260420T113000
DTEND;TZID=America/New_York:20260420T130000
DTSTAMP:20260426T003655
CREATED:20260317T185849Z
LAST-MODIFIED:20260317T185849Z
UID:10014294-1776684600-1776690000@laurelridge.edu
SUMMARY:Pawsitive Wellness Spring Picnics! (StressLESS Weeks!)
DESCRIPTION:Calling all Staff\, Employees\, and Students! Join Student Life and the Administrators for our Spring Picnic! This year we have a large itinerary of activities for everyone to enjoy! Join us for the picnic lunch\, a Community Resource Fair\, a Petting Zoo\, Lawn Games & Music\, and The Arrive Alive Driving Simulator! FC – 4/20 in Hazel Hall Atrium & Front Lawn from 11:30am-1pm. MC – 4/27 in the SUB Lounge & Lawn
URL:https://laurelridge.edu/event/pawsitive-wellness-spring-picnics-stressless-weeks/2026-04-20/
LOCATION:Middletown Campus: SUB Lounge & Lawn and Fauquier Campus: Hazel Hall Atrium & Front Lawn\, United States
CATEGORIES:Employee Events,Fauquier Student Events,Luray Student Events,Middletown Student Events,Student Events
ORGANIZER;CN="David Belyea":MAILTO:dbelyea@laurelridge.edu
END:VEVENT
END:VCALENDAR