BEGIN:VCALENDAR
VERSION:2.0
PRODID:-//Laurel Ridge Community College - ECPv6.10.1.1//NONSGML v1.0//EN
CALSCALE:GREGORIAN
METHOD:PUBLISH
X-ORIGINAL-URL:https://laurelridge.edu
X-WR-CALDESC:Events for Laurel Ridge Community College
REFRESH-INTERVAL;VALUE=DURATION:PT1H
X-Robots-Tag:noindex
X-PUBLISHED-TTL:PT1H
BEGIN:VTIMEZONE
TZID:America/New_York
BEGIN:DAYLIGHT
TZOFFSETFROM:-0500
TZOFFSETTO:-0400
TZNAME:EDT
DTSTART:20250309T070000
END:DAYLIGHT
BEGIN:STANDARD
TZOFFSETFROM:-0400
TZOFFSETTO:-0500
TZNAME:EST
DTSTART:20251102T060000
END:STANDARD
END:VTIMEZONE
BEGIN:VEVENT
DTSTART;TZID=America/New_York:20250218T160000
DTEND;TZID=America/New_York:20250218T180000
DTSTAMP:20260421T172520
CREATED:20241211T205914Z
LAST-MODIFIED:20241211T210029Z
UID:10007534-1739894400-1739901600@laurelridge.edu
SUMMARY:Cyber Club Meeting
DESCRIPTION:The Cyber Club will meet every Tuesday from 4-6pm at the Middletown Campus in Cornerstone Hall\, Room 306.
URL:https://laurelridge.edu/event/cyber-club-meeting-2/2025-02-18/
LOCATION:Middletown Campus: Cornerstone Hall\, Room 306\, VA\, United States
CATEGORIES:Club Event,Student Events
ORGANIZER;CN="Chris Lambert":MAILTO:clambert@laurelridge.edu
END:VEVENT
BEGIN:VEVENT
DTSTART;TZID=America/New_York:20250218T140000
DTEND;TZID=America/New_York:20250218T143000
DTSTAMP:20260421T172520
CREATED:20241211T231333Z
LAST-MODIFIED:20250206T212405Z
UID:10007562-1739887200-1739889000@laurelridge.edu
SUMMARY:Mindfulness Meditation
DESCRIPTION:Join Janet for Mindfulness Meditation for a weekly time to relax and recharge. Join in-person or on Zoom with this link: laurelridge.edu/meditation
URL:https://laurelridge.edu/event/mindful-meditation/2025-02-18/
LOCATION:Fauquier Campus\, Hazel Hall room 210; Online
CATEGORIES:Employee Events,Fauquier Student Events,Student Events,Virtual Student Events
ATTACH;FMTTYPE=image/jpeg:https://laurelridge.edu/wp-content/uploads/2024/12/Mindful-Meditation-Spring-2025-2.jpg
ORGANIZER;CN="David Belyea":MAILTO:dbelyea@laurelridge.edu
END:VEVENT
BEGIN:VEVENT
DTSTART;TZID=America/New_York:20250218T133000
DTEND;TZID=America/New_York:20250218T143000
DTSTAMP:20260421T172520
CREATED:20250108T214713Z
LAST-MODIFIED:20250108T214713Z
UID:10007650-1739885400-1739889000@laurelridge.edu
SUMMARY:L.E.O. (Lions Esports Org) Meeting
DESCRIPTION:LEO will meet weekly on Tuesdays from 1:30pm-2:30pm in LEO’s Esports Arena in the Student Union Building.
URL:https://laurelridge.edu/event/l-e-o-lions-esports-org-meeting/2025-02-18/
LOCATION:Middletown Campus: SUB\, LEO Esports Arena
CATEGORIES:Club Event,Student Events
ORGANIZER;CN="Chris Lambert":MAILTO:clambert@laurelridge.edu
END:VEVENT
BEGIN:VEVENT
DTSTART;TZID=America/New_York:20250218T130000
DTEND;TZID=America/New_York:20250218T160000
DTSTAMP:20260421T172520
CREATED:20241216T142653Z
LAST-MODIFIED:20250116T202228Z
UID:10007575-1739883600-1739894400@laurelridge.edu
SUMMARY:A.R.E. FREE HIV/STI Testing
DESCRIPTION:Visit the SUB Lounge and Room 120 for FREE HIV/STI Testing on 1/23 and 3/27 \nVisit Cornerstone Lobby and the Byrd Boardroom for FREE HIV/STI Testing on 2/18 and 4/15
URL:https://laurelridge.edu/event/a-r-e-free-hiv-sti-testing/2025-02-18/
LOCATION:Middletown Campus: SUB Lounge and RM 120\, Middletown\, VA\, United States
CATEGORIES:Middletown Student Events,Student Events
ATTACH;FMTTYPE=image/jpeg:https://laurelridge.edu/wp-content/uploads/2024/12/A.R.E-Testing.jpg
ORGANIZER;CN="David Belyea":MAILTO:dbelyea@laurelridge.edu
END:VEVENT
BEGIN:VEVENT
DTSTART;TZID=America/New_York:20250218T110000
DTEND;TZID=America/New_York:20250218T140000
DTSTAMP:20260421T172520
CREATED:20250211T224239Z
LAST-MODIFIED:20250211T224239Z
UID:10007913-1739876400-1739887200@laurelridge.edu
SUMMARY:Happy Ranch Food Truck
DESCRIPTION:Parked in the Hazel Hall Visitor’s Parking every Tuesday from 11am-2pm!
URL:https://laurelridge.edu/event/happy-ranch-food-truck/2025-02-18/
LOCATION:Fauquier Campus: Hazel Hall\, Visitor Parking Lot\, VA\, United States
CATEGORIES:Employee Events,Fauquier Student Events,Student Events
ATTACH;FMTTYPE=image/jpeg:https://laurelridge.edu/wp-content/uploads/2025/02/Happy-Family-Food-Truck-@-FC-2.jpg
ORGANIZER;CN="David Belyea":MAILTO:dbelyea@laurelridge.edu
END:VEVENT
BEGIN:VEVENT
DTSTART;TZID=America/New_York:20250218T090000
DTEND;TZID=America/New_York:20250218T160000
DTSTAMP:20260421T172520
CREATED:20250116T163734Z
LAST-MODIFIED:20250116T165023Z
UID:10007699-1739869200-1739894400@laurelridge.edu
SUMMARY:Black History Museum (Andrew Jackson School) Visit
DESCRIPTION:Come Join Student Life for a Field Trip to the Andrew Jackson School in Luray!
URL:https://laurelridge.edu/event/black-history-museum-andrew-jackson-school-visit/
LOCATION:Luray-Page County\, The REC Center/Andrew Jackson School\, Luray\, United States
CATEGORIES:Fauquier Student Events,Luray Student Events,Student Events
ATTACH;FMTTYPE=image/jpeg:https://laurelridge.edu/wp-content/uploads/2025/01/Andrew-Jackson-School-3.jpg
ORGANIZER;CN="David Belyea":MAILTO:dbelyea@laurelridge.edu
END:VEVENT
BEGIN:VEVENT
DTSTART;TZID=America/New_York:20250217T180000
DTEND;TZID=America/New_York:20250217T193000
DTSTAMP:20260421T172520
CREATED:20250108T165821Z
LAST-MODIFIED:20250108T165821Z
UID:10007628-1739815200-1739820600@laurelridge.edu
SUMMARY:Zuzu African Acrobats
DESCRIPTION:Come see Zuzu African Acrobats and witness circus style acrobatics and dance set to African music.
URL:https://laurelridge.edu/event/zuzu-african-acrobats/
LOCATION:Middletown Campus\, Corron Conference Center\, VA\, United States
CATEGORIES:Community Events,Employee Events,Middletown Student Events,Student Events
ATTACH;FMTTYPE=image/jpeg:https://laurelridge.edu/wp-content/uploads/2025/01/Zuzu-1.jpg
ORGANIZER;CN="David Belyea":MAILTO:dbelyea@laurelridge.edu
END:VEVENT
BEGIN:VEVENT
DTSTART;TZID=America/New_York:20250217T110000
DTEND;TZID=America/New_York:20250217T120000
DTSTAMP:20260421T172520
CREATED:20250211T163911Z
LAST-MODIFIED:20250211T163911Z
UID:10007910-1739790000-1739793600@laurelridge.edu
SUMMARY:Lola\, the Mini Therapy Horse (rescheduled)
DESCRIPTION:Lola’s back! Hang out with our favorite mini therapy horse from 11-12 today!
URL:https://laurelridge.edu/event/lola-the-mini-therapy-horse-rescheduled/
LOCATION:Fauquier Campus: Wolk & Hazel Halls\, VA\, United States
CATEGORIES:Fauquier Student Events,Student Events
ATTACH;FMTTYPE=image/jpeg:https://laurelridge.edu/wp-content/uploads/2025/02/RESCHEDULE-Lola-and-Friends-@-FC-Spring-25.jpg
ORGANIZER;CN="Chris Lambert":MAILTO:clambert@laurelridge.edu
END:VEVENT
BEGIN:VEVENT
DTSTART;TZID=America/New_York:20250213T153000
DTEND;TZID=America/New_York:20250213T220000
DTSTAMP:20260421T172520
CREATED:20250108T191722Z
LAST-MODIFIED:20250108T191722Z
UID:10007631-1739460600-1739484000@laurelridge.edu
SUMMARY:February Mystery Bus!
DESCRIPTION:Come Join Student Life on a Wintery Trip for February’s Mystery Bus. The destination may be a mystery\, but dress warmly for this chilling adventure!
URL:https://laurelridge.edu/event/february-mystery-bus/
LOCATION:Off Campus\, VA\, United States
CATEGORIES:Fauquier Student Events,Middletown Student Events,Student Events
ATTACH;FMTTYPE=image/jpeg:https://laurelridge.edu/wp-content/uploads/2025/01/Feb-Mystery-Bus-1.jpg
ORGANIZER;CN="David Belyea":MAILTO:dbelyea@laurelridge.edu
END:VEVENT
BEGIN:VEVENT
DTSTART;TZID=America/New_York:20250213T150000
DTEND;TZID=America/New_York:20250213T154500
DTSTAMP:20260421T172520
CREATED:20250128T174533Z
LAST-MODIFIED:20250128T174533Z
UID:10007754-1739458800-1739461500@laurelridge.edu
SUMMARY:Black History Month Trivia
DESCRIPTION:Play for a chance to win a $50 Visa Gift Card. Sign up ahead of time: laurelridge.edu/trivia.
URL:https://laurelridge.edu/event/black-history-month-trivia/
LOCATION:Virtual: Online via Zoom\, VA\, United States
CATEGORIES:Fauquier Student Events,Luray Student Events,Middletown Student Events,Student Events,Virtual Student Events
ATTACH;FMTTYPE=image/png:https://laurelridge.edu/wp-content/uploads/2025/01/Black-History-Month-trivia.png
ORGANIZER;CN="Chris Lambert":MAILTO:clambert@laurelridge.edu
END:VEVENT
BEGIN:VEVENT
DTSTART;TZID=America/New_York:20250212T170000
DTEND;TZID=America/New_York:20250212T190000
DTSTAMP:20260421T172520
CREATED:20250116T160829Z
LAST-MODIFIED:20250211T231946Z
UID:10007698-1739379600-1739386800@laurelridge.edu
SUMMARY:Opposites Attract!
DESCRIPTION:Due to Inclement Weather and The College Closure\, this event has been CANCELLED.\nStudent Life and A.R.E. are hosting a party. Come join us for Pizza\, Giveaways\, Karaoke\, Crafting Activities\, Free HIV/STI Testing and a Piñata!
URL:https://laurelridge.edu/event/opposites-attract/
LOCATION:MIddletown Campus\, Student Union Building\, Lounge\, VA\, United States
CATEGORIES:Employee Events,Middletown Student Events,Student Events
ATTACH;FMTTYPE=image/jpeg:https://laurelridge.edu/wp-content/uploads/2025/01/Opposites-Attract-1.jpg
ORGANIZER;CN="David Belyea":MAILTO:dbelyea@laurelridge.edu
END:VEVENT
BEGIN:VEVENT
DTSTART;TZID=America/New_York:20250212T110000
DTEND;TZID=America/New_York:20250212T120000
DTSTAMP:20260421T172520
CREATED:20241211T210940Z
LAST-MODIFIED:20250211T164058Z
UID:10007547-1739358000-1739361600@laurelridge.edu
SUMMARY:Lola\, the Mini Therapy Horse (canceled)
DESCRIPTION:Due to impending weather for February 12th\, Lola’s visit has been rescheduled to February 17th.
URL:https://laurelridge.edu/event/lola-the-mini-therapy-horse/
LOCATION:Fauquier Campus: Wolk & Hazel Halls\, VA\, United States
CATEGORIES:Fauquier Student Events,Student Events
ATTACH;FMTTYPE=image/jpeg:https://laurelridge.edu/wp-content/uploads/2024/12/Lola-and-Friends-@-FC-Spring-25-1.jpg
ORGANIZER;CN="Chris Lambert":MAILTO:clambert@laurelridge.edu
END:VEVENT
BEGIN:VEVENT
DTSTART;TZID=America/New_York:20250212T090000
DTEND;TZID=America/New_York:20250212T100000
DTSTAMP:20260421T172520
CREATED:20250108T170254Z
LAST-MODIFIED:20250108T170254Z
UID:10007630-1739350800-1739354400@laurelridge.edu
SUMMARY:Coffee & Donuts w/ a Cop
DESCRIPTION:Enjoy some warm coffee\, delicious donuts\, and some one and one time with a Campus Police Officer.
URL:https://laurelridge.edu/event/coffee-donuts-w-a-cop/2025-02-12/
LOCATION:MIddletown Campus\, Student Union Building\, Lounge\, VA\, United States
ATTACH;FMTTYPE=image/jpeg:https://laurelridge.edu/wp-content/uploads/2025/01/Coffee-and-Donuts.jpg
ORGANIZER;CN="David Belyea":MAILTO:dbelyea@laurelridge.edu
END:VEVENT
BEGIN:VEVENT
DTSTART;TZID=America/New_York:20250211T150000
DTEND;TZID=America/New_York:20250211T170000
DTSTAMP:20260421T172520
CREATED:20250123T212135Z
LAST-MODIFIED:20250123T212135Z
UID:10007749-1739286000-1739293200@laurelridge.edu
SUMMARY:Smash Bros Tournament
DESCRIPTION:Are you a fan of Super Smash Bros? Are you up for a friendly tournament? Battle other students in LEO’s Esports Arena as your favorite Smash character. Choose from a variety of characters from beloved franchises like The Legend of Zelda\, Super Mario\, Metroid\, Fire Emblem\, Pokémon\, and so much more! Prizes and Glory await the victor! Join us at 3:15pm to compete and watch.
URL:https://laurelridge.edu/event/smash-bros-tournament/2025-02-11/
LOCATION:Middletown Campus: Lions Den Esports Arena\, VA\, United States
CATEGORIES:Middletown Student Events,Student Events
ORGANIZER;CN="David Belyea":MAILTO:dbelyea@laurelridge.edu
END:VEVENT
BEGIN:VEVENT
DTSTART;TZID=America/New_York:20250211T080000
DTEND;TZID=America/New_York:20250211T110000
DTSTAMP:20260421T172520
CREATED:20260421T202322Z
LAST-MODIFIED:20260421T202322Z
UID:10015534-1739260800-1739271600@laurelridge.edu
SUMMARY:Food Truck: Good News Coffee Company
DESCRIPTION:Good News Coffee Company will setup outside Cornerstone Hall most Tuesdays from 8am-11am. Be sure to stop by for your morning coffee…and other goodies!
URL:https://laurelridge.edu/event/food-truck-good-news-coffee-company-268/
LOCATION:Middletown Campus: Cornerstone Hall\, Visitor Parking Lot\, VA\, United States
CATEGORIES:Middletown Student Events,Student Events
ATTACH;FMTTYPE=image/jpeg:https://laurelridge.edu/wp-content/uploads/2025/01/Coffee-Food-Truck-1.jpg
ORGANIZER;CN="Chris Lambert":MAILTO:clambert@laurelridge.edu
END:VEVENT
BEGIN:VEVENT
DTSTART;TZID=America/New_York:20250211T080000
DTEND;TZID=America/New_York:20250211T110000
DTSTAMP:20260421T172520
CREATED:20260420T202327Z
LAST-MODIFIED:20260420T202327Z
UID:10015532-1739260800-1739271600@laurelridge.edu
SUMMARY:Food Truck: Good News Coffee Company
DESCRIPTION:Good News Coffee Company will setup outside Cornerstone Hall most Tuesdays from 8am-11am. Be sure to stop by for your morning coffee…and other goodies!
URL:https://laurelridge.edu/event/food-truck-good-news-coffee-company-267/
LOCATION:Middletown Campus: Cornerstone Hall\, Visitor Parking Lot\, VA\, United States
CATEGORIES:Middletown Student Events,Student Events
ATTACH;FMTTYPE=image/jpeg:https://laurelridge.edu/wp-content/uploads/2025/01/Coffee-Food-Truck-1.jpg
ORGANIZER;CN="Chris Lambert":MAILTO:clambert@laurelridge.edu
END:VEVENT
BEGIN:VEVENT
DTSTART;TZID=America/New_York:20250211T080000
DTEND;TZID=America/New_York:20250211T110000
DTSTAMP:20260421T172520
CREATED:20260419T202317Z
LAST-MODIFIED:20260419T202317Z
UID:10015531-1739260800-1739271600@laurelridge.edu
SUMMARY:Food Truck: Good News Coffee Company
DESCRIPTION:Good News Coffee Company will setup outside Cornerstone Hall most Tuesdays from 8am-11am. Be sure to stop by for your morning coffee…and other goodies!
URL:https://laurelridge.edu/event/food-truck-good-news-coffee-company-266/
LOCATION:Middletown Campus: Cornerstone Hall\, Visitor Parking Lot\, VA\, United States
CATEGORIES:Middletown Student Events,Student Events
ATTACH;FMTTYPE=image/jpeg:https://laurelridge.edu/wp-content/uploads/2025/01/Coffee-Food-Truck-1.jpg
ORGANIZER;CN="Chris Lambert":MAILTO:clambert@laurelridge.edu
END:VEVENT
BEGIN:VEVENT
DTSTART;TZID=America/New_York:20250211T080000
DTEND;TZID=America/New_York:20250211T110000
DTSTAMP:20260421T172520
CREATED:20260418T202415Z
LAST-MODIFIED:20260418T202415Z
UID:10015529-1739260800-1739271600@laurelridge.edu
SUMMARY:Food Truck: Good News Coffee Company
DESCRIPTION:Good News Coffee Company will setup outside Cornerstone Hall most Tuesdays from 8am-11am. Be sure to stop by for your morning coffee…and other goodies!
URL:https://laurelridge.edu/event/food-truck-good-news-coffee-company-264/
LOCATION:Middletown Campus: Cornerstone Hall\, Visitor Parking Lot\, VA\, United States
CATEGORIES:Middletown Student Events,Student Events
ATTACH;FMTTYPE=image/jpeg:https://laurelridge.edu/wp-content/uploads/2025/01/Coffee-Food-Truck-1.jpg
ORGANIZER;CN="Chris Lambert":MAILTO:clambert@laurelridge.edu
END:VEVENT
BEGIN:VEVENT
DTSTART;TZID=America/New_York:20250211T080000
DTEND;TZID=America/New_York:20250211T110000
DTSTAMP:20260421T172520
CREATED:20260418T202415Z
LAST-MODIFIED:20260418T202415Z
UID:10015530-1739260800-1739271600@laurelridge.edu
SUMMARY:Food Truck: Good News Coffee Company
DESCRIPTION:Good News Coffee Company will setup outside Cornerstone Hall most Tuesdays from 8am-11am. Be sure to stop by for your morning coffee…and other goodies!
URL:https://laurelridge.edu/event/food-truck-good-news-coffee-company-265/
LOCATION:Middletown Campus: Cornerstone Hall\, Visitor Parking Lot\, VA\, United States
CATEGORIES:Middletown Student Events,Student Events
ATTACH;FMTTYPE=image/jpeg:https://laurelridge.edu/wp-content/uploads/2025/01/Coffee-Food-Truck-1.jpg
ORGANIZER;CN="Chris Lambert":MAILTO:clambert@laurelridge.edu
END:VEVENT
BEGIN:VEVENT
DTSTART;TZID=America/New_York:20250211T080000
DTEND;TZID=America/New_York:20250211T110000
DTSTAMP:20260421T172520
CREATED:20260417T202322Z
LAST-MODIFIED:20260417T202322Z
UID:10015528-1739260800-1739271600@laurelridge.edu
SUMMARY:Food Truck: Good News Coffee Company
DESCRIPTION:Good News Coffee Company will setup outside Cornerstone Hall most Tuesdays from 8am-11am. Be sure to stop by for your morning coffee…and other goodies!
URL:https://laurelridge.edu/event/food-truck-good-news-coffee-company-263/
LOCATION:Middletown Campus: Cornerstone Hall\, Visitor Parking Lot\, VA\, United States
CATEGORIES:Middletown Student Events,Student Events
ATTACH;FMTTYPE=image/jpeg:https://laurelridge.edu/wp-content/uploads/2025/01/Coffee-Food-Truck-1.jpg
ORGANIZER;CN="Chris Lambert":MAILTO:clambert@laurelridge.edu
END:VEVENT
BEGIN:VEVENT
DTSTART;TZID=America/New_York:20250211T080000
DTEND;TZID=America/New_York:20250211T110000
DTSTAMP:20260421T172520
CREATED:20260416T202415Z
LAST-MODIFIED:20260416T202415Z
UID:10015524-1739260800-1739271600@laurelridge.edu
SUMMARY:Food Truck: Good News Coffee Company
DESCRIPTION:Good News Coffee Company will setup outside Cornerstone Hall most Tuesdays from 8am-11am. Be sure to stop by for your morning coffee…and other goodies!
URL:https://laurelridge.edu/event/food-truck-good-news-coffee-company-262/
LOCATION:Middletown Campus: Cornerstone Hall\, Visitor Parking Lot\, VA\, United States
CATEGORIES:Middletown Student Events,Student Events
ATTACH;FMTTYPE=image/jpeg:https://laurelridge.edu/wp-content/uploads/2025/01/Coffee-Food-Truck-1.jpg
ORGANIZER;CN="Chris Lambert":MAILTO:clambert@laurelridge.edu
END:VEVENT
BEGIN:VEVENT
DTSTART;TZID=America/New_York:20250211T080000
DTEND;TZID=America/New_York:20250211T110000
DTSTAMP:20260421T172520
CREATED:20260415T202321Z
LAST-MODIFIED:20260415T202321Z
UID:10015522-1739260800-1739271600@laurelridge.edu
SUMMARY:Food Truck: Good News Coffee Company
DESCRIPTION:Good News Coffee Company will setup outside Cornerstone Hall most Tuesdays from 8am-11am. Be sure to stop by for your morning coffee…and other goodies!
URL:https://laurelridge.edu/event/food-truck-good-news-coffee-company-261/
LOCATION:Middletown Campus: Cornerstone Hall\, Visitor Parking Lot\, VA\, United States
CATEGORIES:Middletown Student Events,Student Events
ATTACH;FMTTYPE=image/jpeg:https://laurelridge.edu/wp-content/uploads/2025/01/Coffee-Food-Truck-1.jpg
ORGANIZER;CN="Chris Lambert":MAILTO:clambert@laurelridge.edu
END:VEVENT
BEGIN:VEVENT
DTSTART;TZID=America/New_York:20250211T080000
DTEND;TZID=America/New_York:20250211T110000
DTSTAMP:20260421T172520
CREATED:20260414T202317Z
LAST-MODIFIED:20260414T202317Z
UID:10015019-1739260800-1739271600@laurelridge.edu
SUMMARY:Food Truck: Good News Coffee Company
DESCRIPTION:Good News Coffee Company will setup outside Cornerstone Hall most Tuesdays from 8am-11am. Be sure to stop by for your morning coffee…and other goodies!
URL:https://laurelridge.edu/event/food-truck-good-news-coffee-company-260/
LOCATION:Middletown Campus: Cornerstone Hall\, Visitor Parking Lot\, VA\, United States
CATEGORIES:Middletown Student Events,Student Events
ATTACH;FMTTYPE=image/jpeg:https://laurelridge.edu/wp-content/uploads/2025/01/Coffee-Food-Truck-1.jpg
ORGANIZER;CN="Chris Lambert":MAILTO:clambert@laurelridge.edu
END:VEVENT
BEGIN:VEVENT
DTSTART;TZID=America/New_York:20250211T080000
DTEND;TZID=America/New_York:20250211T110000
DTSTAMP:20260421T172520
CREATED:20260413T202319Z
LAST-MODIFIED:20260413T202319Z
UID:10015018-1739260800-1739271600@laurelridge.edu
SUMMARY:Food Truck: Good News Coffee Company
DESCRIPTION:Good News Coffee Company will setup outside Cornerstone Hall most Tuesdays from 8am-11am. Be sure to stop by for your morning coffee…and other goodies!
URL:https://laurelridge.edu/event/food-truck-good-news-coffee-company-259/
LOCATION:Middletown Campus: Cornerstone Hall\, Visitor Parking Lot\, VA\, United States
CATEGORIES:Middletown Student Events,Student Events
ATTACH;FMTTYPE=image/jpeg:https://laurelridge.edu/wp-content/uploads/2025/01/Coffee-Food-Truck-1.jpg
ORGANIZER;CN="Chris Lambert":MAILTO:clambert@laurelridge.edu
END:VEVENT
BEGIN:VEVENT
DTSTART;TZID=America/New_York:20250211T080000
DTEND;TZID=America/New_York:20250211T110000
DTSTAMP:20260421T172520
CREATED:20260412T202321Z
LAST-MODIFIED:20260412T202321Z
UID:10015016-1739260800-1739271600@laurelridge.edu
SUMMARY:Food Truck: Good News Coffee Company
DESCRIPTION:Good News Coffee Company will setup outside Cornerstone Hall most Tuesdays from 8am-11am. Be sure to stop by for your morning coffee…and other goodies!
URL:https://laurelridge.edu/event/food-truck-good-news-coffee-company-258/
LOCATION:Middletown Campus: Cornerstone Hall\, Visitor Parking Lot\, VA\, United States
CATEGORIES:Middletown Student Events,Student Events
ATTACH;FMTTYPE=image/jpeg:https://laurelridge.edu/wp-content/uploads/2025/01/Coffee-Food-Truck-1.jpg
ORGANIZER;CN="Chris Lambert":MAILTO:clambert@laurelridge.edu
END:VEVENT
BEGIN:VEVENT
DTSTART;TZID=America/New_York:20250211T080000
DTEND;TZID=America/New_York:20250211T110000
DTSTAMP:20260421T172520
CREATED:20260411T202318Z
LAST-MODIFIED:20260411T202318Z
UID:10015015-1739260800-1739271600@laurelridge.edu
SUMMARY:Food Truck: Good News Coffee Company
DESCRIPTION:Good News Coffee Company will setup outside Cornerstone Hall most Tuesdays from 8am-11am. Be sure to stop by for your morning coffee…and other goodies!
URL:https://laurelridge.edu/event/food-truck-good-news-coffee-company-257/
LOCATION:Middletown Campus: Cornerstone Hall\, Visitor Parking Lot\, VA\, United States
CATEGORIES:Middletown Student Events,Student Events
ATTACH;FMTTYPE=image/jpeg:https://laurelridge.edu/wp-content/uploads/2025/01/Coffee-Food-Truck-1.jpg
ORGANIZER;CN="Chris Lambert":MAILTO:clambert@laurelridge.edu
END:VEVENT
BEGIN:VEVENT
DTSTART;TZID=America/New_York:20250211T080000
DTEND;TZID=America/New_York:20250211T110000
DTSTAMP:20260421T172520
CREATED:20260410T202317Z
LAST-MODIFIED:20260410T202317Z
UID:10015014-1739260800-1739271600@laurelridge.edu
SUMMARY:Food Truck: Good News Coffee Company
DESCRIPTION:Good News Coffee Company will setup outside Cornerstone Hall most Tuesdays from 8am-11am. Be sure to stop by for your morning coffee…and other goodies!
URL:https://laurelridge.edu/event/food-truck-good-news-coffee-company-256/
LOCATION:Middletown Campus: Cornerstone Hall\, Visitor Parking Lot\, VA\, United States
CATEGORIES:Middletown Student Events,Student Events
ATTACH;FMTTYPE=image/jpeg:https://laurelridge.edu/wp-content/uploads/2025/01/Coffee-Food-Truck-1.jpg
ORGANIZER;CN="Chris Lambert":MAILTO:clambert@laurelridge.edu
END:VEVENT
BEGIN:VEVENT
DTSTART;TZID=America/New_York:20250211T080000
DTEND;TZID=America/New_York:20250211T110000
DTSTAMP:20260421T172520
CREATED:20260409T202416Z
LAST-MODIFIED:20260409T202416Z
UID:10015010-1739260800-1739271600@laurelridge.edu
SUMMARY:Food Truck: Good News Coffee Company
DESCRIPTION:Good News Coffee Company will setup outside Cornerstone Hall most Tuesdays from 8am-11am. Be sure to stop by for your morning coffee…and other goodies!
URL:https://laurelridge.edu/event/food-truck-good-news-coffee-company-255/
LOCATION:Middletown Campus: Cornerstone Hall\, Visitor Parking Lot\, VA\, United States
CATEGORIES:Middletown Student Events,Student Events
ATTACH;FMTTYPE=image/jpeg:https://laurelridge.edu/wp-content/uploads/2025/01/Coffee-Food-Truck-1.jpg
ORGANIZER;CN="Chris Lambert":MAILTO:clambert@laurelridge.edu
END:VEVENT
BEGIN:VEVENT
DTSTART;TZID=America/New_York:20250211T080000
DTEND;TZID=America/New_York:20250211T110000
DTSTAMP:20260421T172520
CREATED:20260408T202415Z
LAST-MODIFIED:20260408T202415Z
UID:10015008-1739260800-1739271600@laurelridge.edu
SUMMARY:Food Truck: Good News Coffee Company
DESCRIPTION:Good News Coffee Company will setup outside Cornerstone Hall most Tuesdays from 8am-11am. Be sure to stop by for your morning coffee…and other goodies!
URL:https://laurelridge.edu/event/food-truck-good-news-coffee-company-254/
LOCATION:Middletown Campus: Cornerstone Hall\, Visitor Parking Lot\, VA\, United States
CATEGORIES:Middletown Student Events,Student Events
ATTACH;FMTTYPE=image/jpeg:https://laurelridge.edu/wp-content/uploads/2025/01/Coffee-Food-Truck-1.jpg
ORGANIZER;CN="Chris Lambert":MAILTO:clambert@laurelridge.edu
END:VEVENT
BEGIN:VEVENT
DTSTART;TZID=America/New_York:20250211T080000
DTEND;TZID=America/New_York:20250211T110000
DTSTAMP:20260421T172520
CREATED:20260407T202317Z
LAST-MODIFIED:20260407T202317Z
UID:10015003-1739260800-1739271600@laurelridge.edu
SUMMARY:Food Truck: Good News Coffee Company
DESCRIPTION:Good News Coffee Company will setup outside Cornerstone Hall most Tuesdays from 8am-11am. Be sure to stop by for your morning coffee…and other goodies!
URL:https://laurelridge.edu/event/food-truck-good-news-coffee-company-253/
LOCATION:Middletown Campus: Cornerstone Hall\, Visitor Parking Lot\, VA\, United States
CATEGORIES:Middletown Student Events,Student Events
ATTACH;FMTTYPE=image/jpeg:https://laurelridge.edu/wp-content/uploads/2025/01/Coffee-Food-Truck-1.jpg
ORGANIZER;CN="Chris Lambert":MAILTO:clambert@laurelridge.edu
END:VEVENT
END:VCALENDAR