BEGIN:VCALENDAR
VERSION:2.0
PRODID:-//Laurel Ridge Community College - ECPv6.10.1.1//NONSGML v1.0//EN
CALSCALE:GREGORIAN
METHOD:PUBLISH
X-ORIGINAL-URL:https://laurelridge.edu
X-WR-CALDESC:Events for Laurel Ridge Community College
REFRESH-INTERVAL;VALUE=DURATION:PT1H
X-Robots-Tag:noindex
X-PUBLISHED-TTL:PT1H
BEGIN:VTIMEZONE
TZID:America/New_York
BEGIN:DAYLIGHT
TZOFFSETFROM:-0500
TZOFFSETTO:-0400
TZNAME:EDT
DTSTART:20250309T070000
END:DAYLIGHT
BEGIN:STANDARD
TZOFFSETFROM:-0400
TZOFFSETTO:-0500
TZNAME:EST
DTSTART:20251102T060000
END:STANDARD
END:VTIMEZONE
BEGIN:VEVENT
DTSTART;TZID=America/New_York:20250210T123000
DTEND;TZID=America/New_York:20250210T133000
DTSTAMP:20260419T221228
CREATED:20250108T162923Z
LAST-MODIFIED:20250108T163715Z
UID:10007597-1739190600-1739194200@laurelridge.edu
SUMMARY:Love Poetry Contest
DESCRIPTION:February is the month for love\, but what is love\, what does it mean to you? For this competition\, the goal is to define what “love” means to you and portray how you feel about “love.” There is no right or wrong answer or way to feel.  \nPlease reach out Student Life at engage@laurelridge.edu by 2/7 to let us know you plan to participate. \nJoin Us on Zoom: laurelridge.edu/speechcontest \nRules: \n\nThe student is tasked with creating an original poem\, short story\, or artistic visual representation to show the audience how they feel about and how they define “love” in their life. Using Imagery and detail should make the audience feel\, see\, think\, experience “love.”\nIf presenting a visual work\, the student should provide a photo or link to the piece as well as including a video description (2-4 minutes) that discusses the work.\nIf presenting a poem or short story\, the student should verbally present their work to the audience (2-4 minutes in length).\nIf a student cannot be present on Zoom for this event\, they may send their materials to Student Life at engage@laurelridge.edu no later than 11:59PM 2/9/2025.
URL:https://laurelridge.edu/event/love-poetry-contest/
LOCATION:Zoom Meeting – Online\, VA\, United States
CATEGORIES:Student Events,Virtual Student Events
ATTACH;FMTTYPE=image/jpeg:https://laurelridge.edu/wp-content/uploads/2025/01/Poetry-1.jpg
ORGANIZER;CN="David Belyea":MAILTO:dbelyea@laurelridge.edu
END:VEVENT
BEGIN:VEVENT
DTSTART;TZID=America/New_York:20250210T130000
DTEND;TZID=America/New_York:20250210T150000
DTSTAMP:20260419T221228
CREATED:20241218T150008Z
LAST-MODIFIED:20250114T150332Z
UID:10007588-1739192400-1739199600@laurelridge.edu
SUMMARY:Mural Paint and Sips
DESCRIPTION:Come Enjoy a Relaxing Event of Creative Painting and Exquisite Non-Alcoholic Drinks! \nVisit Middletown Campus for All Dates including April 21st! \nVisit Fauquier Campus for the final event on April 23rd!
URL:https://laurelridge.edu/event/mural-paint-and-sips/2025-02-10/
LOCATION:Middletown Campus: Cornerstone Hall\, Room 502\, VA\, United States
CATEGORIES:Employee Events,Middletown Student Events,Student Events
ATTACH;FMTTYPE=image/jpeg:https://laurelridge.edu/wp-content/uploads/2024/12/Mural-Paint-and-Sips-.jpg
END:VEVENT
BEGIN:VEVENT
DTSTART;TZID=America/New_York:20250210T163000
DTEND;TZID=America/New_York:20250210T173000
DTSTAMP:20260419T221228
CREATED:20250206T125739Z
LAST-MODIFIED:20250206T125739Z
UID:10007787-1739205000-1739208600@laurelridge.edu
SUMMARY:Creative Writing Club Meeting
DESCRIPTION:The Creative Writing Club meets at the Middletown Campus every other Monday in Cornerstone Hall from 4:30pm-5:30pm.
URL:https://laurelridge.edu/event/creative-writing-club-meeting-2/2025-02-10/
LOCATION:Middletown Campus: Cornerstone Hall\, Room 210
CATEGORIES:Club Event,Student Events
ORGANIZER;CN="Chris Lambert":MAILTO:clambert@laurelridge.edu
END:VEVENT
BEGIN:VEVENT
DTSTART;TZID=America/New_York:20250211T080000
DTEND;TZID=America/New_York:20250211T110000
DTSTAMP:20260419T221228
CREATED:20250122T185357Z
LAST-MODIFIED:20250320T181901Z
UID:10007730-1739260800-1739271600@laurelridge.edu
SUMMARY:Food Truck: Good News Coffee Company
DESCRIPTION:Good News Coffee Company will setup outside Cornerstone Hall most Tuesdays from 8am-11am. Be sure to stop by for your morning coffee…and other goodies!
URL:https://laurelridge.edu/event/food-truck-good-news-coffee-company/2025-02-11/
LOCATION:Middletown Campus: Cornerstone Hall\, Visitor Parking Lot\, VA\, United States
CATEGORIES:Middletown Student Events,Student Events
ATTACH;FMTTYPE=image/jpeg:https://laurelridge.edu/wp-content/uploads/2025/01/Coffee-Food-Truck-1.jpg
ORGANIZER;CN="Chris Lambert":MAILTO:clambert@laurelridge.edu
END:VEVENT
BEGIN:VEVENT
DTSTART;TZID=America/New_York:20250211T080000
DTEND;TZID=America/New_York:20250211T110000
DTSTAMP:20260419T221228
CREATED:20250805T202318Z
LAST-MODIFIED:20250805T202318Z
UID:10008519-1739260800-1739271600@laurelridge.edu
SUMMARY:Food Truck: Good News Coffee Company
DESCRIPTION:Good News Coffee Company will setup outside Cornerstone Hall most Tuesdays from 8am-11am. Be sure to stop by for your morning coffee…and other goodies!
URL:https://laurelridge.edu/event/food-truck-good-news-coffee-company-4/
LOCATION:Middletown Campus: Cornerstone Hall\, Visitor Parking Lot\, VA\, United States
CATEGORIES:Middletown Student Events,Student Events
ATTACH;FMTTYPE=image/jpeg:https://laurelridge.edu/wp-content/uploads/2025/01/Coffee-Food-Truck-1.jpg
ORGANIZER;CN="Chris Lambert":MAILTO:clambert@laurelridge.edu
END:VEVENT
BEGIN:VEVENT
DTSTART;TZID=America/New_York:20250211T080000
DTEND;TZID=America/New_York:20250211T110000
DTSTAMP:20260419T221228
CREATED:20250806T202317Z
LAST-MODIFIED:20250806T202317Z
UID:10008675-1739260800-1739271600@laurelridge.edu
SUMMARY:Food Truck: Good News Coffee Company
DESCRIPTION:Good News Coffee Company will setup outside Cornerstone Hall most Tuesdays from 8am-11am. Be sure to stop by for your morning coffee…and other goodies!
URL:https://laurelridge.edu/event/food-truck-good-news-coffee-company-5/
LOCATION:Middletown Campus: Cornerstone Hall\, Visitor Parking Lot\, VA\, United States
CATEGORIES:Middletown Student Events,Student Events
ATTACH;FMTTYPE=image/jpeg:https://laurelridge.edu/wp-content/uploads/2025/01/Coffee-Food-Truck-1.jpg
ORGANIZER;CN="Chris Lambert":MAILTO:clambert@laurelridge.edu
END:VEVENT
BEGIN:VEVENT
DTSTART;TZID=America/New_York:20250211T080000
DTEND;TZID=America/New_York:20250211T110000
DTSTAMP:20260419T221228
CREATED:20250807T202317Z
LAST-MODIFIED:20250807T202317Z
UID:10008869-1739260800-1739271600@laurelridge.edu
SUMMARY:Food Truck: Good News Coffee Company
DESCRIPTION:Good News Coffee Company will setup outside Cornerstone Hall most Tuesdays from 8am-11am. Be sure to stop by for your morning coffee…and other goodies!
URL:https://laurelridge.edu/event/food-truck-good-news-coffee-company-6/
LOCATION:Middletown Campus: Cornerstone Hall\, Visitor Parking Lot\, VA\, United States
CATEGORIES:Middletown Student Events,Student Events
ATTACH;FMTTYPE=image/jpeg:https://laurelridge.edu/wp-content/uploads/2025/01/Coffee-Food-Truck-1.jpg
ORGANIZER;CN="Chris Lambert":MAILTO:clambert@laurelridge.edu
END:VEVENT
BEGIN:VEVENT
DTSTART;TZID=America/New_York:20250211T080000
DTEND;TZID=America/New_York:20250211T110000
DTSTAMP:20260419T221228
CREATED:20250808T202320Z
LAST-MODIFIED:20250808T202320Z
UID:10008871-1739260800-1739271600@laurelridge.edu
SUMMARY:Food Truck: Good News Coffee Company
DESCRIPTION:Good News Coffee Company will setup outside Cornerstone Hall most Tuesdays from 8am-11am. Be sure to stop by for your morning coffee…and other goodies!
URL:https://laurelridge.edu/event/food-truck-good-news-coffee-company-7/
LOCATION:Middletown Campus: Cornerstone Hall\, Visitor Parking Lot\, VA\, United States
CATEGORIES:Middletown Student Events,Student Events
ATTACH;FMTTYPE=image/jpeg:https://laurelridge.edu/wp-content/uploads/2025/01/Coffee-Food-Truck-1.jpg
ORGANIZER;CN="Chris Lambert":MAILTO:clambert@laurelridge.edu
END:VEVENT
BEGIN:VEVENT
DTSTART;TZID=America/New_York:20250211T080000
DTEND;TZID=America/New_York:20250211T110000
DTSTAMP:20260419T221228
CREATED:20250809T202323Z
LAST-MODIFIED:20250809T202323Z
UID:10008874-1739260800-1739271600@laurelridge.edu
SUMMARY:Food Truck: Good News Coffee Company
DESCRIPTION:Good News Coffee Company will setup outside Cornerstone Hall most Tuesdays from 8am-11am. Be sure to stop by for your morning coffee…and other goodies!
URL:https://laurelridge.edu/event/food-truck-good-news-coffee-company-8/
LOCATION:Middletown Campus: Cornerstone Hall\, Visitor Parking Lot\, VA\, United States
CATEGORIES:Middletown Student Events,Student Events
ATTACH;FMTTYPE=image/jpeg:https://laurelridge.edu/wp-content/uploads/2025/01/Coffee-Food-Truck-1.jpg
ORGANIZER;CN="Chris Lambert":MAILTO:clambert@laurelridge.edu
END:VEVENT
BEGIN:VEVENT
DTSTART;TZID=America/New_York:20250211T080000
DTEND;TZID=America/New_York:20250211T110000
DTSTAMP:20260419T221228
CREATED:20250810T202320Z
LAST-MODIFIED:20250810T202320Z
UID:10008875-1739260800-1739271600@laurelridge.edu
SUMMARY:Food Truck: Good News Coffee Company
DESCRIPTION:Good News Coffee Company will setup outside Cornerstone Hall most Tuesdays from 8am-11am. Be sure to stop by for your morning coffee…and other goodies!
URL:https://laurelridge.edu/event/food-truck-good-news-coffee-company-9/
LOCATION:Middletown Campus: Cornerstone Hall\, Visitor Parking Lot\, VA\, United States
CATEGORIES:Middletown Student Events,Student Events
ATTACH;FMTTYPE=image/jpeg:https://laurelridge.edu/wp-content/uploads/2025/01/Coffee-Food-Truck-1.jpg
ORGANIZER;CN="Chris Lambert":MAILTO:clambert@laurelridge.edu
END:VEVENT
BEGIN:VEVENT
DTSTART;TZID=America/New_York:20250211T080000
DTEND;TZID=America/New_York:20250211T110000
DTSTAMP:20260419T221228
CREATED:20250811T202318Z
LAST-MODIFIED:20250811T202318Z
UID:10008876-1739260800-1739271600@laurelridge.edu
SUMMARY:Food Truck: Good News Coffee Company
DESCRIPTION:Good News Coffee Company will setup outside Cornerstone Hall most Tuesdays from 8am-11am. Be sure to stop by for your morning coffee…and other goodies!
URL:https://laurelridge.edu/event/food-truck-good-news-coffee-company-10/
LOCATION:Middletown Campus: Cornerstone Hall\, Visitor Parking Lot\, VA\, United States
CATEGORIES:Middletown Student Events,Student Events
ATTACH;FMTTYPE=image/jpeg:https://laurelridge.edu/wp-content/uploads/2025/01/Coffee-Food-Truck-1.jpg
ORGANIZER;CN="Chris Lambert":MAILTO:clambert@laurelridge.edu
END:VEVENT
BEGIN:VEVENT
DTSTART;TZID=America/New_York:20250211T080000
DTEND;TZID=America/New_York:20250211T110000
DTSTAMP:20260419T221228
CREATED:20250812T202317Z
LAST-MODIFIED:20250812T202317Z
UID:10008877-1739260800-1739271600@laurelridge.edu
SUMMARY:Food Truck: Good News Coffee Company
DESCRIPTION:Good News Coffee Company will setup outside Cornerstone Hall most Tuesdays from 8am-11am. Be sure to stop by for your morning coffee…and other goodies!
URL:https://laurelridge.edu/event/food-truck-good-news-coffee-company-11/
LOCATION:Middletown Campus: Cornerstone Hall\, Visitor Parking Lot\, VA\, United States
CATEGORIES:Middletown Student Events,Student Events
ATTACH;FMTTYPE=image/jpeg:https://laurelridge.edu/wp-content/uploads/2025/01/Coffee-Food-Truck-1.jpg
ORGANIZER;CN="Chris Lambert":MAILTO:clambert@laurelridge.edu
END:VEVENT
BEGIN:VEVENT
DTSTART;TZID=America/New_York:20250211T080000
DTEND;TZID=America/New_York:20250211T110000
DTSTAMP:20260419T221228
CREATED:20250813T202319Z
LAST-MODIFIED:20250813T202319Z
UID:10008936-1739260800-1739271600@laurelridge.edu
SUMMARY:Food Truck: Good News Coffee Company
DESCRIPTION:Good News Coffee Company will setup outside Cornerstone Hall most Tuesdays from 8am-11am. Be sure to stop by for your morning coffee…and other goodies!
URL:https://laurelridge.edu/event/food-truck-good-news-coffee-company-12/
LOCATION:Middletown Campus: Cornerstone Hall\, Visitor Parking Lot\, VA\, United States
CATEGORIES:Middletown Student Events,Student Events
ATTACH;FMTTYPE=image/jpeg:https://laurelridge.edu/wp-content/uploads/2025/01/Coffee-Food-Truck-1.jpg
ORGANIZER;CN="Chris Lambert":MAILTO:clambert@laurelridge.edu
END:VEVENT
BEGIN:VEVENT
DTSTART;TZID=America/New_York:20250211T080000
DTEND;TZID=America/New_York:20250211T110000
DTSTAMP:20260419T221228
CREATED:20250814T202320Z
LAST-MODIFIED:20250814T202320Z
UID:10008944-1739260800-1739271600@laurelridge.edu
SUMMARY:Food Truck: Good News Coffee Company
DESCRIPTION:Good News Coffee Company will setup outside Cornerstone Hall most Tuesdays from 8am-11am. Be sure to stop by for your morning coffee…and other goodies!
URL:https://laurelridge.edu/event/food-truck-good-news-coffee-company-13/
LOCATION:Middletown Campus: Cornerstone Hall\, Visitor Parking Lot\, VA\, United States
CATEGORIES:Middletown Student Events,Student Events
ATTACH;FMTTYPE=image/jpeg:https://laurelridge.edu/wp-content/uploads/2025/01/Coffee-Food-Truck-1.jpg
ORGANIZER;CN="Chris Lambert":MAILTO:clambert@laurelridge.edu
END:VEVENT
BEGIN:VEVENT
DTSTART;TZID=America/New_York:20250211T080000
DTEND;TZID=America/New_York:20250211T110000
DTSTAMP:20260419T221228
CREATED:20250815T202317Z
LAST-MODIFIED:20250815T202317Z
UID:10008957-1739260800-1739271600@laurelridge.edu
SUMMARY:Food Truck: Good News Coffee Company
DESCRIPTION:Good News Coffee Company will setup outside Cornerstone Hall most Tuesdays from 8am-11am. Be sure to stop by for your morning coffee…and other goodies!
URL:https://laurelridge.edu/event/food-truck-good-news-coffee-company-3/
LOCATION:Middletown Campus: Cornerstone Hall\, Visitor Parking Lot\, VA\, United States
CATEGORIES:Middletown Student Events,Student Events
ATTACH;FMTTYPE=image/jpeg:https://laurelridge.edu/wp-content/uploads/2025/01/Coffee-Food-Truck-1.jpg
ORGANIZER;CN="Chris Lambert":MAILTO:clambert@laurelridge.edu
END:VEVENT
BEGIN:VEVENT
DTSTART;TZID=America/New_York:20250211T080000
DTEND;TZID=America/New_York:20250211T110000
DTSTAMP:20260419T221228
CREATED:20250816T202316Z
LAST-MODIFIED:20250816T202316Z
UID:10008958-1739260800-1739271600@laurelridge.edu
SUMMARY:Food Truck: Good News Coffee Company
DESCRIPTION:Good News Coffee Company will setup outside Cornerstone Hall most Tuesdays from 8am-11am. Be sure to stop by for your morning coffee…and other goodies!
URL:https://laurelridge.edu/event/food-truck-good-news-coffee-company-14/
LOCATION:Middletown Campus: Cornerstone Hall\, Visitor Parking Lot\, VA\, United States
CATEGORIES:Middletown Student Events,Student Events
ATTACH;FMTTYPE=image/jpeg:https://laurelridge.edu/wp-content/uploads/2025/01/Coffee-Food-Truck-1.jpg
ORGANIZER;CN="Chris Lambert":MAILTO:clambert@laurelridge.edu
END:VEVENT
BEGIN:VEVENT
DTSTART;TZID=America/New_York:20250211T080000
DTEND;TZID=America/New_York:20250211T110000
DTSTAMP:20260419T221228
CREATED:20250817T202317Z
LAST-MODIFIED:20250817T202317Z
UID:10008959-1739260800-1739271600@laurelridge.edu
SUMMARY:Food Truck: Good News Coffee Company
DESCRIPTION:Good News Coffee Company will setup outside Cornerstone Hall most Tuesdays from 8am-11am. Be sure to stop by for your morning coffee…and other goodies!
URL:https://laurelridge.edu/event/food-truck-good-news-coffee-company-15/
LOCATION:Middletown Campus: Cornerstone Hall\, Visitor Parking Lot\, VA\, United States
CATEGORIES:Middletown Student Events,Student Events
ATTACH;FMTTYPE=image/jpeg:https://laurelridge.edu/wp-content/uploads/2025/01/Coffee-Food-Truck-1.jpg
ORGANIZER;CN="Chris Lambert":MAILTO:clambert@laurelridge.edu
END:VEVENT
BEGIN:VEVENT
DTSTART;TZID=America/New_York:20250211T080000
DTEND;TZID=America/New_York:20250211T110000
DTSTAMP:20260419T221228
CREATED:20250818T202317Z
LAST-MODIFIED:20250818T202317Z
UID:10008960-1739260800-1739271600@laurelridge.edu
SUMMARY:Food Truck: Good News Coffee Company
DESCRIPTION:Good News Coffee Company will setup outside Cornerstone Hall most Tuesdays from 8am-11am. Be sure to stop by for your morning coffee…and other goodies!
URL:https://laurelridge.edu/event/food-truck-good-news-coffee-company-16/
LOCATION:Middletown Campus: Cornerstone Hall\, Visitor Parking Lot\, VA\, United States
CATEGORIES:Middletown Student Events,Student Events
ATTACH;FMTTYPE=image/jpeg:https://laurelridge.edu/wp-content/uploads/2025/01/Coffee-Food-Truck-1.jpg
ORGANIZER;CN="Chris Lambert":MAILTO:clambert@laurelridge.edu
END:VEVENT
BEGIN:VEVENT
DTSTART;TZID=America/New_York:20250211T080000
DTEND;TZID=America/New_York:20250211T110000
DTSTAMP:20260419T221228
CREATED:20250819T202318Z
LAST-MODIFIED:20250819T202318Z
UID:10008970-1739260800-1739271600@laurelridge.edu
SUMMARY:Food Truck: Good News Coffee Company
DESCRIPTION:Good News Coffee Company will setup outside Cornerstone Hall most Tuesdays from 8am-11am. Be sure to stop by for your morning coffee…and other goodies!
URL:https://laurelridge.edu/event/food-truck-good-news-coffee-company-17/
LOCATION:Middletown Campus: Cornerstone Hall\, Visitor Parking Lot\, VA\, United States
CATEGORIES:Middletown Student Events,Student Events
ATTACH;FMTTYPE=image/jpeg:https://laurelridge.edu/wp-content/uploads/2025/01/Coffee-Food-Truck-1.jpg
ORGANIZER;CN="Chris Lambert":MAILTO:clambert@laurelridge.edu
END:VEVENT
BEGIN:VEVENT
DTSTART;TZID=America/New_York:20250211T080000
DTEND;TZID=America/New_York:20250211T110000
DTSTAMP:20260419T221228
CREATED:20250820T202317Z
LAST-MODIFIED:20250820T202317Z
UID:10009047-1739260800-1739271600@laurelridge.edu
SUMMARY:Food Truck: Good News Coffee Company
DESCRIPTION:Good News Coffee Company will setup outside Cornerstone Hall most Tuesdays from 8am-11am. Be sure to stop by for your morning coffee…and other goodies!
URL:https://laurelridge.edu/event/food-truck-good-news-coffee-company-18/
LOCATION:Middletown Campus: Cornerstone Hall\, Visitor Parking Lot\, VA\, United States
CATEGORIES:Middletown Student Events,Student Events
ATTACH;FMTTYPE=image/jpeg:https://laurelridge.edu/wp-content/uploads/2025/01/Coffee-Food-Truck-1.jpg
ORGANIZER;CN="Chris Lambert":MAILTO:clambert@laurelridge.edu
END:VEVENT
BEGIN:VEVENT
DTSTART;TZID=America/New_York:20250211T080000
DTEND;TZID=America/New_York:20250211T110000
DTSTAMP:20260419T221228
CREATED:20250821T202317Z
LAST-MODIFIED:20250821T202317Z
UID:10009048-1739260800-1739271600@laurelridge.edu
SUMMARY:Food Truck: Good News Coffee Company
DESCRIPTION:Good News Coffee Company will setup outside Cornerstone Hall most Tuesdays from 8am-11am. Be sure to stop by for your morning coffee…and other goodies!
URL:https://laurelridge.edu/event/food-truck-good-news-coffee-company-19/
LOCATION:Middletown Campus: Cornerstone Hall\, Visitor Parking Lot\, VA\, United States
CATEGORIES:Middletown Student Events,Student Events
ATTACH;FMTTYPE=image/jpeg:https://laurelridge.edu/wp-content/uploads/2025/01/Coffee-Food-Truck-1.jpg
ORGANIZER;CN="Chris Lambert":MAILTO:clambert@laurelridge.edu
END:VEVENT
BEGIN:VEVENT
DTSTART;TZID=America/New_York:20250211T080000
DTEND;TZID=America/New_York:20250211T110000
DTSTAMP:20260419T221228
CREATED:20250822T202318Z
LAST-MODIFIED:20250822T202318Z
UID:10009128-1739260800-1739271600@laurelridge.edu
SUMMARY:Food Truck: Good News Coffee Company
DESCRIPTION:Good News Coffee Company will setup outside Cornerstone Hall most Tuesdays from 8am-11am. Be sure to stop by for your morning coffee…and other goodies!
URL:https://laurelridge.edu/event/food-truck-good-news-coffee-company-20/
LOCATION:Middletown Campus: Cornerstone Hall\, Visitor Parking Lot\, VA\, United States
CATEGORIES:Middletown Student Events,Student Events
ATTACH;FMTTYPE=image/jpeg:https://laurelridge.edu/wp-content/uploads/2025/01/Coffee-Food-Truck-1.jpg
ORGANIZER;CN="Chris Lambert":MAILTO:clambert@laurelridge.edu
END:VEVENT
BEGIN:VEVENT
DTSTART;TZID=America/New_York:20250211T080000
DTEND;TZID=America/New_York:20250211T110000
DTSTAMP:20260419T221228
CREATED:20250823T202320Z
LAST-MODIFIED:20250823T202320Z
UID:10009130-1739260800-1739271600@laurelridge.edu
SUMMARY:Food Truck: Good News Coffee Company
DESCRIPTION:Good News Coffee Company will setup outside Cornerstone Hall most Tuesdays from 8am-11am. Be sure to stop by for your morning coffee…and other goodies!
URL:https://laurelridge.edu/event/food-truck-good-news-coffee-company-21/
LOCATION:Middletown Campus: Cornerstone Hall\, Visitor Parking Lot\, VA\, United States
CATEGORIES:Middletown Student Events,Student Events
ATTACH;FMTTYPE=image/jpeg:https://laurelridge.edu/wp-content/uploads/2025/01/Coffee-Food-Truck-1.jpg
ORGANIZER;CN="Chris Lambert":MAILTO:clambert@laurelridge.edu
END:VEVENT
BEGIN:VEVENT
DTSTART;TZID=America/New_York:20250211T080000
DTEND;TZID=America/New_York:20250211T110000
DTSTAMP:20260419T221228
CREATED:20250824T202317Z
LAST-MODIFIED:20250824T202317Z
UID:10009131-1739260800-1739271600@laurelridge.edu
SUMMARY:Food Truck: Good News Coffee Company
DESCRIPTION:Good News Coffee Company will setup outside Cornerstone Hall most Tuesdays from 8am-11am. Be sure to stop by for your morning coffee…and other goodies!
URL:https://laurelridge.edu/event/food-truck-good-news-coffee-company-22/
LOCATION:Middletown Campus: Cornerstone Hall\, Visitor Parking Lot\, VA\, United States
CATEGORIES:Middletown Student Events,Student Events
ATTACH;FMTTYPE=image/jpeg:https://laurelridge.edu/wp-content/uploads/2025/01/Coffee-Food-Truck-1.jpg
ORGANIZER;CN="Chris Lambert":MAILTO:clambert@laurelridge.edu
END:VEVENT
BEGIN:VEVENT
DTSTART;TZID=America/New_York:20250211T080000
DTEND;TZID=America/New_York:20250211T110000
DTSTAMP:20260419T221228
CREATED:20250825T202317Z
LAST-MODIFIED:20250825T202317Z
UID:10009159-1739260800-1739271600@laurelridge.edu
SUMMARY:Food Truck: Good News Coffee Company
DESCRIPTION:Good News Coffee Company will setup outside Cornerstone Hall most Tuesdays from 8am-11am. Be sure to stop by for your morning coffee…and other goodies!
URL:https://laurelridge.edu/event/food-truck-good-news-coffee-company-23/
LOCATION:Middletown Campus: Cornerstone Hall\, Visitor Parking Lot\, VA\, United States
CATEGORIES:Middletown Student Events,Student Events
ATTACH;FMTTYPE=image/jpeg:https://laurelridge.edu/wp-content/uploads/2025/01/Coffee-Food-Truck-1.jpg
ORGANIZER;CN="Chris Lambert":MAILTO:clambert@laurelridge.edu
END:VEVENT
BEGIN:VEVENT
DTSTART;TZID=America/New_York:20250211T080000
DTEND;TZID=America/New_York:20250211T110000
DTSTAMP:20260419T221228
CREATED:20250826T202318Z
LAST-MODIFIED:20250826T202318Z
UID:10009201-1739260800-1739271600@laurelridge.edu
SUMMARY:Food Truck: Good News Coffee Company
DESCRIPTION:Good News Coffee Company will setup outside Cornerstone Hall most Tuesdays from 8am-11am. Be sure to stop by for your morning coffee…and other goodies!
URL:https://laurelridge.edu/event/food-truck-good-news-coffee-company-24/
LOCATION:Middletown Campus: Cornerstone Hall\, Visitor Parking Lot\, VA\, United States
CATEGORIES:Middletown Student Events,Student Events
ATTACH;FMTTYPE=image/jpeg:https://laurelridge.edu/wp-content/uploads/2025/01/Coffee-Food-Truck-1.jpg
ORGANIZER;CN="Chris Lambert":MAILTO:clambert@laurelridge.edu
END:VEVENT
BEGIN:VEVENT
DTSTART;TZID=America/New_York:20250211T080000
DTEND;TZID=America/New_York:20250211T110000
DTSTAMP:20260419T221228
CREATED:20250827T202330Z
LAST-MODIFIED:20250827T202330Z
UID:10009202-1739260800-1739271600@laurelridge.edu
SUMMARY:Food Truck: Good News Coffee Company
DESCRIPTION:Good News Coffee Company will setup outside Cornerstone Hall most Tuesdays from 8am-11am. Be sure to stop by for your morning coffee…and other goodies!
URL:https://laurelridge.edu/event/food-truck-good-news-coffee-company-25/
LOCATION:Middletown Campus: Cornerstone Hall\, Visitor Parking Lot\, VA\, United States
CATEGORIES:Middletown Student Events,Student Events
ATTACH;FMTTYPE=image/jpeg:https://laurelridge.edu/wp-content/uploads/2025/01/Coffee-Food-Truck-1.jpg
ORGANIZER;CN="Chris Lambert":MAILTO:clambert@laurelridge.edu
END:VEVENT
BEGIN:VEVENT
DTSTART;TZID=America/New_York:20250211T080000
DTEND;TZID=America/New_York:20250211T110000
DTSTAMP:20260419T221228
CREATED:20250828T202321Z
LAST-MODIFIED:20250828T202321Z
UID:10009334-1739260800-1739271600@laurelridge.edu
SUMMARY:Food Truck: Good News Coffee Company
DESCRIPTION:Good News Coffee Company will setup outside Cornerstone Hall most Tuesdays from 8am-11am. Be sure to stop by for your morning coffee…and other goodies!
URL:https://laurelridge.edu/event/food-truck-good-news-coffee-company-26/
LOCATION:Middletown Campus: Cornerstone Hall\, Visitor Parking Lot\, VA\, United States
CATEGORIES:Middletown Student Events,Student Events
ATTACH;FMTTYPE=image/jpeg:https://laurelridge.edu/wp-content/uploads/2025/01/Coffee-Food-Truck-1.jpg
ORGANIZER;CN="Chris Lambert":MAILTO:clambert@laurelridge.edu
END:VEVENT
BEGIN:VEVENT
DTSTART;TZID=America/New_York:20250211T080000
DTEND;TZID=America/New_York:20250211T110000
DTSTAMP:20260419T221228
CREATED:20250829T202317Z
LAST-MODIFIED:20250829T202317Z
UID:10009336-1739260800-1739271600@laurelridge.edu
SUMMARY:Food Truck: Good News Coffee Company
DESCRIPTION:Good News Coffee Company will setup outside Cornerstone Hall most Tuesdays from 8am-11am. Be sure to stop by for your morning coffee…and other goodies!
URL:https://laurelridge.edu/event/food-truck-good-news-coffee-company-27/
LOCATION:Middletown Campus: Cornerstone Hall\, Visitor Parking Lot\, VA\, United States
CATEGORIES:Middletown Student Events,Student Events
ATTACH;FMTTYPE=image/jpeg:https://laurelridge.edu/wp-content/uploads/2025/01/Coffee-Food-Truck-1.jpg
ORGANIZER;CN="Chris Lambert":MAILTO:clambert@laurelridge.edu
END:VEVENT
BEGIN:VEVENT
DTSTART;TZID=America/New_York:20250211T080000
DTEND;TZID=America/New_York:20250211T110000
DTSTAMP:20260419T221228
CREATED:20250830T202316Z
LAST-MODIFIED:20250830T202316Z
UID:10009338-1739260800-1739271600@laurelridge.edu
SUMMARY:Food Truck: Good News Coffee Company
DESCRIPTION:Good News Coffee Company will setup outside Cornerstone Hall most Tuesdays from 8am-11am. Be sure to stop by for your morning coffee…and other goodies!
URL:https://laurelridge.edu/event/food-truck-good-news-coffee-company-28/
LOCATION:Middletown Campus: Cornerstone Hall\, Visitor Parking Lot\, VA\, United States
CATEGORIES:Middletown Student Events,Student Events
ATTACH;FMTTYPE=image/jpeg:https://laurelridge.edu/wp-content/uploads/2025/01/Coffee-Food-Truck-1.jpg
ORGANIZER;CN="Chris Lambert":MAILTO:clambert@laurelridge.edu
END:VEVENT
END:VCALENDAR