BEGIN:VCALENDAR
VERSION:2.0
PRODID:-//Laurel Ridge Community College - ECPv6.10.1.1//NONSGML v1.0//EN
CALSCALE:GREGORIAN
METHOD:PUBLISH
X-WR-CALNAME:Laurel Ridge Community College
X-ORIGINAL-URL:https://laurelridge.edu
X-WR-CALDESC:Events for Laurel Ridge Community College
REFRESH-INTERVAL;VALUE=DURATION:PT1H
X-Robots-Tag:noindex
X-PUBLISHED-TTL:PT1H
BEGIN:VTIMEZONE
TZID:America/New_York
BEGIN:DAYLIGHT
TZOFFSETFROM:-0500
TZOFFSETTO:-0400
TZNAME:EDT
DTSTART:20270314T070000
END:DAYLIGHT
BEGIN:STANDARD
TZOFFSETFROM:-0400
TZOFFSETTO:-0500
TZNAME:EST
DTSTART:20271107T060000
END:STANDARD
END:VTIMEZONE
BEGIN:VEVENT
DTSTART;TZID=America/New_York:20270201T163000
DTEND;TZID=America/New_York:20270201T173000
DTSTAMP:20260419T113031
CREATED:20260123T161355Z
LAST-MODIFIED:20260123T161355Z
UID:10012556-1801499400-1801503000@laurelridge.edu
SUMMARY:Functional Fitness Class!
DESCRIPTION:Join Fitness Instructor Chris Scholl for a FUNctional Fitness Class. Mondays and Wednesdays 4:45pm-5:35pm and Tuesdays and Thursdays\, 11:30am-12:20pm. Open to All Faculty\, Staff\, and Students in the SUB RM 217.
URL:https://laurelridge.edu/event/functional-fitness-class/2027-02-01/
LOCATION:Middletown Campus: SUB RM 217\, United States
CATEGORIES:Employee Events,Fauquier Student Events,Luray Student Events,Middletown Student Events,Student Events
ORGANIZER;CN="David Belyea":MAILTO:dbelyea@laurelridge.edu
END:VEVENT
BEGIN:VEVENT
DTSTART;TZID=America/New_York:20270202T113000
DTEND;TZID=America/New_York:20270202T123000
DTSTAMP:20260419T113031
CREATED:20260125T231225Z
LAST-MODIFIED:20260125T231225Z
UID:10013080-1801567800-1801571400@laurelridge.edu
SUMMARY:Functional Fitness Class!
DESCRIPTION:Join Fitness Instructor Chris Scholl for a FUNctional Fitness Class. Mondays and Wednesdays 4:45pm-5:35pm and Tuesdays and Thursdays\, 11:30am-12:20pm. Open to All Faculty\, Staff\, and Students in the SUB RM 217.
URL:https://laurelridge.edu/event/functional-fitness-class-2/2027-02-02/
LOCATION:MIddletown Campus: SUB 217\, VA\, United States
CATEGORIES:Employee Events,Fauquier Student Events,Luray Student Events,Middletown Student Events,Student Events
ORGANIZER;CN="David Belyea":MAILTO:dbelyea@laurelridge.edu
END:VEVENT
BEGIN:VEVENT
DTSTART;TZID=America/New_York:20270203T163000
DTEND;TZID=America/New_York:20270203T173000
DTSTAMP:20260419T113031
CREATED:20260123T161355Z
LAST-MODIFIED:20260123T161355Z
UID:10012557-1801672200-1801675800@laurelridge.edu
SUMMARY:Functional Fitness Class!
DESCRIPTION:Join Fitness Instructor Chris Scholl for a FUNctional Fitness Class. Mondays and Wednesdays 4:45pm-5:35pm and Tuesdays and Thursdays\, 11:30am-12:20pm. Open to All Faculty\, Staff\, and Students in the SUB RM 217.
URL:https://laurelridge.edu/event/functional-fitness-class/2027-02-03/
LOCATION:Middletown Campus: SUB RM 217\, United States
CATEGORIES:Employee Events,Fauquier Student Events,Luray Student Events,Middletown Student Events,Student Events
ORGANIZER;CN="David Belyea":MAILTO:dbelyea@laurelridge.edu
END:VEVENT
BEGIN:VEVENT
DTSTART;TZID=America/New_York:20270204T113000
DTEND;TZID=America/New_York:20270204T123000
DTSTAMP:20260419T113031
CREATED:20260125T231225Z
LAST-MODIFIED:20260125T231225Z
UID:10013081-1801740600-1801744200@laurelridge.edu
SUMMARY:Functional Fitness Class!
DESCRIPTION:Join Fitness Instructor Chris Scholl for a FUNctional Fitness Class. Mondays and Wednesdays 4:45pm-5:35pm and Tuesdays and Thursdays\, 11:30am-12:20pm. Open to All Faculty\, Staff\, and Students in the SUB RM 217.
URL:https://laurelridge.edu/event/functional-fitness-class-2/2027-02-04/
LOCATION:MIddletown Campus: SUB 217\, VA\, United States
CATEGORIES:Employee Events,Fauquier Student Events,Luray Student Events,Middletown Student Events,Student Events
ORGANIZER;CN="David Belyea":MAILTO:dbelyea@laurelridge.edu
END:VEVENT
END:VCALENDAR