BEGIN:VCALENDAR
VERSION:2.0
PRODID:-//Laurel Ridge Community College - ECPv6.10.1.1//NONSGML v1.0//EN
CALSCALE:GREGORIAN
METHOD:PUBLISH
X-ORIGINAL-URL:https://laurelridge.edu
X-WR-CALDESC:Events for Laurel Ridge Community College
REFRESH-INTERVAL;VALUE=DURATION:PT1H
X-Robots-Tag:noindex
X-PUBLISHED-TTL:PT1H
BEGIN:VTIMEZONE
TZID:America/New_York
BEGIN:DAYLIGHT
TZOFFSETFROM:-0500
TZOFFSETTO:-0400
TZNAME:EDT
DTSTART:20260308T070000
END:DAYLIGHT
BEGIN:STANDARD
TZOFFSETFROM:-0400
TZOFFSETTO:-0500
TZNAME:EST
DTSTART:20261101T060000
END:STANDARD
END:VTIMEZONE
BEGIN:VEVENT
DTSTART;TZID=America/New_York:20260420T130000
DTEND;TZID=America/New_York:20260420T140000
DTSTAMP:20260421T090223
CREATED:20260311T221323Z
LAST-MODIFIED:20260311T221323Z
UID:10014256-1776690000-1776693600@laurelridge.edu
SUMMARY:Fauquier Student Writers Club Meeting
DESCRIPTION:Creative writers welcome! The club meets weekly on Mondays from 1-2 p.m. in Wolk Hall\, Room 201.
URL:https://laurelridge.edu/event/fauquier-student-writers-club-meeting/2026-04-20/
CATEGORIES:Club Event,Student Events
ORGANIZER;CN="Chris Lambert":MAILTO:clambert@laurelridge.edu
END:VEVENT
BEGIN:VEVENT
DTSTART;TZID=America/New_York:20260420T140000
DTEND;TZID=America/New_York:20260420T153000
DTSTAMP:20260421T090223
CREATED:20260129T224821Z
LAST-MODIFIED:20260129T224821Z
UID:10013583-1776693600-1776699000@laurelridge.edu
SUMMARY:PTK (Alpha Beta Omega Chapter) Meeting
DESCRIPTION:The Middletown Chapter of Phi Theta Kappa (Alpha Beta Omega) meets weekly alternating between officer only and open membership meetings every Monday at 2 p.m.
URL:https://laurelridge.edu/event/ptk-alpha-beta-omega-chapter-meeting/2026-04-20/
LOCATION:Middletown Campus: Cornerstone Hall\, Room 216
CATEGORIES:Club Event,Student Events
ORGANIZER;CN="Chris Lambert":MAILTO:clambert@laurelridge.edu
END:VEVENT
BEGIN:VEVENT
DTSTART;TZID=America/New_York:20260420T150000
DTEND;TZID=America/New_York:20260420T190000
DTSTAMP:20260421T090223
CREATED:20260210T154331Z
LAST-MODIFIED:20260210T154331Z
UID:10014033-1776697200-1776711600@laurelridge.edu
SUMMARY:D&D (Dungeons & Dragons) Club Meeting - Monday Group
DESCRIPTION:The D&D Club meets weekly. The Monday group meets on Mondays from 3-7 p.m. in Cornerstone Hall\, Room 304.
URL:https://laurelridge.edu/event/dd-dungeons-dragons-club-meeting-monday-group/2026-04-20/
LOCATION:Middletown Campus: Cornerstone Hall\, Room 304
CATEGORIES:Club Event,Student Events
ORGANIZER;CN="Chris Lambert":MAILTO:clambert@laurelridge.edu
END:VEVENT
BEGIN:VEVENT
DTSTART;TZID=America/New_York:20260421T123000
DTEND;TZID=America/New_York:20260421T133000
DTSTAMP:20260421T090223
CREATED:20260116T191809Z
LAST-MODIFIED:20260116T191809Z
UID:10010887-1776774600-1776778200@laurelridge.edu
SUMMARY:S.T.E.M. Club (Fauquier) Meeting
DESCRIPTION:The Fauquier S.T.E.M. Club meets weekly on Wednesday from 12:30-1:30 p.m. in Hazel Hall\, outside Room 121 (Dr. Wilcox’s office).
URL:https://laurelridge.edu/event/s-t-e-m-club-fauquier-meeting/2026-04-21/
LOCATION:Fauquier Campus: Hazel Hall\, outside Room 121
CATEGORIES:Club Event,Student Events
ORGANIZER;CN="Chris Lambert":MAILTO:clambert@laurelridge.edu
END:VEVENT
BEGIN:VEVENT
DTSTART;TZID=America/New_York:20260421T140000
DTEND;TZID=America/New_York:20260421T150000
DTSTAMP:20260421T090223
CREATED:20260112T201857Z
LAST-MODIFIED:20260112T201857Z
UID:10010824-1776780000-1776783600@laurelridge.edu
SUMMARY:Spanish Club Meeting
DESCRIPTION:The Spanish Club meets weekly\, alternating between the Middletown and Fauquier Campuses: \n\n\n\n\nMiddletown Campus meetings: Tuesdays from 12-12:40 PM – 2/3\, 2/17\,  3/3\, 3/17\, 3/31\, 4/14\, and 4/28 in Cornerstone 213\n\n\n\nFauquier Campus meetings: Tuesdays from 2-3 PM – 2/10\,  2/24\, 3/24\, 4/7\, and 4/21 in Wolk 210\n\n\n\n\nAll meetings are also held virtually using Google Meet for each meeting.
URL:https://laurelridge.edu/event/spanish-club-meeting-4/2026-04-21/
LOCATION:Fauquier Campus: Wolk Hall\, Room 210 & Virtually
CATEGORIES:Club Event,Student Events
ORGANIZER;CN="Chris Lambert":MAILTO:clambert@laurelridge.edu
END:VEVENT
BEGIN:VEVENT
DTSTART;TZID=America/New_York:20260421T150000
DTEND;TZID=America/New_York:20260421T190000
DTSTAMP:20260421T090223
CREATED:20260210T154334Z
LAST-MODIFIED:20260210T154334Z
UID:10014044-1776783600-1776798000@laurelridge.edu
SUMMARY:D&D (Dungeons & Dragons) Club Meeting - Tuesday Group
DESCRIPTION:The D&D Club meets weekly. The Tuesday group meets on Tuesdays from 3-7 p.m. in Cornerstone Hall\, Room 213.
URL:https://laurelridge.edu/event/dd-dungeons-dragons-club-meeting-tuesday-group/2026-04-21/
LOCATION:Middletown Campus: Cornerstone Hall\, Room 213
CATEGORIES:Club Event,Student Events
ORGANIZER;CN="Chris Lambert":MAILTO:clambert@laurelridge.edu
END:VEVENT
BEGIN:VEVENT
DTSTART;TZID=America/New_York:20260421T153000
DTEND;TZID=America/New_York:20260421T163000
DTSTAMP:20260421T090223
CREATED:20260108T232935Z
LAST-MODIFIED:20260108T232935Z
UID:10012432-1776785400-1776789000@laurelridge.edu
SUMMARY:Dance Club Meeting
DESCRIPTION:The Laurel Ridge Dance Club meets weekly for dance practice and fellowship. Special or make-up sessions may be held on Thursdays as needed – members will be informed.
URL:https://laurelridge.edu/event/dance-club-meeting/2026-04-21/
CATEGORIES:Club Event,Student Events
ORGANIZER;CN="Chris Lambert":MAILTO:clambert@laurelridge.edu
END:VEVENT
BEGIN:VEVENT
DTSTART;TZID=America/New_York:20260421T153000
DTEND;TZID=America/New_York:20260421T163000
DTSTAMP:20260421T090223
CREATED:20260123T155925Z
LAST-MODIFIED:20260123T155925Z
UID:10012419-1776785400-1776789000@laurelridge.edu
SUMMARY:Drama Club Meeting
DESCRIPTION:Let’s get dramatic – every week on Tuesdays from 3:30-4:30 p.m. in Cornerstone 406!
URL:https://laurelridge.edu/event/drama-club-meeting-2/2026-04-21/
LOCATION:Middletown Campus: Cornerstone Hall\, Room 406
CATEGORIES:Club Event,Student Events
ORGANIZER;CN="Chris Lambert":MAILTO:clambert@laurelridge.edu
END:VEVENT
BEGIN:VEVENT
DTSTART;TZID=America/New_York:20260421T160000
DTEND;TZID=America/New_York:20260421T163000
DTSTAMP:20260421T090223
CREATED:20260108T232933Z
LAST-MODIFIED:20260108T232933Z
UID:10010739-1776787200-1776789000@laurelridge.edu
SUMMARY:Epsilon Pi Tau (EPT) Delta Phi Meeting
DESCRIPTION:Our Delta Phi chapter meets monthly from 4-4:30 PM (for members only). Access to the location and Zoom link for each meeting can be found via GreekTrack.
URL:https://laurelridge.edu/event/epsilon-pi-tau-ept-delta-phi-meeting/2026-04-21/
LOCATION:Middletown Campus & Virtually
CATEGORIES:Club Event,Student Events
ORGANIZER;CN="Chris Lambert":MAILTO:clambert@laurelridge.edu
END:VEVENT
BEGIN:VEVENT
DTSTART;TZID=America/New_York:20260422T103000
DTEND;TZID=America/New_York:20260422T123000
DTSTAMP:20260421T090223
CREATED:20260108T232930Z
LAST-MODIFIED:20260108T232930Z
UID:10010728-1776853800-1776861000@laurelridge.edu
SUMMARY:Game Design Club Meeting
DESCRIPTION:The Game Design club meets weekly in the Student Union Building\, LEO’s Esports Arena.
URL:https://laurelridge.edu/event/game-design-club-meeting-2/2026-04-22/
CATEGORIES:Club Event,Student Events
ORGANIZER;CN="Chris Lambert":MAILTO:clambert@laurelridge.edu
END:VEVENT
BEGIN:VEVENT
DTSTART;TZID=America/New_York:20260422T153000
DTEND;TZID=America/New_York:20260422T190000
DTSTAMP:20260421T090223
CREATED:20260210T154336Z
LAST-MODIFIED:20260210T154336Z
UID:10014056-1776871800-1776884400@laurelridge.edu
SUMMARY:D&D (Dungeons & Dragons) Club Meeting - Wednesday Group
DESCRIPTION:The D&D Club meets weekly. The Wednesday group meets on Wednesdays from 3:30-7 p.m. in Cornerstone Hall\, Room 213.
URL:https://laurelridge.edu/event/dd-dungeons-dragons-club-meeting-wednesday-group/2026-04-22/
CATEGORIES:Club Event,Student Events
ORGANIZER;CN="Chris Lambert":MAILTO:clambert@laurelridge.edu
END:VEVENT
BEGIN:VEVENT
DTSTART;TZID=America/New_York:20260422T170000
DTEND;TZID=America/New_York:20260422T190000
DTSTAMP:20260421T090223
CREATED:20260108T232934Z
LAST-MODIFIED:20260108T232934Z
UID:10010751-1776877200-1776884400@laurelridge.edu
SUMMARY:Valley Youth Club Meeting
DESCRIPTION:The Valley Youth Club (formerly Bible Study Club) meets weekly on Wednesdays for fellowship\, to discuss passages\, and more.
URL:https://laurelridge.edu/event/valley-youth-club-meeting/2026-04-22/
LOCATION:Middletown Campus: Cornerstone Hall\, Room 402
CATEGORIES:Club Event,Student Events
ORGANIZER;CN="Chris Lambert":MAILTO:clambert@laurelridge.edu
END:VEVENT
BEGIN:VEVENT
DTSTART;TZID=America/New_York:20260423T130000
DTEND;TZID=America/New_York:20260423T140000
DTSTAMP:20260421T090223
CREATED:20260123T155927Z
LAST-MODIFIED:20260123T155927Z
UID:10014013-1776949200-1776952800@laurelridge.edu
SUMMARY:BOND Club Meeting
DESCRIPTION:The BOND Club is open to all students and meets weekly on both campuses and online via Zoom!
URL:https://laurelridge.edu/event/bond-club-meeting-3/2026-04-23/
CATEGORIES:Club Event,Student Events
END:VEVENT
BEGIN:VEVENT
DTSTART;TZID=America/New_York:20260423T143000
DTEND;TZID=America/New_York:20260423T153000
DTSTAMP:20260421T090223
CREATED:20260116T191807Z
LAST-MODIFIED:20260116T191807Z
UID:10010870-1776954600-1776958200@laurelridge.edu
SUMMARY:Investment Club Meeting
DESCRIPTION:The Investment Club meets weekly at the Middletown Campus in Cornerstone 311.
URL:https://laurelridge.edu/event/investment-club-meeting-2/2026-04-23/
CATEGORIES:Club Event,Student Events
ORGANIZER;CN="Chris Lambert":MAILTO:clambert@laurelridge.edu
END:VEVENT
BEGIN:VEVENT
DTSTART;TZID=America/New_York:20260423T150000
DTEND;TZID=America/New_York:20260423T190000
DTSTAMP:20260421T090223
CREATED:20260210T154337Z
LAST-MODIFIED:20260210T154337Z
UID:10014067-1776956400-1776970800@laurelridge.edu
SUMMARY:D&D (Dungeons & Dragons) Club Meeting - Thursday Group #1
DESCRIPTION:The D&D Club meets weekly; there are two Thursday groups. The first Thursday group meets on Thursdays from 3-7 p.m. in Cornerstone Hall\, Room 212.
URL:https://laurelridge.edu/event/dd-dungeons-dragons-club-meeting-thursday-group-1/2026-04-23/
CATEGORIES:Club Event,Student Events
ORGANIZER;CN="Chris Lambert":MAILTO:clambert@laurelridge.edu
END:VEVENT
BEGIN:VEVENT
DTSTART;TZID=America/New_York:20260423T153000
DTEND;TZID=America/New_York:20260423T173000
DTSTAMP:20260421T090223
CREATED:20260202T225920Z
LAST-MODIFIED:20260202T225920Z
UID:10013716-1776958200-1776965400@laurelridge.edu
SUMMARY:Art Club Meeting
DESCRIPTION:The Art Club meets weekly on Thursdays from 3:30-5:30 p.m. in the art studio (Cornerstone 502).
URL:https://laurelridge.edu/event/art-club-meeting-2/2026-04-23/
LOCATION:Middletown Campus: Cornerstone Hall\, Room 502\, VA\, United States
CATEGORIES:Club Event,Student Events
ORGANIZER;CN="Chris Lambert":MAILTO:clambert@laurelridge.edu
END:VEVENT
BEGIN:VEVENT
DTSTART;TZID=America/New_York:20260423T153000
DTEND;TZID=America/New_York:20260423T190000
DTSTAMP:20260421T090223
CREATED:20260210T154338Z
LAST-MODIFIED:20260210T154338Z
UID:10014089-1776958200-1776970800@laurelridge.edu
SUMMARY:D&D (Dungeons & Dragons) Club Meeting - Thursday Group #2
DESCRIPTION:The D&D Club meets weekly; there are two Thursday groups. The second Thursday group meets on Thursdays from 3:30-7 p.m. in Cornerstone Hall\, Room 406.
URL:https://laurelridge.edu/event/dd-dungeons-dragons-club-meeting-thursday-group-2/2026-04-23/
LOCATION:Middletown Campus: Cornerstone Hall\, Room 406
CATEGORIES:Club Event,Student Events
ORGANIZER;CN="Chris Lambert":MAILTO:clambert@laurelridge.edu
END:VEVENT
BEGIN:VEVENT
DTSTART;TZID=America/New_York:20260423T160000
DTEND;TZID=America/New_York:20260423T170000
DTSTAMP:20260421T090223
CREATED:20260116T191810Z
LAST-MODIFIED:20260116T191810Z
UID:10010900-1776960000-1776963600@laurelridge.edu
SUMMARY:PACE Club Meeting
DESCRIPTION:The PACE Club focuses on Professional Advancement & Career Exploration and will meet weekly at the Middletown Campus in Cornerstone 311.
URL:https://laurelridge.edu/event/pace-club-meeting-2/2026-04-23/
CATEGORIES:Club Event,Student Events
ORGANIZER;CN="Chris Lambert":MAILTO:clambert@laurelridge.edu
END:VEVENT
END:VCALENDAR