BEGIN:VCALENDAR
VERSION:2.0
PRODID:-//Laurel Ridge Community College - ECPv6.10.1.1//NONSGML v1.0//EN
CALSCALE:GREGORIAN
METHOD:PUBLISH
X-WR-CALNAME:Laurel Ridge Community College
X-ORIGINAL-URL:https://laurelridge.edu
X-WR-CALDESC:Events for Laurel Ridge Community College
REFRESH-INTERVAL;VALUE=DURATION:PT1H
X-Robots-Tag:noindex
X-PUBLISHED-TTL:PT1H
BEGIN:VTIMEZONE
TZID:America/New_York
BEGIN:DAYLIGHT
TZOFFSETFROM:-0500
TZOFFSETTO:-0400
TZNAME:EDT
DTSTART:20250309T070000
END:DAYLIGHT
BEGIN:STANDARD
TZOFFSETFROM:-0400
TZOFFSETTO:-0500
TZNAME:EST
DTSTART:20251102T060000
END:STANDARD
END:VTIMEZONE
BEGIN:VEVENT
DTSTART;TZID=America/New_York:20250204T150000
DTEND;TZID=America/New_York:20250204T160000
DTSTAMP:20260421T183832
CREATED:20250107T133229Z
LAST-MODIFIED:20250108T143958Z
UID:10007593-1738681200-1738684800@laurelridge.edu
SUMMARY:Preparing to Transfer Sessions
DESCRIPTION:PREPARING TO TRANSFER SESSIONS \nOpen to all students interested in transferring to a 4-year college or university after Laurel Ridge! \nAttend to learn transfer options and how to begin the transfer process. \nTuesday\, Feb. 4 \n\n3 p.m. Room 145 in the Science and Health Professions Building on the Middletown Campus. \n3 p.m. Virtually\n6 p.m. Room 300 in Cornerstone Hall on the Middletown Campus.\n\nPizza provided! \nSIGN UP TO ATTEND HERE!
URL:https://laurelridge.edu/event/preparing-to-transfer-sessions/2025-02-04/1/
LOCATION:Laurel Ridge Community College Middletown Campus\, 173 Skirmisher Lane\, Middletown\, 22645
CATEGORIES:Community Events,Information Sessions,Presentations,Student Events,Transfer Events,Transfer Events at Laurel Ridge,Virtual Presentations
ATTACH;FMTTYPE=image/png:https://laurelridge.edu/wp-content/uploads/2025/01/Final-Facebook-Event-Image.png
END:VEVENT
BEGIN:VEVENT
DTSTART;TZID=America/New_York:20250204T180000
DTEND;TZID=America/New_York:20250204T190000
DTSTAMP:20260421T183832
CREATED:20250107T133229Z
LAST-MODIFIED:20250108T143958Z
UID:10007594-1738692000-1738695600@laurelridge.edu
SUMMARY:Preparing to Transfer Sessions
DESCRIPTION:PREPARING TO TRANSFER SESSIONS \nOpen to all students interested in transferring to a 4-year college or university after Laurel Ridge! \nAttend to learn transfer options and how to begin the transfer process. \nTuesday\, Feb. 4 \n\n3 p.m. Room 145 in the Science and Health Professions Building on the Middletown Campus. \n3 p.m. Virtually\n6 p.m. Room 300 in Cornerstone Hall on the Middletown Campus.\n\nPizza provided! \nSIGN UP TO ATTEND HERE!
URL:https://laurelridge.edu/event/preparing-to-transfer-sessions/2025-02-04/2/
LOCATION:Laurel Ridge Community College Middletown Campus\, 173 Skirmisher Lane\, Middletown\, 22645
CATEGORIES:Community Events,Information Sessions,Presentations,Student Events,Transfer Events,Transfer Events at Laurel Ridge,Virtual Presentations
ATTACH;FMTTYPE=image/png:https://laurelridge.edu/wp-content/uploads/2025/01/Final-Facebook-Event-Image.png
END:VEVENT
END:VCALENDAR