BEGIN:VCALENDAR
VERSION:2.0
PRODID:-//Laurel Ridge Community College - ECPv6.10.1.1//NONSGML v1.0//EN
CALSCALE:GREGORIAN
METHOD:PUBLISH
X-WR-CALNAME:Laurel Ridge Community College
X-ORIGINAL-URL:https://laurelridge.edu
X-WR-CALDESC:Events for Laurel Ridge Community College
REFRESH-INTERVAL;VALUE=DURATION:PT1H
X-Robots-Tag:noindex
X-PUBLISHED-TTL:PT1H
BEGIN:VTIMEZONE
TZID:America/New_York
BEGIN:DAYLIGHT
TZOFFSETFROM:-0500
TZOFFSETTO:-0400
TZNAME:EDT
DTSTART:20250309T070000
END:DAYLIGHT
BEGIN:STANDARD
TZOFFSETFROM:-0400
TZOFFSETTO:-0500
TZNAME:EST
DTSTART:20251102T060000
END:STANDARD
END:VTIMEZONE
BEGIN:VEVENT
DTSTART;TZID=America/New_York:20250415T183000
DTEND;TZID=America/New_York:20250415T193000
DTSTAMP:20260424T231857
CREATED:20250327T165013Z
LAST-MODIFIED:20250404T105502Z
UID:10008088-1744741800-1744745400@laurelridge.edu
SUMMARY:A Pioneering Botanist of the Massanuttens: Lena Artz (1891-1976) - In-Person
DESCRIPTION:Presentation by Dr. Andrea Weeks \nDr. Andrea Weeks is a professor of botany at George Mason University and the director of the Ted R. Bradley Herbarium. Her research focuses on plant systematics\, and she serves on the boards of the Flora of Virginia and the Digital Atlas of the Virginia Flora. \n \nTalk Description: Join Dr. Weeks as she explores the scientific legacy of Lena Artz\, a Shenandoah County native whose early 20th-century work significantly contributed to our knowledge of the Massanuttens’ unique flora. Discover the fascinating plant species Lena uncovered in this region. \n \nInterested in attending this event? Fill out the short form HERE to receive details\, reminders and updates! 
URL:https://laurelridge.edu/event/a-pioneering-botanist-of-the-massanuttens-lena-artz-1891-1976/
LOCATION:Carl and Emily Thompson Conference Center\, Corron Community Development Center\, 173 Skirmisher Lane\, Middletown\, VA\, 22645\, United States
CATEGORIES:Alumni Events,Community Events,Employee Events,Fauquier Student Events,Information Sessions,Luray Student Events,Middletown Student Events,Presentations,Student Events
ATTACH;FMTTYPE=image/png:https://laurelridge.edu/wp-content/uploads/2025/03/stem-presentation-3.png
GEO:39.0367241;-78.2679818
X-APPLE-STRUCTURED-LOCATION;VALUE=URI;X-ADDRESS=Carl and Emily Thompson Conference Center Corron Community Development Center 173 Skirmisher Lane Middletown VA 22645 United States;X-APPLE-RADIUS=500;X-TITLE=173 Skirmisher Lane:geo:-78.2679818,39.0367241
END:VEVENT
BEGIN:VEVENT
DTSTART;TZID=America/New_York:20250416T160000
DTEND;TZID=America/New_York:20250416T170000
DTSTAMP:20260424T231857
CREATED:20250327T165644Z
LAST-MODIFIED:20260302T155213Z
UID:10008089-1744819200-1744822800@laurelridge.edu
SUMMARY:Mathematics: The Interplay of the Tangible and the Abstract - In-Person and Online
DESCRIPTION:Presentation by Dr. Carla NelsonProfessor of Mathematics\, Laurel Ridge Community College \nDr. Carla Nelson holds a Bachelor of Science from Muhlenberg College\, and both a Master of Science and Ph.D. from Lehigh University. As a dedicated educator\, Dr. Nelson brings a wealth of knowledge and experience to her role at Laurel Ridge Community College\, where she teaches mathematics with a passion for helping students succeed. \n \nThis presentation is being offered ONLINE and In-Person on the Middletown Campus\, Cornerstone Hall\, Room 202 \nJoin the meeting now online via Teams \nMeeting ID: 214 876 907 642 6 \nPasscode: LL7bf6y7 \n\nDial in by phone \n+1 276-266-8466\,\,551088734# United States\, Hillsville \nInterested in attending this event? Fill out the short form HERE to receive details\, reminders and updates! 
URL:https://laurelridge.edu/event/mathematics-the-interplay-of-the-tangibleand-the-abstract/
LOCATION:Middletown Campus\, Cornerstone Hall\, Room 202\, VA\, United States
CATEGORIES:Alumni Events,Community Events,Employee Events,Fauquier Student Events,Information Sessions,Luray Student Events,Middletown Student Events,Presentations,Student Events,Virtual Presentations
ATTACH;FMTTYPE=image/png:https://laurelridge.edu/wp-content/uploads/2025/03/stem-presentation-4.png
END:VEVENT
BEGIN:VEVENT
DTSTART;TZID=America/New_York:20250417T133000
DTEND;TZID=America/New_York:20250417T143000
DTSTAMP:20260424T231857
CREATED:20250327T170129Z
LAST-MODIFIED:20250404T105718Z
UID:10008091-1744896600-1744900200@laurelridge.edu
SUMMARY:Let’s Shake On It -A Handy Introduction to Graph Theory - In-Person and Online
DESCRIPTION:Presented by The Middletown Math Club \nJoin In-Person on the Middletown Campus in Room 304 of Cornerstone Hall or Online HERE! \n  \nInterested in attending this event? Fill out the short form HERE to receive details\, reminders and updates! 
URL:https://laurelridge.edu/event/lets-shake-on-it-a-handy-introduction-to-graph-theory/
LOCATION:Cornerstone Hall Room 304 – Middletown Campus\, 173 Skirmisher Lane\, Middletown\, VA\, 22645
CATEGORIES:Alumni Events,Community Events,Employee Events,Fauquier Student Events,Information Sessions,Luray Student Events,Middletown Student Events,Presentations,Student Events
ATTACH;FMTTYPE=image/png:https://laurelridge.edu/wp-content/uploads/2025/03/stem-presentation-5.png
END:VEVENT
END:VCALENDAR