BEGIN:VCALENDAR
VERSION:2.0
PRODID:-//Laurel Ridge Community College - ECPv6.10.1.1//NONSGML v1.0//EN
CALSCALE:GREGORIAN
METHOD:PUBLISH
X-ORIGINAL-URL:https://laurelridge.edu
X-WR-CALDESC:Events for Laurel Ridge Community College
REFRESH-INTERVAL;VALUE=DURATION:PT1H
X-Robots-Tag:noindex
X-PUBLISHED-TTL:PT1H
BEGIN:VTIMEZONE
TZID:America/New_York
BEGIN:DAYLIGHT
TZOFFSETFROM:-0500
TZOFFSETTO:-0400
TZNAME:EDT
DTSTART:20260308T070000
END:DAYLIGHT
BEGIN:STANDARD
TZOFFSETFROM:-0400
TZOFFSETTO:-0500
TZNAME:EST
DTSTART:20261101T060000
END:STANDARD
END:VTIMEZONE
BEGIN:VEVENT
DTSTART;TZID=America/New_York:20260406T163000
DTEND;TZID=America/New_York:20260406T173000
DTSTAMP:20260420T220637
CREATED:20260123T161355Z
LAST-MODIFIED:20260123T161355Z
UID:10012470-1775493000-1775496600@laurelridge.edu
SUMMARY:Functional Fitness Class!
DESCRIPTION:Join Fitness Instructor Chris Scholl for a FUNctional Fitness Class. Mondays and Wednesdays 4:45pm-5:35pm and Tuesdays and Thursdays\, 11:30am-12:20pm. Open to All Faculty\, Staff\, and Students in the SUB RM 217.
URL:https://laurelridge.edu/event/functional-fitness-class/2026-04-06/
LOCATION:Middletown Campus: SUB RM 217\, United States
CATEGORIES:Employee Events,Fauquier Student Events,Luray Student Events,Middletown Student Events,Student Events
ORGANIZER;CN="David Belyea":MAILTO:dbelyea@laurelridge.edu
END:VEVENT
BEGIN:VEVENT
DTSTART;TZID=America/New_York:20260407T113000
DTEND;TZID=America/New_York:20260407T123000
DTSTAMP:20260420T220637
CREATED:20260125T231225Z
LAST-MODIFIED:20260125T231225Z
UID:10012994-1775561400-1775565000@laurelridge.edu
SUMMARY:Functional Fitness Class!
DESCRIPTION:Join Fitness Instructor Chris Scholl for a FUNctional Fitness Class. Mondays and Wednesdays 4:45pm-5:35pm and Tuesdays and Thursdays\, 11:30am-12:20pm. Open to All Faculty\, Staff\, and Students in the SUB RM 217.
URL:https://laurelridge.edu/event/functional-fitness-class-2/2026-04-07/
LOCATION:MIddletown Campus: SUB 217\, VA\, United States
CATEGORIES:Employee Events,Fauquier Student Events,Luray Student Events,Middletown Student Events,Student Events
ORGANIZER;CN="David Belyea":MAILTO:dbelyea@laurelridge.edu
END:VEVENT
BEGIN:VEVENT
DTSTART;TZID=America/New_York:20260407T140000
DTEND;TZID=America/New_York:20260407T143000
DTSTAMP:20260420T220637
CREATED:20260125T231228Z
LAST-MODIFIED:20260125T231228Z
UID:10013507-1775570400-1775572200@laurelridge.edu
SUMMARY:Mindfulness Meditation
DESCRIPTION:Back for Spring! Join Janet Heisrath-Evans for more relaxing meditation! Most Tuesdays from 2pm-2:30pm this semester. Stop by Hazel Hall 210 or on Zoom at laurelridge.edu/meditation.
URL:https://laurelridge.edu/event/mindfulness-meditation/2026-04-07/
LOCATION:Fauquier Campus: Hazel Hall\, Room 210 & Virtually\, VA\, United States
CATEGORIES:Employee Events,Fauquier Student Events,Luray Student Events,Middletown Student Events,Student Events,Virtual Student Events
ORGANIZER;CN="David Belyea":MAILTO:dbelyea@laurelridge.edu
END:VEVENT
BEGIN:VEVENT
DTSTART;TZID=America/New_York:20260407T173000
DTEND;TZID=America/New_York:20260407T183000
DTSTAMP:20260420T220637
CREATED:20260112T201854Z
LAST-MODIFIED:20260112T201854Z
UID:10010805-1775583000-1775586600@laurelridge.edu
SUMMARY:Yoga w/ Professor Hollar
DESCRIPTION:***Yoga will be cancelled April 16th\, 2026*** Please Join Professor Hollar for the next session! Join Professor Hollar as he hosts Yoga! Learn different exercises and breathing techniques as well as have fun! Most Tuesdays and Thursdays 5:30pm-6:30pm. Please arrive by 5:20 as class begins promptly at 5:30pm in The SUB RM 217.
URL:https://laurelridge.edu/event/yoga-w-professor-hollar/2026-04-07/
LOCATION:Middletown Campus: SUB RM 217\, United States
CATEGORIES:Community Events,Employee Events,Fauquier Student Events,Luray Student Events
ORGANIZER;CN="David Belyea":MAILTO:dbelyea@laurelridge.edu
END:VEVENT
BEGIN:VEVENT
DTSTART;TZID=America/New_York:20260408T100000
DTEND;TZID=America/New_York:20260408T140000
DTSTAMP:20260420T220637
CREATED:20250305T211155Z
LAST-MODIFIED:20260207T163452Z
UID:10007976-1775642400-1775656800@laurelridge.edu
SUMMARY:Career and Internship Fair
DESCRIPTION:Join us in the Corron Building for the Career Fair!Open to all students and community members—everyone is welcome. \n\n\n\n\n\nEmployers Attending:\n\n\n\n\nUVA Community Health\n\n\n\nRiddleberger Brothers\, Inc\n\n\n\nZeus GeoTechnic\n\n\n\nSouthern Electrical Service Co\, Inc.\n\n\n\nVirginia Dept of Corrections\n\n\n\nBartlett Tree Experts\n\n\n\nBank of Clarke\n\n\n\nFauquier Co Govt & Public Schools\n\n\n\nNavy Federal Credit Union\n\n\n\nNational Fruit Product Co.\, Inc.\n\n\n\nFire Alarm Services\, Inc\n\n\n\nLinder Industrial Machinery Co\n\n\n\nand many more!\n\n\n\n\n  \n\n\n\nQuestions?\n\n\n\nContact lbrumback@laurelridge.edu or call 540-868-7142.
URL:https://laurelridge.edu/event/career-and-internship-fair/
LOCATION:Laurel Ridge Community College Middletown Campus\, 173 Skirmisher Lane\, Middletown\, 22645
CATEGORIES:Alumni Events,Career Services Events,Community Events,Employee Events,Fauquier Student Events,Foundation Events,Middletown Student Events,Student Events
ATTACH;FMTTYPE=image/png:https://laurelridge.edu/wp-content/uploads/2025/03/Facebook-Event-Image-Career-Fair.png
END:VEVENT
BEGIN:VEVENT
DTSTART;TZID=America/New_York:20260408T163000
DTEND;TZID=America/New_York:20260408T173000
DTSTAMP:20260420T220637
CREATED:20260123T161355Z
LAST-MODIFIED:20260123T161355Z
UID:10012471-1775665800-1775669400@laurelridge.edu
SUMMARY:Functional Fitness Class!
DESCRIPTION:Join Fitness Instructor Chris Scholl for a FUNctional Fitness Class. Mondays and Wednesdays 4:45pm-5:35pm and Tuesdays and Thursdays\, 11:30am-12:20pm. Open to All Faculty\, Staff\, and Students in the SUB RM 217.
URL:https://laurelridge.edu/event/functional-fitness-class/2026-04-08/
LOCATION:Middletown Campus: SUB RM 217\, United States
CATEGORIES:Employee Events,Fauquier Student Events,Luray Student Events,Middletown Student Events,Student Events
ORGANIZER;CN="David Belyea":MAILTO:dbelyea@laurelridge.edu
END:VEVENT
BEGIN:VEVENT
DTSTART;TZID=America/New_York:20260409T113000
DTEND;TZID=America/New_York:20260409T123000
DTSTAMP:20260420T220637
CREATED:20260125T231225Z
LAST-MODIFIED:20260125T231225Z
UID:10012995-1775734200-1775737800@laurelridge.edu
SUMMARY:Functional Fitness Class!
DESCRIPTION:Join Fitness Instructor Chris Scholl for a FUNctional Fitness Class. Mondays and Wednesdays 4:45pm-5:35pm and Tuesdays and Thursdays\, 11:30am-12:20pm. Open to All Faculty\, Staff\, and Students in the SUB RM 217.
URL:https://laurelridge.edu/event/functional-fitness-class-2/2026-04-09/
LOCATION:MIddletown Campus: SUB 217\, VA\, United States
CATEGORIES:Employee Events,Fauquier Student Events,Luray Student Events,Middletown Student Events,Student Events
ORGANIZER;CN="David Belyea":MAILTO:dbelyea@laurelridge.edu
END:VEVENT
BEGIN:VEVENT
DTSTART;TZID=America/New_York:20260409T173000
DTEND;TZID=America/New_York:20260409T183000
DTSTAMP:20260420T220637
CREATED:20260112T201854Z
LAST-MODIFIED:20260112T201854Z
UID:10010806-1775755800-1775759400@laurelridge.edu
SUMMARY:Yoga w/ Professor Hollar
DESCRIPTION:***Yoga will be cancelled April 16th\, 2026*** Please Join Professor Hollar for the next session! Join Professor Hollar as he hosts Yoga! Learn different exercises and breathing techniques as well as have fun! Most Tuesdays and Thursdays 5:30pm-6:30pm. Please arrive by 5:20 as class begins promptly at 5:30pm in The SUB RM 217.
URL:https://laurelridge.edu/event/yoga-w-professor-hollar/2026-04-09/
LOCATION:Middletown Campus: SUB RM 217\, United States
CATEGORIES:Community Events,Employee Events,Fauquier Student Events,Luray Student Events
ORGANIZER;CN="David Belyea":MAILTO:dbelyea@laurelridge.edu
END:VEVENT
BEGIN:VEVENT
DTSTART;TZID=America/New_York:20260410T080000
DTEND;TZID=America/New_York:20260423T200000
DTSTAMP:20260420T220637
CREATED:20260401T175533Z
LAST-MODIFIED:20260401T175533Z
UID:10014979-1775808000-1776974400@laurelridge.edu
SUMMARY:The Laurel Center SA/DV Clothesline Display
DESCRIPTION:The Laurel Center will be showing the display on campus and will offer resources\, support\, and awareness for the Sexual Assault and Domestic Violence Survivors and Victims. Check out their display in the SUB Lounge 8am-8pm every day! They will also be on Campus for the Pawsitive Wellness Spring Picnic!
URL:https://laurelridge.edu/event/the-laurel-center-sa-dv-clothesline-display/
LOCATION:Middletown Campus: SUB Lounge\, Information Desk\, Middletown\, United States
CATEGORIES:Community Events,Employee Events,Middletown Student Events,Student Events
ORGANIZER;CN="David Belyea":MAILTO:dbelyea@laurelridge.edu
END:VEVENT
END:VCALENDAR