BEGIN:VCALENDAR
VERSION:2.0
PRODID:-//Laurel Ridge Community College - ECPv6.10.1.1//NONSGML v1.0//EN
CALSCALE:GREGORIAN
METHOD:PUBLISH
X-ORIGINAL-URL:https://laurelridge.edu
X-WR-CALDESC:Events for Laurel Ridge Community College
REFRESH-INTERVAL;VALUE=DURATION:PT1H
X-Robots-Tag:noindex
X-PUBLISHED-TTL:PT1H
BEGIN:VTIMEZONE
TZID:America/New_York
BEGIN:DAYLIGHT
TZOFFSETFROM:-0500
TZOFFSETTO:-0400
TZNAME:EDT
DTSTART:20260308T070000
END:DAYLIGHT
BEGIN:STANDARD
TZOFFSETFROM:-0400
TZOFFSETTO:-0500
TZNAME:EST
DTSTART:20261101T060000
END:STANDARD
END:VTIMEZONE
BEGIN:VEVENT
DTSTART;TZID=America/New_York:20260330T120000
DTEND;TZID=America/New_York:20260330T130000
DTSTAMP:20260421T031421
CREATED:20260326T191853Z
LAST-MODIFIED:20260326T191853Z
UID:10014936-1774872000-1774875600@laurelridge.edu
SUMMARY:Duncan\, The Therapy Dog!
DESCRIPTION:***Duncan will not be on Campus Monday 3/30! He will return on April 13th*** \n\n\n\nShake Paws and visit with our FC Favorite Fluffy Animal\, Duncan! Back for Spring! 12pm-1pm on Wednesday\, 3/18 and Mondays 3/30 and 4/13.
URL:https://laurelridge.edu/event/duncan-the-therapy-dog-2/2026-03-30/
LOCATION:Fauquier Campus: Wolk & Hazel Halls\, VA\, United States
CATEGORIES:Employee Events,Fauquier Student Events,Student Events
END:VEVENT
BEGIN:VEVENT
DTSTART;TZID=America/New_York:20260330T163000
DTEND;TZID=America/New_York:20260330T173000
DTSTAMP:20260421T031421
CREATED:20260123T161355Z
LAST-MODIFIED:20260123T161355Z
UID:10012468-1774888200-1774891800@laurelridge.edu
SUMMARY:Functional Fitness Class!
DESCRIPTION:Join Fitness Instructor Chris Scholl for a FUNctional Fitness Class. Mondays and Wednesdays 4:45pm-5:35pm and Tuesdays and Thursdays\, 11:30am-12:20pm. Open to All Faculty\, Staff\, and Students in the SUB RM 217.
URL:https://laurelridge.edu/event/functional-fitness-class/2026-03-30/
LOCATION:Middletown Campus: SUB RM 217\, United States
CATEGORIES:Employee Events,Fauquier Student Events,Luray Student Events,Middletown Student Events,Student Events
ORGANIZER;CN="David Belyea":MAILTO:dbelyea@laurelridge.edu
END:VEVENT
BEGIN:VEVENT
DTSTART;TZID=America/New_York:20260331T113000
DTEND;TZID=America/New_York:20260331T123000
DTSTAMP:20260421T031421
CREATED:20260125T231225Z
LAST-MODIFIED:20260125T231225Z
UID:10012992-1774956600-1774960200@laurelridge.edu
SUMMARY:Functional Fitness Class!
DESCRIPTION:Join Fitness Instructor Chris Scholl for a FUNctional Fitness Class. Mondays and Wednesdays 4:45pm-5:35pm and Tuesdays and Thursdays\, 11:30am-12:20pm. Open to All Faculty\, Staff\, and Students in the SUB RM 217.
URL:https://laurelridge.edu/event/functional-fitness-class-2/2026-03-31/
LOCATION:MIddletown Campus: SUB 217\, VA\, United States
CATEGORIES:Employee Events,Fauquier Student Events,Luray Student Events,Middletown Student Events,Student Events
ORGANIZER;CN="David Belyea":MAILTO:dbelyea@laurelridge.edu
END:VEVENT
BEGIN:VEVENT
DTSTART;TZID=America/New_York:20260331T140000
DTEND;TZID=America/New_York:20260331T143000
DTSTAMP:20260421T031421
CREATED:20260125T231228Z
LAST-MODIFIED:20260125T231228Z
UID:10013506-1774965600-1774967400@laurelridge.edu
SUMMARY:Mindfulness Meditation
DESCRIPTION:Back for Spring! Join Janet Heisrath-Evans for more relaxing meditation! Most Tuesdays from 2pm-2:30pm this semester. Stop by Hazel Hall 210 or on Zoom at laurelridge.edu/meditation.
URL:https://laurelridge.edu/event/mindfulness-meditation/2026-03-31/
LOCATION:Fauquier Campus: Hazel Hall\, Room 210 & Virtually\, VA\, United States
CATEGORIES:Employee Events,Fauquier Student Events,Luray Student Events,Middletown Student Events,Student Events,Virtual Student Events
ORGANIZER;CN="David Belyea":MAILTO:dbelyea@laurelridge.edu
END:VEVENT
BEGIN:VEVENT
DTSTART;TZID=America/New_York:20260331T173000
DTEND;TZID=America/New_York:20260331T183000
DTSTAMP:20260421T031421
CREATED:20260112T201854Z
LAST-MODIFIED:20260112T201854Z
UID:10010803-1774978200-1774981800@laurelridge.edu
SUMMARY:Yoga w/ Professor Hollar
DESCRIPTION:***Yoga will be cancelled April 16th\, 2026*** Please Join Professor Hollar for the next session! Join Professor Hollar as he hosts Yoga! Learn different exercises and breathing techniques as well as have fun! Most Tuesdays and Thursdays 5:30pm-6:30pm. Please arrive by 5:20 as class begins promptly at 5:30pm in The SUB RM 217.
URL:https://laurelridge.edu/event/yoga-w-professor-hollar/2026-03-31/
LOCATION:Middletown Campus: SUB RM 217\, United States
CATEGORIES:Community Events,Employee Events,Fauquier Student Events,Luray Student Events
ORGANIZER;CN="David Belyea":MAILTO:dbelyea@laurelridge.edu
END:VEVENT
BEGIN:VEVENT
DTSTART;TZID=America/New_York:20260401T110000
DTEND;TZID=America/New_York:20260401T140000
DTSTAMP:20260421T031421
CREATED:20260123T161356Z
LAST-MODIFIED:20260123T161356Z
UID:10012974-1775041200-1775052000@laurelridge.edu
SUMMARY:FAHASS FREE HIV/HEP C Testing!
DESCRIPTION:Stop by and Speak with FAHASS to chat with representatives\, receive resources\, and get FREE Testing! On Campus from 11am-2pm on 2/4 and 4/1 in the Wolk Hall Lobby.
URL:https://laurelridge.edu/event/fahass-free-hiv-hep-c-testing-3/2026-04-01/
LOCATION:Fauquier Campus: Wolk Hall Lobby and RM 210
CATEGORIES:Community Events,Employee Events,Fauquier Student Events,Student Events
ORGANIZER;CN="David Belyea":MAILTO:dbelyea@laurelridge.edu
END:VEVENT
BEGIN:VEVENT
DTSTART;TZID=America/New_York:20260401T163000
DTEND;TZID=America/New_York:20260401T173000
DTSTAMP:20260421T031421
CREATED:20260123T161355Z
LAST-MODIFIED:20260123T161355Z
UID:10012469-1775061000-1775064600@laurelridge.edu
SUMMARY:Functional Fitness Class!
DESCRIPTION:Join Fitness Instructor Chris Scholl for a FUNctional Fitness Class. Mondays and Wednesdays 4:45pm-5:35pm and Tuesdays and Thursdays\, 11:30am-12:20pm. Open to All Faculty\, Staff\, and Students in the SUB RM 217.
URL:https://laurelridge.edu/event/functional-fitness-class/2026-04-01/
LOCATION:Middletown Campus: SUB RM 217\, United States
CATEGORIES:Employee Events,Fauquier Student Events,Luray Student Events,Middletown Student Events,Student Events
ORGANIZER;CN="David Belyea":MAILTO:dbelyea@laurelridge.edu
END:VEVENT
BEGIN:VEVENT
DTSTART;TZID=America/New_York:20260402T113000
DTEND;TZID=America/New_York:20260402T123000
DTSTAMP:20260421T031421
CREATED:20260125T231225Z
LAST-MODIFIED:20260125T231225Z
UID:10012993-1775129400-1775133000@laurelridge.edu
SUMMARY:Functional Fitness Class!
DESCRIPTION:Join Fitness Instructor Chris Scholl for a FUNctional Fitness Class. Mondays and Wednesdays 4:45pm-5:35pm and Tuesdays and Thursdays\, 11:30am-12:20pm. Open to All Faculty\, Staff\, and Students in the SUB RM 217.
URL:https://laurelridge.edu/event/functional-fitness-class-2/2026-04-02/
LOCATION:MIddletown Campus: SUB 217\, VA\, United States
CATEGORIES:Employee Events,Fauquier Student Events,Luray Student Events,Middletown Student Events,Student Events
ORGANIZER;CN="David Belyea":MAILTO:dbelyea@laurelridge.edu
END:VEVENT
BEGIN:VEVENT
DTSTART;TZID=America/New_York:20260402T120000
DTEND;TZID=America/New_York:20260402T130000
DTSTAMP:20260421T031421
CREATED:20260112T164905Z
LAST-MODIFIED:20260112T164905Z
UID:10010781-1775131200-1775134800@laurelridge.edu
SUMMARY:Fab Four - Therapy Dogs!
DESCRIPTION:The Fab Four are back for the Spring Semester! Say Hello and Shake Paws as they travel around the Campus. See them in Cornerstone Hall\, The SUB\, and The SHP! 12pm-1pm Most Thursdays!
URL:https://laurelridge.edu/event/fab-four-therapy-dogs/2026-04-02/
LOCATION:Middletown Campus: Cornerstone Hall\, SHP & SUB\, lounges
CATEGORIES:Employee Events,Middletown Student Events,Student Events
ORGANIZER;CN="David Belyea":MAILTO:dbelyea@laurelridge.edu
END:VEVENT
BEGIN:VEVENT
DTSTART;TZID=America/New_York:20260402T120000
DTEND;TZID=America/New_York:20260402T130000
DTSTAMP:20260421T031421
CREATED:20260317T185851Z
LAST-MODIFIED:20260317T185852Z
UID:10014302-1775131200-1775134800@laurelridge.edu
SUMMARY:Fab 4 - Therapy Dogs!
DESCRIPTION:The Fab 4 will be roaming Cornerstone Hall\, SHP\, & the SUB most Thursdays this semester. 12pm-1pm.
URL:https://laurelridge.edu/event/fab-4-therapy-dogs-2/2026-04-02/
LOCATION:Middletown Campus: Cornerstone Hall\, SHP & SUB\, lounges
CATEGORIES:Employee Events,Middletown Student Events,Student Events
ORGANIZER;CN="David Belyea":MAILTO:dbelyea@laurelridge.edu
END:VEVENT
BEGIN:VEVENT
DTSTART;TZID=America/New_York:20260402T173000
DTEND;TZID=America/New_York:20260402T183000
DTSTAMP:20260421T031421
CREATED:20260112T201854Z
LAST-MODIFIED:20260112T201854Z
UID:10010804-1775151000-1775154600@laurelridge.edu
SUMMARY:Yoga w/ Professor Hollar
DESCRIPTION:***Yoga will be cancelled April 16th\, 2026*** Please Join Professor Hollar for the next session! Join Professor Hollar as he hosts Yoga! Learn different exercises and breathing techniques as well as have fun! Most Tuesdays and Thursdays 5:30pm-6:30pm. Please arrive by 5:20 as class begins promptly at 5:30pm in The SUB RM 217.
URL:https://laurelridge.edu/event/yoga-w-professor-hollar/2026-04-02/
LOCATION:Middletown Campus: SUB RM 217\, United States
CATEGORIES:Community Events,Employee Events,Fauquier Student Events,Luray Student Events
ORGANIZER;CN="David Belyea":MAILTO:dbelyea@laurelridge.edu
END:VEVENT
BEGIN:VEVENT
DTSTART;TZID=America/New_York:20260403T110000
DTEND;TZID=America/New_York:20260403T120000
DTSTAMP:20260421T031422
CREATED:20260318T213708Z
LAST-MODIFIED:20260318T213713Z
UID:10014321-1775214000-1775217600@laurelridge.edu
SUMMARY:Invisible Epidemic - A Daniel McCain Documentary
DESCRIPTION:FULL CAMPUSES. EMPTY STOMACHS. HUNGRY FOR CHANGE. \n\n\n\nA Daniel McCain Documentary \n\n\n\nFree and open to the community! Stay after the screening for an engaging Q&A with Director of Student Support Vivi Meder and film director Daniel McCain. \n\n\n\nThe Invisible Epidemic is a powerful documentary that exposes the hidden reality of food insecurity on college campuses. While universities appear full and thriving\, many students quietly struggle with hunger and lack access to basic nutrition. Through intimate storytelling and striking visuals\, the film challenges assumptions about student life and calls attention to systemic gaps affecting student well-being. The documentary invites audiences to confront this overlooked crisis and consider meaningful solutions for change. \n\n\n\nWritten and directed by Daniel McCain \n\n\n\nExecutive Producers Hiram Larew\, Bruce Williams\, Daniel McCain \n\n\n\nProduced by William Little\, Quinn Stephenson\, Chrys Soto \n\n\n\nEdited by Daniel McCain \n\n\n\nCinematography by DANIEL McCAIN & Janelle Raymundo \n\n\n\nOriginal Music by Stephen Schneider \n\n\n\nSound Design by Katyann Stenner \n\n\n\nPoetry by Kim B. Miller
URL:https://laurelridge.edu/event/invisible-epidemic-a-daniel-mccain-documentary/
LOCATION:Laurel Ridge Community College Middletown Campus\, Carl and Emily Thompson Conference Center\, 173 Skirmisher Lane\, Middletown\, Virginia\, 22645
CATEGORIES:Alumni Events,Community Events,Employee Events,Middletown Student Events,Student Events
END:VEVENT
END:VCALENDAR