BEGIN:VCALENDAR
VERSION:2.0
PRODID:-//Laurel Ridge Community College - ECPv6.10.1.1//NONSGML v1.0//EN
CALSCALE:GREGORIAN
METHOD:PUBLISH
X-WR-CALNAME:Laurel Ridge Community College
X-ORIGINAL-URL:https://laurelridge.edu
X-WR-CALDESC:Events for Laurel Ridge Community College
REFRESH-INTERVAL;VALUE=DURATION:PT1H
X-Robots-Tag:noindex
X-PUBLISHED-TTL:PT1H
BEGIN:VTIMEZONE
TZID:America/New_York
BEGIN:DAYLIGHT
TZOFFSETFROM:-0500
TZOFFSETTO:-0400
TZNAME:EDT
DTSTART:20260308T070000
END:DAYLIGHT
BEGIN:STANDARD
TZOFFSETFROM:-0400
TZOFFSETTO:-0500
TZNAME:EST
DTSTART:20261101T060000
END:STANDARD
END:VTIMEZONE
BEGIN:VEVENT
DTSTART;TZID=America/New_York:20260216T163000
DTEND;TZID=America/New_York:20260216T173000
DTSTAMP:20260425T162651
CREATED:20260123T161355Z
LAST-MODIFIED:20260123T161355Z
UID:10012458-1771259400-1771263000@laurelridge.edu
SUMMARY:Functional Fitness Class!
DESCRIPTION:Join Fitness Instructor Chris Scholl for a FUNctional Fitness Class. Mondays and Wednesdays 4:45pm-5:35pm and Tuesdays and Thursdays\, 11:30am-12:20pm. Open to All Faculty\, Staff\, and Students in the SUB RM 217.
URL:https://laurelridge.edu/event/functional-fitness-class/2026-02-16/
LOCATION:Middletown Campus: SUB RM 217\, United States
CATEGORIES:Employee Events,Fauquier Student Events,Luray Student Events,Middletown Student Events,Student Events
ORGANIZER;CN="David Belyea":MAILTO:dbelyea@laurelridge.edu
END:VEVENT
BEGIN:VEVENT
DTSTART;TZID=America/New_York:20260216T180000
DTEND;TZID=America/New_York:20260216T190000
DTSTAMP:20260425T162651
CREATED:20260113T231006Z
LAST-MODIFIED:20260128T235311Z
UID:10010844-1771264800-1771268400@laurelridge.edu
SUMMARY:Zuzu African Acrobats
DESCRIPTION:Celebrate Black History Month with an annual Laurel Ridge tradition! The Zuzu African Acrobats’ performance is a must-see. Bring your family\, friends\, and colleagues and enjoy!
URL:https://laurelridge.edu/event/zuzu-african-acrobats-2/
LOCATION:Middletown Campus: Corron Community Development Center\, Thompson Conference Center\, VA\, United States
CATEGORIES:Community Events,Employee Events,Family Friendly Events,Middletown Student Events,Student Events
ORGANIZER;CN="Chris Lambert":MAILTO:clambert@laurelridge.edu
END:VEVENT
BEGIN:VEVENT
DTSTART;TZID=America/New_York:20260217T113000
DTEND;TZID=America/New_York:20260217T123000
DTSTAMP:20260425T162651
CREATED:20260125T231225Z
LAST-MODIFIED:20260125T231225Z
UID:10012980-1771327800-1771331400@laurelridge.edu
SUMMARY:Functional Fitness Class!
DESCRIPTION:Join Fitness Instructor Chris Scholl for a FUNctional Fitness Class. Mondays and Wednesdays 4:45pm-5:35pm and Tuesdays and Thursdays\, 11:30am-12:20pm. Open to All Faculty\, Staff\, and Students in the SUB RM 217.
URL:https://laurelridge.edu/event/functional-fitness-class-2/2026-02-17/
LOCATION:MIddletown Campus: SUB 217\, VA\, United States
CATEGORIES:Employee Events,Fauquier Student Events,Luray Student Events,Middletown Student Events,Student Events
ORGANIZER;CN="David Belyea":MAILTO:dbelyea@laurelridge.edu
END:VEVENT
BEGIN:VEVENT
DTSTART;TZID=America/New_York:20260217T140000
DTEND;TZID=America/New_York:20260217T143000
DTSTAMP:20260425T162651
CREATED:20260125T231228Z
LAST-MODIFIED:20260125T231228Z
UID:10013500-1771336800-1771338600@laurelridge.edu
SUMMARY:Mindfulness Meditation
DESCRIPTION:Back for Spring! Join Janet Heisrath-Evans for more relaxing meditation! Most Tuesdays from 2pm-2:30pm this semester. Stop by Hazel Hall 210 or on Zoom at laurelridge.edu/meditation.
URL:https://laurelridge.edu/event/mindfulness-meditation/2026-02-17/
LOCATION:Fauquier Campus: Hazel Hall\, Room 210 & Virtually\, VA\, United States
CATEGORIES:Employee Events,Fauquier Student Events,Luray Student Events,Middletown Student Events,Student Events,Virtual Student Events
ORGANIZER;CN="David Belyea":MAILTO:dbelyea@laurelridge.edu
END:VEVENT
BEGIN:VEVENT
DTSTART;TZID=America/New_York:20260217T173000
DTEND;TZID=America/New_York:20260217T183000
DTSTAMP:20260425T162651
CREATED:20260112T201854Z
LAST-MODIFIED:20260112T201854Z
UID:10010793-1771349400-1771353000@laurelridge.edu
SUMMARY:Yoga w/ Professor Hollar
DESCRIPTION:***Yoga will be cancelled April 16th\, 2026*** Please Join Professor Hollar for the next session! Join Professor Hollar as he hosts Yoga! Learn different exercises and breathing techniques as well as have fun! Most Tuesdays and Thursdays 5:30pm-6:30pm. Please arrive by 5:20 as class begins promptly at 5:30pm in The SUB RM 217.
URL:https://laurelridge.edu/event/yoga-w-professor-hollar/2026-02-17/
LOCATION:Middletown Campus: SUB RM 217\, United States
CATEGORIES:Community Events,Employee Events,Fauquier Student Events,Luray Student Events
ORGANIZER;CN="David Belyea":MAILTO:dbelyea@laurelridge.edu
END:VEVENT
BEGIN:VEVENT
DTSTART;TZID=America/New_York:20260218T163000
DTEND;TZID=America/New_York:20260218T173000
DTSTAMP:20260425T162651
CREATED:20260123T161355Z
LAST-MODIFIED:20260123T161355Z
UID:10012459-1771432200-1771435800@laurelridge.edu
SUMMARY:Functional Fitness Class!
DESCRIPTION:Join Fitness Instructor Chris Scholl for a FUNctional Fitness Class. Mondays and Wednesdays 4:45pm-5:35pm and Tuesdays and Thursdays\, 11:30am-12:20pm. Open to All Faculty\, Staff\, and Students in the SUB RM 217.
URL:https://laurelridge.edu/event/functional-fitness-class/2026-02-18/
LOCATION:Middletown Campus: SUB RM 217\, United States
CATEGORIES:Employee Events,Fauquier Student Events,Luray Student Events,Middletown Student Events,Student Events
ORGANIZER;CN="David Belyea":MAILTO:dbelyea@laurelridge.edu
END:VEVENT
BEGIN:VEVENT
DTSTART;TZID=America/New_York:20260219T113000
DTEND;TZID=America/New_York:20260219T123000
DTSTAMP:20260425T162651
CREATED:20260125T231225Z
LAST-MODIFIED:20260125T231225Z
UID:10012981-1771500600-1771504200@laurelridge.edu
SUMMARY:Functional Fitness Class!
DESCRIPTION:Join Fitness Instructor Chris Scholl for a FUNctional Fitness Class. Mondays and Wednesdays 4:45pm-5:35pm and Tuesdays and Thursdays\, 11:30am-12:20pm. Open to All Faculty\, Staff\, and Students in the SUB RM 217.
URL:https://laurelridge.edu/event/functional-fitness-class-2/2026-02-19/
LOCATION:MIddletown Campus: SUB 217\, VA\, United States
CATEGORIES:Employee Events,Fauquier Student Events,Luray Student Events,Middletown Student Events,Student Events
ORGANIZER;CN="David Belyea":MAILTO:dbelyea@laurelridge.edu
END:VEVENT
BEGIN:VEVENT
DTSTART;TZID=America/New_York:20260219T120000
DTEND;TZID=America/New_York:20260219T130000
DTSTAMP:20260425T162651
CREATED:20260112T164905Z
LAST-MODIFIED:20260112T164905Z
UID:10010778-1771502400-1771506000@laurelridge.edu
SUMMARY:Fab Four - Therapy Dogs!
DESCRIPTION:The Fab Four are back for the Spring Semester! Say Hello and Shake Paws as they travel around the Campus. See them in Cornerstone Hall\, The SUB\, and The SHP! 12pm-1pm Most Thursdays!
URL:https://laurelridge.edu/event/fab-four-therapy-dogs/2026-02-19/
LOCATION:Middletown Campus: Cornerstone Hall\, SHP & SUB\, lounges
CATEGORIES:Employee Events,Middletown Student Events,Student Events
ORGANIZER;CN="David Belyea":MAILTO:dbelyea@laurelridge.edu
END:VEVENT
BEGIN:VEVENT
DTSTART;TZID=America/New_York:20260219T173000
DTEND;TZID=America/New_York:20260219T183000
DTSTAMP:20260425T162651
CREATED:20260112T201854Z
LAST-MODIFIED:20260112T201854Z
UID:10010794-1771522200-1771525800@laurelridge.edu
SUMMARY:Yoga w/ Professor Hollar
DESCRIPTION:***Yoga will be cancelled April 16th\, 2026*** Please Join Professor Hollar for the next session! Join Professor Hollar as he hosts Yoga! Learn different exercises and breathing techniques as well as have fun! Most Tuesdays and Thursdays 5:30pm-6:30pm. Please arrive by 5:20 as class begins promptly at 5:30pm in The SUB RM 217.
URL:https://laurelridge.edu/event/yoga-w-professor-hollar/2026-02-19/
LOCATION:Middletown Campus: SUB RM 217\, United States
CATEGORIES:Community Events,Employee Events,Fauquier Student Events,Luray Student Events
ORGANIZER;CN="David Belyea":MAILTO:dbelyea@laurelridge.edu
END:VEVENT
BEGIN:VEVENT
DTSTART;TZID=America/New_York:20260220T090000
DTEND;TZID=America/New_York:20260220T100000
DTSTAMP:20260425T162651
CREATED:20260202T225921Z
LAST-MODIFIED:20260202T225921Z
UID:10013718-1771578000-1771581600@laurelridge.edu
SUMMARY:VIBE Council Meeting
DESCRIPTION:The VIBE Council (Valuing\, Inclusion\, Belonging\, and Equality/Empathy)\, formerly the DEI Council\, will meet once a month on the 3rd Friday of each month via Zoom. The Zoom link is shared with all students and employees via Leo’s Weekly Update the week of the meeting.
URL:https://laurelridge.edu/event/vibe-council-meeting/2026-02-20/
LOCATION:VA
CATEGORIES:Club Event,Employee Events,Student Events
ORGANIZER;CN="Chris Lambert":MAILTO:clambert@laurelridge.edu
END:VEVENT
END:VCALENDAR