BEGIN:VCALENDAR
VERSION:2.0
PRODID:-//Laurel Ridge Community College - ECPv6.10.1.1//NONSGML v1.0//EN
CALSCALE:GREGORIAN
METHOD:PUBLISH
X-WR-CALNAME:Laurel Ridge Community College
X-ORIGINAL-URL:https://laurelridge.edu
X-WR-CALDESC:Events for Laurel Ridge Community College
REFRESH-INTERVAL;VALUE=DURATION:PT1H
X-Robots-Tag:noindex
X-PUBLISHED-TTL:PT1H
BEGIN:VTIMEZONE
TZID:America/New_York
BEGIN:DAYLIGHT
TZOFFSETFROM:-0500
TZOFFSETTO:-0400
TZNAME:EDT
DTSTART:20260308T070000
END:DAYLIGHT
BEGIN:STANDARD
TZOFFSETFROM:-0400
TZOFFSETTO:-0500
TZNAME:EST
DTSTART:20261101T060000
END:STANDARD
END:VTIMEZONE
BEGIN:VEVENT
DTSTART;TZID=America/New_York:20260209T163000
DTEND;TZID=America/New_York:20260209T173000
DTSTAMP:20260426T003216
CREATED:20260123T161355Z
LAST-MODIFIED:20260123T161355Z
UID:10012456-1770654600-1770658200@laurelridge.edu
SUMMARY:Functional Fitness Class!
DESCRIPTION:Join Fitness Instructor Chris Scholl for a FUNctional Fitness Class. Mondays and Wednesdays 4:45pm-5:35pm and Tuesdays and Thursdays\, 11:30am-12:20pm. Open to All Faculty\, Staff\, and Students in the SUB RM 217.
URL:https://laurelridge.edu/event/functional-fitness-class/2026-02-09/
LOCATION:Middletown Campus: SUB RM 217\, United States
CATEGORIES:Employee Events,Fauquier Student Events,Luray Student Events,Middletown Student Events,Student Events
ORGANIZER;CN="David Belyea":MAILTO:dbelyea@laurelridge.edu
END:VEVENT
BEGIN:VEVENT
DTSTART;TZID=America/New_York:20260210T113000
DTEND;TZID=America/New_York:20260210T123000
DTSTAMP:20260426T003216
CREATED:20260125T231225Z
LAST-MODIFIED:20260125T231225Z
UID:10012978-1770723000-1770726600@laurelridge.edu
SUMMARY:Functional Fitness Class!
DESCRIPTION:Join Fitness Instructor Chris Scholl for a FUNctional Fitness Class. Mondays and Wednesdays 4:45pm-5:35pm and Tuesdays and Thursdays\, 11:30am-12:20pm. Open to All Faculty\, Staff\, and Students in the SUB RM 217.
URL:https://laurelridge.edu/event/functional-fitness-class-2/2026-02-10/
LOCATION:MIddletown Campus: SUB 217\, VA\, United States
CATEGORIES:Employee Events,Fauquier Student Events,Luray Student Events,Middletown Student Events,Student Events
ORGANIZER;CN="David Belyea":MAILTO:dbelyea@laurelridge.edu
END:VEVENT
BEGIN:VEVENT
DTSTART;TZID=America/New_York:20260210T140000
DTEND;TZID=America/New_York:20260210T143000
DTSTAMP:20260426T003216
CREATED:20260125T231228Z
LAST-MODIFIED:20260125T231228Z
UID:10013499-1770732000-1770733800@laurelridge.edu
SUMMARY:Mindfulness Meditation
DESCRIPTION:Back for Spring! Join Janet Heisrath-Evans for more relaxing meditation! Most Tuesdays from 2pm-2:30pm this semester. Stop by Hazel Hall 210 or on Zoom at laurelridge.edu/meditation.
URL:https://laurelridge.edu/event/mindfulness-meditation/2026-02-10/
LOCATION:Fauquier Campus: Hazel Hall\, Room 210 & Virtually\, VA\, United States
CATEGORIES:Employee Events,Fauquier Student Events,Luray Student Events,Middletown Student Events,Student Events,Virtual Student Events
ORGANIZER;CN="David Belyea":MAILTO:dbelyea@laurelridge.edu
END:VEVENT
BEGIN:VEVENT
DTSTART;TZID=America/New_York:20260210T173000
DTEND;TZID=America/New_York:20260210T183000
DTSTAMP:20260426T003216
CREATED:20260112T201854Z
LAST-MODIFIED:20260112T201854Z
UID:10010791-1770744600-1770748200@laurelridge.edu
SUMMARY:Yoga w/ Professor Hollar
DESCRIPTION:***Yoga will be cancelled April 16th\, 2026*** Please Join Professor Hollar for the next session! Join Professor Hollar as he hosts Yoga! Learn different exercises and breathing techniques as well as have fun! Most Tuesdays and Thursdays 5:30pm-6:30pm. Please arrive by 5:20 as class begins promptly at 5:30pm in The SUB RM 217.
URL:https://laurelridge.edu/event/yoga-w-professor-hollar/2026-02-10/
LOCATION:Middletown Campus: SUB RM 217\, United States
CATEGORIES:Community Events,Employee Events,Fauquier Student Events,Luray Student Events
ORGANIZER;CN="David Belyea":MAILTO:dbelyea@laurelridge.edu
END:VEVENT
BEGIN:VEVENT
DTSTART;TZID=America/New_York:20260211T163000
DTEND;TZID=America/New_York:20260211T173000
DTSTAMP:20260426T003216
CREATED:20260123T161355Z
LAST-MODIFIED:20260123T161355Z
UID:10012457-1770827400-1770831000@laurelridge.edu
SUMMARY:Functional Fitness Class!
DESCRIPTION:Join Fitness Instructor Chris Scholl for a FUNctional Fitness Class. Mondays and Wednesdays 4:45pm-5:35pm and Tuesdays and Thursdays\, 11:30am-12:20pm. Open to All Faculty\, Staff\, and Students in the SUB RM 217.
URL:https://laurelridge.edu/event/functional-fitness-class/2026-02-11/
LOCATION:Middletown Campus: SUB RM 217\, United States
CATEGORIES:Employee Events,Fauquier Student Events,Luray Student Events,Middletown Student Events,Student Events
ORGANIZER;CN="David Belyea":MAILTO:dbelyea@laurelridge.edu
END:VEVENT
BEGIN:VEVENT
DTSTART;TZID=America/New_York:20260212T113000
DTEND;TZID=America/New_York:20260212T123000
DTSTAMP:20260426T003216
CREATED:20260125T231225Z
LAST-MODIFIED:20260125T231225Z
UID:10012979-1770895800-1770899400@laurelridge.edu
SUMMARY:Functional Fitness Class!
DESCRIPTION:Join Fitness Instructor Chris Scholl for a FUNctional Fitness Class. Mondays and Wednesdays 4:45pm-5:35pm and Tuesdays and Thursdays\, 11:30am-12:20pm. Open to All Faculty\, Staff\, and Students in the SUB RM 217.
URL:https://laurelridge.edu/event/functional-fitness-class-2/2026-02-12/
LOCATION:MIddletown Campus: SUB 217\, VA\, United States
CATEGORIES:Employee Events,Fauquier Student Events,Luray Student Events,Middletown Student Events,Student Events
ORGANIZER;CN="David Belyea":MAILTO:dbelyea@laurelridge.edu
END:VEVENT
BEGIN:VEVENT
DTSTART;TZID=America/New_York:20260212T173000
DTEND;TZID=America/New_York:20260212T183000
DTSTAMP:20260426T003216
CREATED:20260112T201854Z
LAST-MODIFIED:20260112T201854Z
UID:10010792-1770917400-1770921000@laurelridge.edu
SUMMARY:Yoga w/ Professor Hollar
DESCRIPTION:***Yoga will be cancelled April 16th\, 2026*** Please Join Professor Hollar for the next session! Join Professor Hollar as he hosts Yoga! Learn different exercises and breathing techniques as well as have fun! Most Tuesdays and Thursdays 5:30pm-6:30pm. Please arrive by 5:20 as class begins promptly at 5:30pm in The SUB RM 217.
URL:https://laurelridge.edu/event/yoga-w-professor-hollar/2026-02-12/
LOCATION:Middletown Campus: SUB RM 217\, United States
CATEGORIES:Community Events,Employee Events,Fauquier Student Events,Luray Student Events
ORGANIZER;CN="David Belyea":MAILTO:dbelyea@laurelridge.edu
END:VEVENT
END:VCALENDAR