BEGIN:VCALENDAR
VERSION:2.0
PRODID:-//Laurel Ridge Community College - ECPv6.10.1.1//NONSGML v1.0//EN
CALSCALE:GREGORIAN
METHOD:PUBLISH
X-ORIGINAL-URL:https://laurelridge.edu
X-WR-CALDESC:Events for Laurel Ridge Community College
REFRESH-INTERVAL;VALUE=DURATION:PT1H
X-Robots-Tag:noindex
X-PUBLISHED-TTL:PT1H
BEGIN:VTIMEZONE
TZID:America/New_York
BEGIN:DAYLIGHT
TZOFFSETFROM:-0500
TZOFFSETTO:-0400
TZNAME:EDT
DTSTART:20260308T070000
END:DAYLIGHT
BEGIN:STANDARD
TZOFFSETFROM:-0400
TZOFFSETTO:-0500
TZNAME:EST
DTSTART:20261101T060000
END:STANDARD
END:VTIMEZONE
BEGIN:VEVENT
DTSTART;TZID=America/New_York:20260430T120000
DTEND;TZID=America/New_York:20260430T130000
DTSTAMP:20260421T014738
CREATED:20260112T164905Z
LAST-MODIFIED:20260112T164905Z
UID:10010783-1777550400-1777554000@laurelridge.edu
SUMMARY:Fab Four - Therapy Dogs!
DESCRIPTION:The Fab Four are back for the Spring Semester! Say Hello and Shake Paws as they travel around the Campus. See them in Cornerstone Hall\, The SUB\, and The SHP! 12pm-1pm Most Thursdays!
URL:https://laurelridge.edu/event/fab-four-therapy-dogs/2026-04-30/
LOCATION:Middletown Campus: Cornerstone Hall\, SHP & SUB\, lounges
CATEGORIES:Employee Events,Middletown Student Events,Student Events
ORGANIZER;CN="David Belyea":MAILTO:dbelyea@laurelridge.edu
END:VEVENT
BEGIN:VEVENT
DTSTART;TZID=America/New_York:20260430T120000
DTEND;TZID=America/New_York:20260430T130000
DTSTAMP:20260421T014738
CREATED:20260317T185851Z
LAST-MODIFIED:20260317T185852Z
UID:10014304-1777550400-1777554000@laurelridge.edu
SUMMARY:Fab 4 - Therapy Dogs!
DESCRIPTION:The Fab 4 will be roaming Cornerstone Hall\, SHP\, & the SUB most Thursdays this semester. 12pm-1pm.
URL:https://laurelridge.edu/event/fab-4-therapy-dogs-2/2026-04-30/
LOCATION:Middletown Campus: Cornerstone Hall\, SHP & SUB\, lounges
CATEGORIES:Employee Events,Middletown Student Events,Student Events
ORGANIZER;CN="David Belyea":MAILTO:dbelyea@laurelridge.edu
END:VEVENT
END:VCALENDAR